Workbook

Sheet Anleitung
A1: Klassenarbeits-Kalender
A2: Datei-ID LSP-02_05-006 · Kapitel 2.5 Klassenarbeiten und Leistungsnachweise · Stand 10-2026
A4: Mit diesem Kalender planst du die Klassenarbeiten beider Halbjahre für bis zu vier Parallelklassen und siehst sofort, wo sich Termine häufen. Jede Klasse hat ein eigenes Blatt mit Terminliste, Wochenraster und Zählung je Fach. Die Übersicht legt die Klassen nebeneinander. Ferien, Sperrzeiträume und zentrale Nachschreibtermine trägst du einmal im Blatt „Einstellungen“ ein.
A6: WICHTIG: Alle Blätter sind geschützt – OHNE Passwort. Eingaben sind nur in den gelb hinterlegten Feldern möglich. Alle grauen Felder enthalten Formeln. Schutz aufheben: Excel: Überprüfen › Blattschutz aufheben. LibreOffice: Extras › Dokument schützen › Tabelle. Wer Formeln ändert, tut das auf eigene Verantwortung; speichere vorher eine Kopie.
A11: Klassen benennen, ändern, löschen
A12: Benennen | B12: Klassennamen im Blatt „Einstellungen“ eintragen (Feld „Klassenname“). Den Namen des Blatt-Reiters unten genauso schreiben (Rechtsklick auf den Reiter › Umbenennen). Der Reiter-Name muss mit dem Eintrag in „Einstellungen“ übereinstimmen, sonst bleibt die Spalte in der Übersicht leer.
A13: Weniger als vier Klassen | B13: Überflüssiges Klassenblatt löschen (Rechtsklick auf den Reiter › Löschen). Der Blattschutz hindert das nicht. Den Namen in „Einstellungen“ löschen oder stehen lassen. Die anderen Klassenblätter und die Übersicht bleiben unverändert; die Spalte der gelöschten Klasse zeigt nichts an.
A14: Zusätzliche Klasse | B14: Nicht vorgesehen. Für mehr als vier Klassen eine Kopie der Datei verwenden.
A15: Reihenfolge | B15: Klassenblätter können verschoben werden. Die Reihenfolge der Spalten in der Übersicht folgt der Liste in „Einstellungen“.
A17: Ausfüllen: wer, was, wann
A18: Rolle | B18: Aufgabe | C18: Zeitpunkt / Blatt
A19: Stufenkoordination | B19: Halbjahre, Ferien, Sperrzeiträume und die zentralen Nachschreibtermine eintragen; Klassen und Fächer anlegen; Verschiebungen freigeben. | C19: vor Halbjahresbeginn · Einstellungen
A20: Fachschaftsleitung | B20: Termine der Fachschaft sammeln und melden; Zahl der Arbeiten je Halbjahr gegen die Zählung prüfen. | C20: vor Halbjahresbeginn · Klassenblatt, Teil C
A21: Lehrkraft | B21: Termine der eigenen Klassenarbeiten eintragen (Datum, Fach, Art, Lehrkraft, Stunde); Meldung in der Spalte „Prüfung“ beachten. | C21: laufend · Klassenblatt, Teil A
A22: Schulleitung | B22: Kalender einsehen und Häufungen in der Übersicht klären. | C22: laufend · Übersicht
A23: Beispielzeile | B23: [TT.MM.JJJJ] | [Fach-Kürzel] | Klassenarbeit | [Lehrkraft-Kürzel] | [3./4.] | geplant | C23: Klassenblatt, Teil A
A25: Legende
A26: Gelb | B26: Eingabefeld
A27: Grau | B27: Formel, geschützt
A28: Blau im Raster | B28: Klassenarbeit (Fach-Kürzel)
A29: Grün im Raster | B29: Nachschreibtermin (Fach-Kürzel)
A30: Ferien | B30: Ferien oder Feiertag laut Einstellungen
A31: Sperre | B31: Sperrzeitraum laut Einstellungen
A32: Nachschr. | B32: Zentraler Nachschreibtermin laut Einstellungen
A33: + 1 | B33: Ein weiterer Termin am selben Tag
A34: Rot | B34: Hinweis in „Prüfung“ oder Überschreitung des eingetragenen Höchstwerts
A36: Prüfhinweis Landesrecht: Höchstzahl der Klassenarbeiten je Tag und je Woche, Zahl und Dauer je Fach sowie Ankündigungsfristen sind landesabhängig geregelt. Dieses Dokument gibt keine Werte vor. Trage die Vorgaben deines Landes in „Einstellungen“ ein; ohne Eintrag erfolgt keine Prüfung. Prüfe die Vorgaben an der Schule.
A40: Pflege
A41: • Verschiebungen laufen über die Stufenkoordination. Im Klassenblatt den Status auf „verschoben“ setzen und den neuen Termin als neue Zeile eintragen.
A42: • Ablage in der Fachschaftsablage, pro Schuljahr eine Datei; Jahreszahl im Dateinamen ergänzen.
A43: • Nach jeder Änderung in „Einstellungen“ rechnen alle Blätter automatisch neu.

Sheet Einstellungen
A1: Einstellungen (einmal je Schuljahr)
A2: Schule
A3: Schuljahr
A5: Halbjahr | B5: Beginn | C5: Ende
A6: 1. Halbjahr
A7: 2. Halbjahr
A9: Höchstwerte (Landesvorgabe; leer lassen = keine Prüfung)
A10: Klassenarbeiten je Tag | C10: [Land – Prüfhinweis] Wert aus der Vorgabe deines Landes.
A11: Klassenarbeiten je Woche
A14: Klassen
A15: Nr. | B15: Klassenname (= Name des Blatt-Reiters)
A16: 1 | B16: Klasse A
A17: 2 | B17: Klasse B
A18: 3 | B18: Klasse C
A19: 4 | B19: Klasse D
A21: Ferien und Feiertage
A22: Von | B22: Bis | C22: Bezeichnung
A36: Sperrzeiträume (z. B. Prüfungskorridor)
A37: Von | B37: Bis | C37: Grund
A45: Zentrale Nachschreibtermine
A46: Datum | B46: Uhrzeit | C46: Bemerkung
A52: Fächer
A53: Kürzel | B53: Fach | C53: Vorgabe Arbeiten je Halbjahr (optional)

Sheet Übersicht
A1: Übersicht – Klassenarbeiten je Woche und Klasse
A2: =IF(Einstellungen!$B$2="","[Schule]",Einstellungen!$B$2)&" · Schuljahr "&IF(Einstellungen!$B$3="","[JJJJ/JJ]",Einstellungen!$B$3)
A3: Gezählt werden Klassenarbeiten. Die Klassenblätter müssen so heißen wie in „Einstellungen“; fehlt ein Blatt, bleibt die Spalte leer.
A5: Wochenbeginn | B5: KW | C5: =IF(Einstellungen!$B$16="","",Einstellungen!$B$16) | D5: =IF(Einstellungen!$B$17="","",Einstellungen!$B$17) | E5: =IF(Einstellungen!$B$18="","",Einstellungen!$B$18) | F5: =IF(Einstellungen!$B$19="","",Einstellungen!$B$19) | G5: Summe | H5: Hinweis
A6: =IF(Einstellungen!$B$6="","",Einstellungen!$B$6-WEEKDAY(Einstellungen!$B$6,2)+1) | B6: =IF(A6="","",WEEKNUM(A6,21)) | C6: =IF(OR(C$5="",$A6=""),"",IFERROR(COUNTIFS(INDIRECT("'"&C$5&"'!$I$8:$I$67"),$A6,INDIRECT("'"&C$5&"'!$D$8:$D$67"),"Klassenarbeit"),"")) | D6: =IF(OR(D$5="",$A6=""),"",IFERROR(COUNTIFS(INDIRECT("'"&D$5&"'!$I$8:$I$67"),$A6,INDIRECT("'"&D$5&"'!$D$8:$D$67"),"Klassenarbeit"),"")) | E6: =IF(OR(E$5="",$A6=""),"",IFERROR(COUNTIFS(INDIRECT("'"&E$5&"'!$I$8:$I$67"),$A6,INDIRECT("'"&E$5&"'!$D$8:$D$67"),"Klassenarbeit"),"")) | F6: =IF(OR(F$5="",$A6=""),"",IFERROR(COUNTIFS(INDIRECT("'"&F$5&"'!$I$8:$I$67"),$A6,INDIRECT("'"&F$5&"'!$D$8:$D$67"),"Klassenarbeit"),"")) | G6: =IF($A6="","",SUM(C6:F6)) | H6: =IF($A6="","",IF(AND(COUNTIFS(Einstellungen!$A$23:$A$34,"<="&$A6,Einstellungen!$B$23:$B$34,">="&$A6)>0,COUNTIFS(Einstellungen!$A$23:$A$34,"<="&($A6+4),Einstellungen!$B$23:$B$34,">="&($A6+4))>0),"Ferien",IF(AND(COUNTIFS(Einstellungen!$A$38:$A$43,"<="&$A6,Einstellungen!$B$38:$B$43,">="&$A6)>0,COUNTIFS(Einstellungen!$A$38:$A$43,"<="&($A6+4),Einstellungen!$B$38:$B$43,">="&($A6+4))>0),"Sperrzeit","")))
A7: =IF(A6="","",IF(A6+7>Einstellungen!$C$7,"",A6+7)) | B7: =IF(A7="","",WEEKNUM(A7,21)) | C7: =IF(OR(C$5="",$A7=""),"",IFERROR(COUNTIFS(INDIRECT("'"&C$5&"'!$I$8:$I$67"),$A7,INDIRECT("'"&C$5&"'!$D$8:$D$67"),"Klassenarbeit"),"")) | D7: =IF(OR(D$5="",$A7=""),"",IFERROR(COUNTIFS(INDIRECT("'"&D$5&"'!$I$8:$I$67"),$A7,INDIRECT("'"&D$5&"'!$D$8:$D$67"),"Klassenarbeit"),"")) | E7: =IF(OR(E$5="",$A7=""),"",IFERROR(COUNTIFS(INDIRECT("'"&E$5&"'!$I$8:$I$67"),$A7,INDIRECT("'"&E$5&"'!$D$8:$D$67"),"Klassenarbeit"),"")) | F7: =IF(OR(F$5="",$A7=""),"",IFERROR(COUNTIFS(INDIRECT("'"&F$5&"'!$I$8:$I$67"),$A7,INDIRECT("'"&F$5&"'!$D$8:$D$67"),"Klassenarbeit"),"")) | G7: =IF($A7="","",SUM(C7:F7)) | H7: =IF($A7="","",IF(AND(COUNTIFS(Einstellungen!$A$23:$A$34,"<="&$A7,Einstellungen!$B$23:$B$34,">="&$A7)>0,COUNTIFS(Einstellungen!$A$23:$A$34,"<="&($A7+4),Einstellungen!$B$23:$B$34,">="&($A7+4))>0),"Ferien",IF(AND(COUNTIFS(Einstellungen!$A$38:$A$43,"<="&$A7,Einstellungen!$B$38:$B$43,">="&$A7)>0,COUNTIFS(Einstellungen!$A$38:$A$43,"<="&($A7+4),Einstellungen!$B$38:$B$43,">="&($A7+4))>0),"Sperrzeit","")))
A8: =IF(A7="","",IF(A7+7>Einstellungen!$C$7,"",A7+7)) | B8: =IF(A8="","",WEEKNUM(A8,21)) | C8: =IF(OR(C$5="",$A8=""),"",IFERROR(COUNTIFS(INDIRECT("'"&C$5&"'!$I$8:$I$67"),$A8,INDIRECT("'"&C$5&"'!$D$8:$D$67"),"Klassenarbeit"),"")) | D8: =IF(OR(D$5="",$A8=""),"",IFERROR(COUNTIFS(INDIRECT("'"&D$5&"'!$I$8:$I$67"),$A8,INDIRECT("'"&D$5&"'!$D$8:$D$67"),"Klassenarbeit"),"")) | E8: =IF(OR(E$5="",$A8=""),"",IFERROR(COUNTIFS(INDIRECT("'"&E$5&"'!$I$8:$I$67"),$A8,INDIRECT("'"&E$5&"'!$D$8:$D$67"),"Klassenarbeit"),"")) | F8: =IF(OR(F$5="",$A8=""),"",IFERROR(COUNTIFS(INDIRECT("'"&F$5&"'!$I$8:$I$67"),$A8,INDIRECT("'"&F$5&"'!$D$8:$D$67"),"Klassenarbeit"),"")) | G8: =IF($A8="","",SUM(C8:F8)) | H8: =IF($A8="","",IF(AND(COUNTIFS(Einstellungen!$A$23:$A$34,"<="&$A8,Einstellungen!$B$23:$B$34,">="&$A8)>0,COUNTIFS(Einstellungen!$A$23:$A$34,"<="&($A8+4),Einstellungen!$B$23:$B$34,">="&($A8+4))>0),"Ferien",IF(AND(COUNTIFS(Einstellungen!$A$38:$A$43,"<="&$A8,Einstellungen!$B$38:$B$43,">="&$A8)>0,COUNTIFS(Einstellungen!$A$38:$A$43,"<="&($A8+4),Einstellungen!$B$38:$B$43,">="&($A8+4))>0),"Sperrzeit","")))
A9: =IF(A8="","",IF(A8+7>Einstellungen!$C$7,"",A8+7)) | B9: =IF(A9="","",WEEKNUM(A9,21)) | C9: =IF(OR(C$5="",$A9=""),"",IFERROR(COUNTIFS(INDIRECT("'"&C$5&"'!$I$8:$I$67"),$A9,INDIRECT("'"&C$5&"'!$D$8:$D$67"),"Klassenarbeit"),"")) | D9: =IF(OR(D$5="",$A9=""),"",IFERROR(COUNTIFS(INDIRECT("'"&D$5&"'!$I$8:$I$67"),$A9,INDIRECT("'"&D$5&"'!$D$8:$D$67"),"Klassenarbeit"),"")) | E9: =IF(OR(E$5="",$A9=""),"",IFERROR(COUNTIFS(INDIRECT("'"&E$5&"'!$I$8:$I$67"),$A9,INDIRECT("'"&E$5&"'!$D$8:$D$67"),"Klassenarbeit"),"")) | F9: =IF(OR(F$5="",$A9=""),"",IFERROR(COUNTIFS(INDIRECT("'"&F$5&"'!$I$8:$I$67"),$A9,INDIRECT("'"&F$5&"'!$D$8:$D$67"),"Klassenarbeit"),"")) | G9: =IF($A9="","",SUM(C9:F9)) | H9: =IF($A9="","",IF(AND(COUNTIFS(Einstellungen!$A$23:$A$34,"<="&$A9,Einstellungen!$B$23:$B$34,">="&$A9)>0,COUNTIFS(Einstellungen!$A$23:$A$34,"<="&($A9+4),Einstellungen!$B$23:$B$34,">="&($A9+4))>0),"Ferien",IF(AND(COUNTIFS(Einstellungen!$A$38:$A$43,"<="&$A9,Einstellungen!$B$38:$B$43,">="&$A9)>0,COUNTIFS(Einstellungen!$A$38:$A$43,"<="&($A9+4),Einstellungen!$B$38:$B$43,">="&($A9+4))>0),"Sperrzeit","")))
A10: =IF(A9="","",IF(A9+7>Einstellungen!$C$7,"",A9+7)) | B10: =IF(A10="","",WEEKNUM(A10,21)) | C10: =IF(OR(C$5="",$A10=""),"",IFERROR(COUNTIFS(INDIRECT("'"&C$5&"'!$I$8:$I$67"),$A10,INDIRECT("'"&C$5&"'!$D$8:$D$67"),"Klassenarbeit"),"")) | D10: =IF(OR(D$5="",$A10=""),"",IFERROR(COUNTIFS(INDIRECT("'"&D$5&"'!$I$8:$I$67"),$A10,INDIRECT("'"&D$5&"'!$D$8:$D$67"),"Klassenarbeit"),"")) | E10: =IF(OR(E$5="",$A10=""),"",IFERROR(COUNTIFS(INDIRECT("'"&E$5&"'!$I$8:$I$67"),$A10,INDIRECT("'"&E$5&"'!$D$8:$D$67"),"Klassenarbeit"),"")) | F10: =IF(OR(F$5="",$A10=""),"",IFERROR(COUNTIFS(INDIRECT("'"&F$5&"'!$I$8:$I$67"),$A10,INDIRECT("'"&F$5&"'!$D$8:$D$67"),"Klassenarbeit"),"")) | G10: =IF($A10="","",SUM(C10:F10)) | H10: =IF($A10="","",IF(AND(COUNTIFS(Einstellungen!$A$23:$A$34,"<="&$A10,Einstellungen!$B$23:$B$34,">="&$A10)>0,COUNTIFS(Einstellungen!$A$23:$A$34,"<="&($A10+4),Einstellungen!$B$23:$B$34,">="&($A10+4))>0),"Ferien",IF(AND(COUNTIFS(Einstellungen!$A$38:$A$43,"<="&$A10,Einstellungen!$B$38:$B$43,">="&$A10)>0,COUNTIFS(Einstellungen!$A$38:$A$43,"<="&($A10+4),Einstellungen!$B$38:$B$43,">="&($A10+4))>0),"Sperrzeit","")))
A11: =IF(A10="","",IF(A10+7>Einstellungen!$C$7,"",A10+7)) | B11: =IF(A11="","",WEEKNUM(A11,21)) | C11: =IF(OR(C$5="",$A11=""),"",IFERROR(COUNTIFS(INDIRECT("'"&C$5&"'!$I$8:$I$67"),$A11,INDIRECT("'"&C$5&"'!$D$8:$D$67"),"Klassenarbeit"),"")) | D11: =IF(OR(D$5="",$A11=""),"",IFERROR(COUNTIFS(INDIRECT("'"&D$5&"'!$I$8:$I$67"),$A11,INDIRECT("'"&D$5&"'!$D$8:$D$67"),"Klassenarbeit"),"")) | E11: =IF(OR(E$5="",$A11=""),"",IFERROR(COUNTIFS(INDIRECT("'"&E$5&"'!$I$8:$I$67"),$A11,INDIRECT("'"&E$5&"'!$D$8:$D$67"),"Klassenarbeit"),"")) | F11: =IF(OR(F$5="",$A11=""),"",IFERROR(COUNTIFS(INDIRECT("'"&F$5&"'!$I$8:$I$67"),$A11,INDIRECT("'"&F$5&"'!$D$8:$D$67"),"Klassenarbeit"),"")) | G11: =IF($A11="","",SUM(C11:F11)) | H11: =IF($A11="","",IF(AND(COUNTIFS(Einstellungen!$A$23:$A$34,"<="&$A11,Einstellungen!$B$23:$B$34,">="&$A11)>0,COUNTIFS(Einstellungen!$A$23:$A$34,"<="&($A11+4),Einstellungen!$B$23:$B$34,">="&($A11+4))>0),"Ferien",IF(AND(COUNTIFS(Einstellungen!$A$38:$A$43,"<="&$A11,Einstellungen!$B$38:$B$43,">="&$A11)>0,COUNTIFS(Einstellungen!$A$38:$A$43,"<="&($A11+4),Einstellungen!$B$38:$B$43,">="&($A11+4))>0),"Sperrzeit","")))
A12: =IF(A11="","",IF(A11+7>Einstellungen!$C$7,"",A11+7)) | B12: =IF(A12="","",WEEKNUM(A12,21)) | C12: =IF(OR(C$5="",$A12=""),"",IFERROR(COUNTIFS(INDIRECT("'"&C$5&"'!$I$8:$I$67"),$A12,INDIRECT("'"&C$5&"'!$D$8:$D$67"),"Klassenarbeit"),"")) | D12: =IF(OR(D$5="",$A12=""),"",IFERROR(COUNTIFS(INDIRECT("'"&D$5&"'!$I$8:$I$67"),$A12,INDIRECT("'"&D$5&"'!$D$8:$D$67"),"Klassenarbeit"),"")) | E12: =IF(OR(E$5="",$A12=""),"",IFERROR(COUNTIFS(INDIRECT("'"&E$5&"'!$I$8:$I$67"),$A12,INDIRECT("'"&E$5&"'!$D$8:$D$67"),"Klassenarbeit"),"")) | F12: =IF(OR(F$5="",$A12=""),"",IFERROR(COUNTIFS(INDIRECT("'"&F$5&"'!$I$8:$I$67"),$A12,INDIRECT("'"&F$5&"'!$D$8:$D$67"),"Klassenarbeit"),"")) | G12: =IF($A12="","",SUM(C12:F12)) | H12: =IF($A12="","",IF(AND(COUNTIFS(Einstellungen!$A$23:$A$34,"<="&$A12,Einstellungen!$B$23:$B$34,">="&$A12)>0,COUNTIFS(Einstellungen!$A$23:$A$34,"<="&($A12+4),Einstellungen!$B$23:$B$34,">="&($A12+4))>0),"Ferien",IF(AND(COUNTIFS(Einstellungen!$A$38:$A$43,"<="&$A12,Einstellungen!$B$38:$B$43,">="&$A12)>0,COUNTIFS(Einstellungen!$A$38:$A$43,"<="&($A12+4),Einstellungen!$B$38:$B$43,">="&($A12+4))>0),"Sperrzeit","")))
A13: =IF(A12="","",IF(A12+7>Einstellungen!$C$7,"",A12+7)) | B13: =IF(A13="","",WEEKNUM(A13,21)) | C13: =IF(OR(C$5="",$A13=""),"",IFERROR(COUNTIFS(INDIRECT("'"&C$5&"'!$I$8:$I$67"),$A13,INDIRECT("'"&C$5&"'!$D$8:$D$67"),"Klassenarbeit"),"")) | D13: =IF(OR(D$5="",$A13=""),"",IFERROR(COUNTIFS(INDIRECT("'"&D$5&"'!$I$8:$I$67"),$A13,INDIRECT("'"&D$5&"'!$D$8:$D$67"),"Klassenarbeit"),"")) | E13: =IF(OR(E$5="",$A13=""),"",IFERROR(COUNTIFS(INDIRECT("'"&E$5&"'!$I$8:$I$67"),$A13,INDIRECT("'"&E$5&"'!$D$8:$D$67"),"Klassenarbeit"),"")) | F13: =IF(OR(F$5="",$A13=""),"",IFERROR(COUNTIFS(INDIRECT("'"&F$5&"'!$I$8:$I$67"),$A13,INDIRECT("'"&F$5&"'!$D$8:$D$67"),"Klassenarbeit"),"")) | G13: =IF($A13="","",SUM(C13:F13)) | H13: =IF($A13="","",IF(AND(COUNTIFS(Einstellungen!$A$23:$A$34,"<="&$A13,Einstellungen!$B$23:$B$34,">="&$A13)>0,COUNTIFS(Einstellungen!$A$23:$A$34,"<="&($A13+4),Einstellungen!$B$23:$B$34,">="&($A13+4))>0),"Ferien",IF(AND(COUNTIFS(Einstellungen!$A$38:$A$43,"<="&$A13,Einstellungen!$B$38:$B$43,">="&$A13)>0,COUNTIFS(Einstellungen!$A$38:$A$43,"<="&($A13+4),Einstellungen!$B$38:$B$43,">="&($A13+4))>0),"Sperrzeit","")))
A14: =IF(A13="","",IF(A13+7>Einstellungen!$C$7,"",A13+7)) | B14: =IF(A14="","",WEEKNUM(A14,21)) | C14: =IF(OR(C$5="",$A14=""),"",IFERROR(COUNTIFS(INDIRECT("'"&C$5&"'!$I$8:$I$67"),$A14,INDIRECT("'"&C$5&"'!$D$8:$D$67"),"Klassenarbeit"),"")) | D14: =IF(OR(D$5="",$A14=""),"",IFERROR(COUNTIFS(INDIRECT("'"&D$5&"'!$I$8:$I$67"),$A14,INDIRECT("'"&D$5&"'!$D$8:$D$67"),"Klassenarbeit"),"")) | E14: =IF(OR(E$5="",$A14=""),"",IFERROR(COUNTIFS(INDIRECT("'"&E$5&"'!$I$8:$I$67"),$A14,INDIRECT("'"&E$5&"'!$D$8:$D$67"),"Klassenarbeit"),"")) | F14: =IF(OR(F$5="",$A14=""),"",IFERROR(COUNTIFS(INDIRECT("'"&F$5&"'!$I$8:$I$67"),$A14,INDIRECT("'"&F$5&"'!$D$8:$D$67"),"Klassenarbeit"),"")) | G14: =IF($A14="","",SUM(C14:F14)) | H14: =IF($A14="","",IF(AND(COUNTIFS(Einstellungen!$A$23:$A$34,"<="&$A14,Einstellungen!$B$23:$B$34,">="&$A14)>0,COUNTIFS(Einstellungen!$A$23:$A$34,"<="&($A14+4),Einstellungen!$B$23:$B$34,">="&($A14+4))>0),"Ferien",IF(AND(COUNTIFS(Einstellungen!$A$38:$A$43,"<="&$A14,Einstellungen!$B$38:$B$43,">="&$A14)>0,COUNTIFS(Einstellungen!$A$38:$A$43,"<="&($A14+4),Einstellungen!$B$38:$B$43,">="&($A14+4))>0),"Sperrzeit","")))
A15: =IF(A14="","",IF(A14+7>Einstellungen!$C$7,"",A14+7)) | B15: =IF(A15="","",WEEKNUM(A15,21)) | C15: =IF(OR(C$5="",$A15=""),"",IFERROR(COUNTIFS(INDIRECT("'"&C$5&"'!$I$8:$I$67"),$A15,INDIRECT("'"&C$5&"'!$D$8:$D$67"),"Klassenarbeit"),"")) | D15: =IF(OR(D$5="",$A15=""),"",IFERROR(COUNTIFS(INDIRECT("'"&D$5&"'!$I$8:$I$67"),$A15,INDIRECT("'"&D$5&"'!$D$8:$D$67"),"Klassenarbeit"),"")) | E15: =IF(OR(E$5="",$A15=""),"",IFERROR(COUNTIFS(INDIRECT("'"&E$5&"'!$I$8:$I$67"),$A15,INDIRECT("'"&E$5&"'!$D$8:$D$67"),"Klassenarbeit"),"")) | F15: =IF(OR(F$5="",$A15=""),"",IFERROR(COUNTIFS(INDIRECT("'"&F$5&"'!$I$8:$I$67"),$A15,INDIRECT("'"&F$5&"'!$D$8:$D$67"),"Klassenarbeit"),"")) | G15: =IF($A15="","",SUM(C15:F15)) | H15: =IF($A15="","",IF(AND(COUNTIFS(Einstellungen!$A$23:$A$34,"<="&$A15,Einstellungen!$B$23:$B$34,">="&$A15)>0,COUNTIFS(Einstellungen!$A$23:$A$34,"<="&($A15+4),Einstellungen!$B$23:$B$34,">="&($A15+4))>0),"Ferien",IF(AND(COUNTIFS(Einstellungen!$A$38:$A$43,"<="&$A15,Einstellungen!$B$38:$B$43,">="&$A15)>0,COUNTIFS(Einstellungen!$A$38:$A$43,"<="&($A15+4),Einstellungen!$B$38:$B$43,">="&($A15+4))>0),"Sperrzeit","")))
A16: =IF(A15="","",IF(A15+7>Einstellungen!$C$7,"",A15+7)) | B16: =IF(A16="","",WEEKNUM(A16,21)) | C16: =IF(OR(C$5="",$A16=""),"",IFERROR(COUNTIFS(INDIRECT("'"&C$5&"'!$I$8:$I$67"),$A16,INDIRECT("'"&C$5&"'!$D$8:$D$67"),"Klassenarbeit"),"")) | D16: =IF(OR(D$5="",$A16=""),"",IFERROR(COUNTIFS(INDIRECT("'"&D$5&"'!$I$8:$I$67"),$A16,INDIRECT("'"&D$5&"'!$D$8:$D$67"),"Klassenarbeit"),"")) | E16: =IF(OR(E$5="",$A16=""),"",IFERROR(COUNTIFS(INDIRECT("'"&E$5&"'!$I$8:$I$67"),$A16,INDIRECT("'"&E$5&"'!$D$8:$D$67"),"Klassenarbeit"),"")) | F16: =IF(OR(F$5="",$A16=""),"",IFERROR(COUNTIFS(INDIRECT("'"&F$5&"'!$I$8:$I$67"),$A16,INDIRECT("'"&F$5&"'!$D$8:$D$67"),"Klassenarbeit"),"")) | G16: =IF($A16="","",SUM(C16:F16)) | H16: =IF($A16="","",IF(AND(COUNTIFS(Einstellungen!$A$23:$A$34,"<="&$A16,Einstellungen!$B$23:$B$34,">="&$A16)>0,COUNTIFS(Einstellungen!$A$23:$A$34,"<="&($A16+4),Einstellungen!$B$23:$B$34,">="&($A16+4))>0),"Ferien",IF(AND(COUNTIFS(Einstellungen!$A$38:$A$43,"<="&$A16,Einstellungen!$B$38:$B$43,">="&$A16)>0,COUNTIFS(Einstellungen!$A$38:$A$43,"<="&($A16+4),Einstellungen!$B$38:$B$43,">="&($A16+4))>0),"Sperrzeit","")))
A17: =IF(A16="","",IF(A16+7>Einstellungen!$C$7,"",A16+7)) | B17: =IF(A17="","",WEEKNUM(A17,21)) | C17: =IF(OR(C$5="",$A17=""),"",IFERROR(COUNTIFS(INDIRECT("'"&C$5&"'!$I$8:$I$67"),$A17,INDIRECT("'"&C$5&"'!$D$8:$D$67"),"Klassenarbeit"),"")) | D17: =IF(OR(D$5="",$A17=""),"",IFERROR(COUNTIFS(INDIRECT("'"&D$5&"'!$I$8:$I$67"),$A17,INDIRECT("'"&D$5&"'!$D$8:$D$67"),"Klassenarbeit"),"")) | E17: =IF(OR(E$5="",$A17=""),"",IFERROR(COUNTIFS(INDIRECT("'"&E$5&"'!$I$8:$I$67"),$A17,INDIRECT("'"&E$5&"'!$D$8:$D$67"),"Klassenarbeit"),"")) | F17: =IF(OR(F$5="",$A17=""),"",IFERROR(COUNTIFS(INDIRECT("'"&F$5&"'!$I$8:$I$67"),$A17,INDIRECT("'"&F$5&"'!$D$8:$D$67"),"Klassenarbeit"),"")) | G17: =IF($A17="","",SUM(C17:F17)) | H17: =IF($A17="","",IF(AND(COUNTIFS(Einstellungen!$A$23:$A$34,"<="&$A17,Einstellungen!$B$23:$B$34,">="&$A17)>0,COUNTIFS(Einstellungen!$A$23:$A$34,"<="&($A17+4),Einstellungen!$B$23:$B$34,">="&($A17+4))>0),"Ferien",IF(AND(COUNTIFS(Einstellungen!$A$38:$A$43,"<="&$A17,Einstellungen!$B$38:$B$43,">="&$A17)>0,COUNTIFS(Einstellungen!$A$38:$A$43,"<="&($A17+4),Einstellungen!$B$38:$B$43,">="&($A17+4))>0),"Sperrzeit","")))
A18: =IF(A17="","",IF(A17+7>Einstellungen!$C$7,"",A17+7)) | B18: =IF(A18="","",WEEKNUM(A18,21)) | C18: =IF(OR(C$5="",$A18=""),"",IFERROR(COUNTIFS(INDIRECT("'"&C$5&"'!$I$8:$I$67"),$A18,INDIRECT("'"&C$5&"'!$D$8:$D$67"),"Klassenarbeit"),"")) | D18: =IF(OR(D$5="",$A18=""),"",IFERROR(COUNTIFS(INDIRECT("'"&D$5&"'!$I$8:$I$67"),$A18,INDIRECT("'"&D$5&"'!$D$8:$D$67"),"Klassenarbeit"),"")) | E18: =IF(OR(E$5="",$A18=""),"",IFERROR(COUNTIFS(INDIRECT("'"&E$5&"'!$I$8:$I$67"),$A18,INDIRECT("'"&E$5&"'!$D$8:$D$67"),"Klassenarbeit"),"")) | F18: =IF(OR(F$5="",$A18=""),"",IFERROR(COUNTIFS(INDIRECT("'"&F$5&"'!$I$8:$I$67"),$A18,INDIRECT("'"&F$5&"'!$D$8:$D$67"),"Klassenarbeit"),"")) | G18: =IF($A18="","",SUM(C18:F18)) | H18: =IF($A18="","",IF(AND(COUNTIFS(Einstellungen!$A$23:$A$34,"<="&$A18,Einstellungen!$B$23:$B$34,">="&$A18)>0,COUNTIFS(Einstellungen!$A$23:$A$34,"<="&($A18+4),Einstellungen!$B$23:$B$34,">="&($A18+4))>0),"Ferien",IF(AND(COUNTIFS(Einstellungen!$A$38:$A$43,"<="&$A18,Einstellungen!$B$38:$B$43,">="&$A18)>0,COUNTIFS(Einstellungen!$A$38:$A$43,"<="&($A18+4),Einstellungen!$B$38:$B$43,">="&($A18+4))>0),"Sperrzeit","")))
... A57: =IF(A56="","",IF(A56+7>Einstellungen!$C$7,"",A56+7)) | B57: =IF(A57="","",WEEKNUM(A57,21)) | C57: =IF(OR(C$5="",$A57=""),"",IFERROR(COUNTIFS(INDIRECT("'"&C$5&"'!$I$8:$I$67"),$A57,INDIRECT("'"&C$5&"'!$D$8:$D$67"),"Klassenarbeit"),"")) | D57: =IF(OR(D$5="",$A57=""),"",IFERROR(COUNTIFS(INDIRECT("'"&D$5&"'!$I$8:$I$67"),$A57,INDIRECT("'"&D$5&"'!$D$8:$D$67"),"Klassenarbeit"),"")) | E57: =IF(OR(E$5="",$A57=""),"",IFERROR(COUNTIFS(INDIRECT("'"&E$5&"'!$I$8:$I$67"),$A57,INDIRECT("'"&E$5&"'!$D$8:$D$67"),"Klassenarbeit"),"")) | F57: =IF(OR(F$5="",$A57=""),"",IFERROR(COUNTIFS(INDIRECT("'"&F$5&"'!$I$8:$I$67"),$A57,INDIRECT("'"&F$5&"'!$D$8:$D$67"),"Klassenarbeit"),"")) | G57: =IF($A57="","",SUM(C57:F57)) | H57: =IF($A57="","",IF(AND(COUNTIFS(Einstellungen!$A$23:$A$34,"<="&$A57,Einstellungen!$B$23:$B$34,">="&$A57)>0,COUNTIFS(Einstellungen!$A$23:$A$34,"<="&($A57+4),Einstellungen!$B$23:$B$34,">="&($A57+4))>0),"Ferien",IF(AND(COUNTIFS(Einstellungen!$A$38:$A$43,"<="&$A57,Einstellungen!$B$38:$B$43,">="&$A57)>0,COUNTIFS(Einstellungen!$A$38:$A$43,"<="&($A57+4),Einstellungen!$B$38:$B$43,">="&($A57+4))>0),"Sperrzeit","")))

Sheet Klasse A
A1: ="Klassenarbeits-Kalender · "&IF(Einstellungen!$B$16="","[Klassenname in Einstellungen eintragen]",Einstellungen!$B$16)
A2: =IF(Einstellungen!$B$2="","[Schule]",Einstellungen!$B$2)&" · Schuljahr "&IF(Einstellungen!$B$3="","[JJJJ/JJ]",Einstellungen!$B$3)
A3: Klassenleitung | G3: Gelb = Eingabe · Grau = Formel (geschützt, ohne Passwort, siehe Anleitung)
A6: Teil A – Terminliste (Eingabe)
A7: Datum | B7: Tag | C7: Fach | D7: Art | E7: Lehrkraft | F7: Stunde | G7: Status | H7: Halbjahr | I7: Wochenbeginn | J7: Prüfung | K7: Bemerkung
B8: =IF(A8="","",CHOOSE(WEEKDAY(A8,2),"Mo","Di","Mi","Do","Fr","Sa","So")) | H8: =IF(A8="","",IF(OR(A8<Einstellungen!$B$6,A8>Einstellungen!$C$7),"außerhalb",IF(A8<=Einstellungen!$C$6,1,2))) | I8: =IF(A8="","",A8-WEEKDAY(A8,2)+1) | J8: =IF(A8="","",IF(AND(WEEKDAY(A8,2)>5,D8<>"Nachschreibtermin"),"Wochenende",IF(COUNTIFS(Einstellungen!$A$23:$A$34,"<="&A8,Einstellungen!$B$23:$B$34,">="&A8)>0,"Ferien/Feiertag",IF(COUNTIFS(Einstellungen!$A$38:$A$43,"<="&A8,Einstellungen!$B$38:$B$43,">="&A8)>0,"Sperrzeit",IF(AND(Einstellungen!$B$10<>"",D8="Klassenarbeit",COUNTIFS($A$8:$A$67,A8,$D$8:$D$67,"Klassenarbeit")>Einstellungen!$B$10),"Tag überschritten",IF(AND(Einstellungen!$B$11<>"",D8="Klassenarbeit",COUNTIFS($I$8:$I$67,I8,$D$8:$D$67,"Klassenarbeit")>Einstellungen!$B$11),"Woche überschritten",IF(OR(C8="",D8=""),"Fach/Art fehlt","OK")))))))
B9: =IF(A9="","",CHOOSE(WEEKDAY(A9,2),"Mo","Di","Mi","Do","Fr","Sa","So")) | H9: =IF(A9="","",IF(OR(A9<Einstellungen!$B$6,A9>Einstellungen!$C$7),"außerhalb",IF(A9<=Einstellungen!$C$6,1,2))) | I9: =IF(A9="","",A9-WEEKDAY(A9,2)+1) | J9: =IF(A9="","",IF(AND(WEEKDAY(A9,2)>5,D9<>"Nachschreibtermin"),"Wochenende",IF(COUNTIFS(Einstellungen!$A$23:$A$34,"<="&A9,Einstellungen!$B$23:$B$34,">="&A9)>0,"Ferien/Feiertag",IF(COUNTIFS(Einstellungen!$A$38:$A$43,"<="&A9,Einstellungen!$B$38:$B$43,">="&A9)>0,"Sperrzeit",IF(AND(Einstellungen!$B$10<>"",D9="Klassenarbeit",COUNTIFS($A$8:$A$67,A9,$D$8:$D$67,"Klassenarbeit")>Einstellungen!$B$10),"Tag überschritten",IF(AND(Einstellungen!$B$11<>"",D9="Klassenarbeit",COUNTIFS($I$8:$I$67,I9,$D$8:$D$67,"Klassenarbeit")>Einstellungen!$B$11),"Woche überschritten",IF(OR(C9="",D9=""),"Fach/Art fehlt","OK")))))))
B10: =IF(A10="","",CHOOSE(WEEKDAY(A10,2),"Mo","Di","Mi","Do","Fr","Sa","So")) | H10: =IF(A10="","",IF(OR(A10<Einstellungen!$B$6,A10>Einstellungen!$C$7),"außerhalb",IF(A10<=Einstellungen!$C$6,1,2))) | I10: =IF(A10="","",A10-WEEKDAY(A10,2)+1) | J10: =IF(A10="","",IF(AND(WEEKDAY(A10,2)>5,D10<>"Nachschreibtermin"),"Wochenende",IF(COUNTIFS(Einstellungen!$A$23:$A$34,"<="&A10,Einstellungen!$B$23:$B$34,">="&A10)>0,"Ferien/Feiertag",IF(COUNTIFS(Einstellungen!$A$38:$A$43,"<="&A10,Einstellungen!$B$38:$B$43,">="&A10)>0,"Sperrzeit",IF(AND(Einstellungen!$B$10<>"",D10="Klassenarbeit",COUNTIFS($A$8:$A$67,A10,$D$8:$D$67,"Klassenarbeit")>Einstellungen!$B$10),"Tag überschritten",IF(AND(Einstellungen!$B$11<>"",D10="Klassenarbeit",COUNTIFS($I$8:$I$67,I10,$D$8:$D$67,"Klassenarbeit")>Einstellungen!$B$11),"Woche überschritten",IF(OR(C10="",D10=""),"Fach/Art fehlt","OK")))))))
B11: =IF(A11="","",CHOOSE(WEEKDAY(A11,2),"Mo","Di","Mi","Do","Fr","Sa","So")) | H11: =IF(A11="","",IF(OR(A11<Einstellungen!$B$6,A11>Einstellungen!$C$7),"außerhalb",IF(A11<=Einstellungen!$C$6,1,2))) | I11: =IF(A11="","",A11-WEEKDAY(A11,2)+1) | J11: =IF(A11="","",IF(AND(WEEKDAY(A11,2)>5,D11<>"Nachschreibtermin"),"Wochenende",IF(COUNTIFS(Einstellungen!$A$23:$A$34,"<="&A11,Einstellungen!$B$23:$B$34,">="&A11)>0,"Ferien/Feiertag",IF(COUNTIFS(Einstellungen!$A$38:$A$43,"<="&A11,Einstellungen!$B$38:$B$43,">="&A11)>0,"Sperrzeit",IF(AND(Einstellungen!$B$10<>"",D11="Klassenarbeit",COUNTIFS($A$8:$A$67,A11,$D$8:$D$67,"Klassenarbeit")>Einstellungen!$B$10),"Tag überschritten",IF(AND(Einstellungen!$B$11<>"",D11="Klassenarbeit",COUNTIFS($I$8:$I$67,I11,$D$8:$D$67,"Klassenarbeit")>Einstellungen!$B$11),"Woche überschritten",IF(OR(C11="",D11=""),"Fach/Art fehlt","OK")))))))
B12: =IF(A12="","",CHOOSE(WEEKDAY(A12,2),"Mo","Di","Mi","Do","Fr","Sa","So")) | H12: =IF(A12="","",IF(OR(A12<Einstellungen!$B$6,A12>Einstellungen!$C$7),"außerhalb",IF(A12<=Einstellungen!$C$6,1,2))) | I12: =IF(A12="","",A12-WEEKDAY(A12,2)+1) | J12: =IF(A12="","",IF(AND(WEEKDAY(A12,2)>5,D12<>"Nachschreibtermin"),"Wochenende",IF(COUNTIFS(Einstellungen!$A$23:$A$34,"<="&A12,Einstellungen!$B$23:$B$34,">="&A12)>0,"Ferien/Feiertag",IF(COUNTIFS(Einstellungen!$A$38:$A$43,"<="&A12,Einstellungen!$B$38:$B$43,">="&A12)>0,"Sperrzeit",IF(AND(Einstellungen!$B$10<>"",D12="Klassenarbeit",COUNTIFS($A$8:$A$67,A12,$D$8:$D$67,"Klassenarbeit")>Einstellungen!$B$10),"Tag überschritten",IF(AND(Einstellungen!$B$11<>"",D12="Klassenarbeit",COUNTIFS($I$8:$I$67,I12,$D$8:$D$67,"Klassenarbeit")>Einstellungen!$B$11),"Woche überschritten",IF(OR(C12="",D12=""),"Fach/Art fehlt","OK")))))))
B13: =IF(A13="","",CHOOSE(WEEKDAY(A13,2),"Mo","Di","Mi","Do","Fr","Sa","So")) | H13: =IF(A13="","",IF(OR(A13<Einstellungen!$B$6,A13>Einstellungen!$C$7),"außerhalb",IF(A13<=Einstellungen!$C$6,1,2))) | I13: =IF(A13="","",A13-WEEKDAY(A13,2)+1) | J13: =IF(A13="","",IF(AND(WEEKDAY(A13,2)>5,D13<>"Nachschreibtermin"),"Wochenende",IF(COUNTIFS(Einstellungen!$A$23:$A$34,"<="&A13,Einstellungen!$B$23:$B$34,">="&A13)>0,"Ferien/Feiertag",IF(COUNTIFS(Einstellungen!$A$38:$A$43,"<="&A13,Einstellungen!$B$38:$B$43,">="&A13)>0,"Sperrzeit",IF(AND(Einstellungen!$B$10<>"",D13="Klassenarbeit",COUNTIFS($A$8:$A$67,A13,$D$8:$D$67,"Klassenarbeit")>Einstellungen!$B$10),"Tag überschritten",IF(AND(Einstellungen!$B$11<>"",D13="Klassenarbeit",COUNTIFS($I$8:$I$67,I13,$D$8:$D$67,"Klassenarbeit")>Einstellungen!$B$11),"Woche überschritten",IF(OR(C13="",D13=""),"Fach/Art fehlt","OK")))))))
B14: =IF(A14="","",CHOOSE(WEEKDAY(A14,2),"Mo","Di","Mi","Do","Fr","Sa","So")) | H14: =IF(A14="","",IF(OR(A14<Einstellungen!$B$6,A14>Einstellungen!$C$7),"außerhalb",IF(A14<=Einstellungen!$C$6,1,2))) | I14: =IF(A14="","",A14-WEEKDAY(A14,2)+1) | J14: =IF(A14="","",IF(AND(WEEKDAY(A14,2)>5,D14<>"Nachschreibtermin"),"Wochenende",IF(COUNTIFS(Einstellungen!$A$23:$A$34,"<="&A14,Einstellungen!$B$23:$B$34,">="&A14)>0,"Ferien/Feiertag",IF(COUNTIFS(Einstellungen!$A$38:$A$43,"<="&A14,Einstellungen!$B$38:$B$43,">="&A14)>0,"Sperrzeit",IF(AND(Einstellungen!$B$10<>"",D14="Klassenarbeit",COUNTIFS($A$8:$A$67,A14,$D$8:$D$67,"Klassenarbeit")>Einstellungen!$B$10),"Tag überschritten",IF(AND(Einstellungen!$B$11<>"",D14="Klassenarbeit",COUNTIFS($I$8:$I$67,I14,$D$8:$D$67,"Klassenarbeit")>Einstellungen!$B$11),"Woche überschritten",IF(OR(C14="",D14=""),"Fach/Art fehlt","OK")))))))
B15: =IF(A15="","",CHOOSE(WEEKDAY(A15,2),"Mo","Di","Mi","Do","Fr","Sa","So")) | H15: =IF(A15="","",IF(OR(A15<Einstellungen!$B$6,A15>Einstellungen!$C$7),"außerhalb",IF(A15<=Einstellungen!$C$6,1,2))) | I15: =IF(A15="","",A15-WEEKDAY(A15,2)+1) | J15: =IF(A15="","",IF(AND(WEEKDAY(A15,2)>5,D15<>"Nachschreibtermin"),"Wochenende",IF(COUNTIFS(Einstellungen!$A$23:$A$34,"<="&A15,Einstellungen!$B$23:$B$34,">="&A15)>0,"Ferien/Feiertag",IF(COUNTIFS(Einstellungen!$A$38:$A$43,"<="&A15,Einstellungen!$B$38:$B$43,">="&A15)>0,"Sperrzeit",IF(AND(Einstellungen!$B$10<>"",D15="Klassenarbeit",COUNTIFS($A$8:$A$67,A15,$D$8:$D$67,"Klassenarbeit")>Einstellungen!$B$10),"Tag überschritten",IF(AND(Einstellungen!$B$11<>"",D15="Klassenarbeit",COUNTIFS($I$8:$I$67,I15,$D$8:$D$67,"Klassenarbeit")>Einstellungen!$B$11),"Woche überschritten",IF(OR(C15="",D15=""),"Fach/Art fehlt","OK")))))))
B16: =IF(A16="","",CHOOSE(WEEKDAY(A16,2),"Mo","Di","Mi","Do","Fr","Sa","So")) | H16: =IF(A16="","",IF(OR(A16<Einstellungen!$B$6,A16>Einstellungen!$C$7),"außerhalb",IF(A16<=Einstellungen!$C$6,1,2))) | I16: =IF(A16="","",A16-WEEKDAY(A16,2)+1) | J16: =IF(A16="","",IF(AND(WEEKDAY(A16,2)>5,D16<>"Nachschreibtermin"),"Wochenende",IF(COUNTIFS(Einstellungen!$A$23:$A$34,"<="&A16,Einstellungen!$B$23:$B$34,">="&A16)>0,"Ferien/Feiertag",IF(COUNTIFS(Einstellungen!$A$38:$A$43,"<="&A16,Einstellungen!$B$38:$B$43,">="&A16)>0,"Sperrzeit",IF(AND(Einstellungen!$B$10<>"",D16="Klassenarbeit",COUNTIFS($A$8:$A$67,A16,$D$8:$D$67,"Klassenarbeit")>Einstellungen!$B$10),"Tag überschritten",IF(AND(Einstellungen!$B$11<>"",D16="Klassenarbeit",COUNTIFS($I$8:$I$67,I16,$D$8:$D$67,"Klassenarbeit")>Einstellungen!$B$11),"Woche überschritten",IF(OR(C16="",D16=""),"Fach/Art fehlt","OK")))))))
B17: =IF(A17="","",CHOOSE(WEEKDAY(A17,2),"Mo","Di","Mi","Do","Fr","Sa","So")) | H17: =IF(A17="","",IF(OR(A17<Einstellungen!$B$6,A17>Einstellungen!$C$7),"außerhalb",IF(A17<=Einstellungen!$C$6,1,2))) | I17: =IF(A17="","",A17-WEEKDAY(A17,2)+1) | J17: =IF(A17="","",IF(AND(WEEKDAY(A17,2)>5,D17<>"Nachschreibtermin"),"Wochenende",IF(COUNTIFS(Einstellungen!$A$23:$A$34,"<="&A17,Einstellungen!$B$23:$B$34,">="&A17)>0,"Ferien/Feiertag",IF(COUNTIFS(Einstellungen!$A$38:$A$43,"<="&A17,Einstellungen!$B$38:$B$43,">="&A17)>0,"Sperrzeit",IF(AND(Einstellungen!$B$10<>"",D17="Klassenarbeit",COUNTIFS($A$8:$A$67,A17,$D$8:$D$67,"Klassenarbeit")>Einstellungen!$B$10),"Tag überschritten",IF(AND(Einstellungen!$B$11<>"",D17="Klassenarbeit",COUNTIFS($I$8:$I$67,I17,$D$8:$D$67,"Klassenarbeit")>Einstellungen!$B$11),"Woche überschritten",IF(OR(C17="",D17=""),"Fach/Art fehlt","OK")))))))
B18: =IF(A18="","",CHOOSE(WEEKDAY(A18,2),"Mo","Di","Mi","Do","Fr","Sa","So")) | H18: =IF(A18="","",IF(OR(A18<Einstellungen!$B$6,A18>Einstellungen!$C$7),"außerhalb",IF(A18<=Einstellungen!$C$6,1,2))) | I18: =IF(A18="","",A18-WEEKDAY(A18,2)+1) | J18: =IF(A18="","",IF(AND(WEEKDAY(A18,2)>5,D18<>"Nachschreibtermin"),"Wochenende",IF(COUNTIFS(Einstellungen!$A$23:$A$34,"<="&A18,Einstellungen!$B$23:$B$34,">="&A18)>0,"Ferien/Feiertag",IF(COUNTIFS(Einstellungen!$A$38:$A$43,"<="&A18,Einstellungen!$B$38:$B$43,">="&A18)>0,"Sperrzeit",IF(AND(Einstellungen!$B$10<>"",D18="Klassenarbeit",COUNTIFS($A$8:$A$67,A18,$D$8:$D$67,"Klassenarbeit")>Einstellungen!$B$10),"Tag überschritten",IF(AND(Einstellungen!$B$11<>"",D18="Klassenarbeit",COUNTIFS($I$8:$I$67,I18,$D$8:$D$67,"Klassenarbeit")>Einstellungen!$B$11),"Woche überschritten",IF(OR(C18="",D18=""),"Fach/Art fehlt","OK")))))))
B19: =IF(A19="","",CHOOSE(WEEKDAY(A19,2),"Mo","Di","Mi","Do","Fr","Sa","So")) | H19: =IF(A19="","",IF(OR(A19<Einstellungen!$B$6,A19>Einstellungen!$C$7),"außerhalb",IF(A19<=Einstellungen!$C$6,1,2))) | I19: =IF(A19="","",A19-WEEKDAY(A19,2)+1) | J19: =IF(A19="","",IF(AND(WEEKDAY(A19,2)>5,D19<>"Nachschreibtermin"),"Wochenende",IF(COUNTIFS(Einstellungen!$A$23:$A$34,"<="&A19,Einstellungen!$B$23:$B$34,">="&A19)>0,"Ferien/Feiertag",IF(COUNTIFS(Einstellungen!$A$38:$A$43,"<="&A19,Einstellungen!$B$38:$B$43,">="&A19)>0,"Sperrzeit",IF(AND(Einstellungen!$B$10<>"",D19="Klassenarbeit",COUNTIFS($A$8:$A$67,A19,$D$8:$D$67,"Klassenarbeit")>Einstellungen!$B$10),"Tag überschritten",IF(AND(Einstellungen!$B$11<>"",D19="Klassenarbeit",COUNTIFS($I$8:$I$67,I19,$D$8:$D$67,"Klassenarbeit")>Einstellungen!$B$11),"Woche überschritten",IF(OR(C19="",D19=""),"Fach/Art fehlt","OK")))))))
... B67: =IF(A67="","",CHOOSE(WEEKDAY(A67,2),"Mo","Di","Mi","Do","Fr","Sa","So")) | H67: =IF(A67="","",IF(OR(A67<Einstellungen!$B$6,A67>Einstellungen!$C$7),"außerhalb",IF(A67<=Einstellungen!$C$6,1,2))) | I67: =IF(A67="","",A67-WEEKDAY(A67,2)+1) | J67: =IF(A67="","",IF(AND(WEEKDAY(A67,2)>5,D67<>"Nachschreibtermin"),"Wochenende",IF(COUNTIFS(Einstellungen!$A$23:$A$34,"<="&A67,Einstellungen!$B$23:$B$34,">="&A67)>0,"Ferien/Feiertag",IF(COUNTIFS(Einstellungen!$A$38:$A$43,"<="&A67,Einstellungen!$B$38:$B$43,">="&A67)>0,"Sperrzeit",IF(AND(Einstellungen!$B$10<>"",D67="Klassenarbeit",COUNTIFS($A$8:$A$67,A67,$D$8:$D$67,"Klassenarbeit")>Einstellungen!$B$10),"Tag überschritten",IF(AND(Einstellungen!$B$11<>"",D67="Klassenarbeit",COUNTIFS($I$8:$I$67,I67,$D$8:$D$67,"Klassenarbeit")>Einstellungen!$B$11),"Woche überschritten",IF(OR(C67="",D67=""),"Fach/Art fehlt","OK")))))))
A69: Teil B – Wochenraster (berechnet)
A70: Fach-Kürzel der eingetragenen Termine · Ferien, Sperrzeiten und zentrale Nachschreibtermine aus „Einstellungen“ · Spalte „Arbeiten“ = Klassenarbeiten in der Woche
A71: Wochenbeginn | B71: KW | C71: Mo | D71: Di | E71: Mi | F71: Do | G71: Fr | H71: Sa | I71: Arbeiten | J71: Halbjahr
A72: =IF(Einstellungen!$B$6="","",Einstellungen!$B$6-WEEKDAY(Einstellungen!$B$6,2)+1) | B72: =IF(A72="","",WEEKNUM(A72,21)) | C72: =IF($A72="","",IF(COUNTIF($A$8:$A$67,($A72+0))>0,IF(INDEX($C$8:$C$67,MATCH(($A72+0),$A$8:$A$67,0))="","?",INDEX($C$8:$C$67,MATCH(($A72+0),$A$8:$A$67,0)))&IF(COUNTIF($A$8:$A$67,($A72+0))>1," +"&(COUNTIF($A$8:$A$67,($A72+0))-1),""),IF(COUNTIFS(Einstellungen!$A$23:$A$34,"<="&($A72+0),Einstellungen!$B$23:$B$34,">="&($A72+0))>0,"Ferien",IF(COUNTIFS(Einstellungen!$A$38:$A$43,"<="&($A72+0),Einstellungen!$B$38:$B$43,">="&($A72+0))>0,"Sperre",IF(COUNTIF(Einstellungen!$A$47:$A$50,($A72+0))>0,"Nachschr.",""))))) | D72: =IF($A72="","",IF(COUNTIF($A$8:$A$67,($A72+1))>0,IF(INDEX($C$8:$C$67,MATCH(($A72+1),$A$8:$A$67,0))="","?",INDEX($C$8:$C$67,MATCH(($A72+1),$A$8:$A$67,0)))&IF(COUNTIF($A$8:$A$67,($A72+1))>1," +"&(COUNTIF($A$8:$A$67,($A72+1))-1),""),IF(COUNTIFS(Einstellungen!$A$23:$A$34,"<="&($A72+1),Einstellungen!$B$23:$B$34,">="&($A72+1))>0,"Ferien",IF(COUNTIFS(Einstellungen!$A$38:$A$43,"<="&($A72+1),Einstellungen!$B$38:$B$43,">="&($A72+1))>0,"Sperre",IF(COUNTIF(Einstellungen!$A$47:$A$50,($A72+1))>0,"Nachschr.",""))))) | E72: =IF($A72="","",IF(COUNTIF($A$8:$A$67,($A72+2))>0,IF(INDEX($C$8:$C$67,MATCH(($A72+2),$A$8:$A$67,0))="","?",INDEX($C$8:$C$67,MATCH(($A72+2),$A$8:$A$67,0)))&IF(COUNTIF($A$8:$A$67,($A72+2))>1," +"&(COUNTIF($A$8:$A$67,($A72+2))-1),""),IF(COUNTIFS(Einstellungen!$A$23:$A$34,"<="&($A72+2),Einstellungen!$B$23:$B$34,">="&($A72+2))>0,"Ferien",IF(COUNTIFS(Einstellungen!$A$38:$A$43,"<="&($A72+2),Einstellungen!$B$38:$B$43,">="&($A72+2))>0,"Sperre",IF(COUNTIF(Einstellungen!$A$47:$A$50,($A72+2))>0,"Nachschr.",""))))) | F72: =IF($A72="","",IF(COUNTIF($A$8:$A$67,($A72+3))>0,IF(INDEX($C$8:$C$67,MATCH(($A72+3),$A$8:$A$67,0))="","?",INDEX($C$8:$C$67,MATCH(($A72+3),$A$8:$A$67,0)))&IF(COUNTIF($A$8:$A$67,($A72+3))>1," +"&(COUNTIF($A$8:$A$67,($A72+3))-1),""),IF(COUNTIFS(Einstellungen!$A$23:$A$34,"<="&($A72+3),Einstellungen!$B$23:$B$34,">="&($A72+3))>0,"Ferien",IF(COUNTIFS(Einstellungen!$A$38:$A$43,"<="&($A72+3),Einstellungen!$B$38:$B$43,">="&($A72+3))>0,"Sperre",IF(COUNTIF(Einstellungen!$A$47:$A$50,($A72+3))>0,"Nachschr.",""))))) | G72: =IF($A72="","",IF(COUNTIF($A$8:$A$67,($A72+4))>0,IF(INDEX($C$8:$C$67,MATCH(($A72+4),$A$8:$A$67,0))="","?",INDEX($C$8:$C$67,MATCH(($A72+4),$A$8:$A$67,0)))&IF(COUNTIF($A$8:$A$67,($A72+4))>1," +"&(COUNTIF($A$8:$A$67,($A72+4))-1),""),IF(COUNTIFS(Einstellungen!$A$23:$A$34,"<="&($A72+4),Einstellungen!$B$23:$B$34,">="&($A72+4))>0,"Ferien",IF(COUNTIFS(Einstellungen!$A$38:$A$43,"<="&($A72+4),Einstellungen!$B$38:$B$43,">="&($A72+4))>0,"Sperre",IF(COUNTIF(Einstellungen!$A$47:$A$50,($A72+4))>0,"Nachschr.",""))))) | H72: =IF($A72="","",IF(COUNTIF($A$8:$A$67,($A72+5))>0,IF(INDEX($C$8:$C$67,MATCH(($A72+5),$A$8:$A$67,0))="","?",INDEX($C$8:$C$67,MATCH(($A72+5),$A$8:$A$67,0)))&IF(COUNTIF($A$8:$A$67,($A72+5))>1," +"&(COUNTIF($A$8:$A$67,($A72+5))-1),""),IF(COUNTIFS(Einstellungen!$A$23:$A$34,"<="&($A72+5),Einstellungen!$B$23:$B$34,">="&($A72+5))>0,"Ferien",IF(COUNTIFS(Einstellungen!$A$38:$A$43,"<="&($A72+5),Einstellungen!$B$38:$B$43,">="&($A72+5))>0,"Sperre",IF(COUNTIF(Einstellungen!$A$47:$A$50,($A72+5))>0,"Nachschr.",""))))) | I72: =IF(A72="","",COUNTIFS($I$8:$I$67,A72,$D$8:$D$67,"Klassenarbeit")) | J72: =IF(A72="","",IF(A72<=Einstellungen!$C$6,1,2))
A73: =IF(A72="","",IF(A72+7>Einstellungen!$C$7,"",A72+7)) | B73: =IF(A73="","",WEEKNUM(A73,21)) | C73: =IF($A73="","",IF(COUNTIF($A$8:$A$67,($A73+0))>0,IF(INDEX($C$8:$C$67,MATCH(($A73+0),$A$8:$A$67,0))="","?",INDEX($C$8:$C$67,MATCH(($A73+0),$A$8:$A$67,0)))&IF(COUNTIF($A$8:$A$67,($A73+0))>1," +"&(COUNTIF($A$8:$A$67,($A73+0))-1),""),IF(COUNTIFS(Einstellungen!$A$23:$A$34,"<="&($A73+0),Einstellungen!$B$23:$B$34,">="&($A73+0))>0,"Ferien",IF(COUNTIFS(Einstellungen!$A$38:$A$43,"<="&($A73+0),Einstellungen!$B$38:$B$43,">="&($A73+0))>0,"Sperre",IF(COUNTIF(Einstellungen!$A$47:$A$50,($A73+0))>0,"Nachschr.",""))))) | D73: =IF($A73="","",IF(COUNTIF($A$8:$A$67,($A73+1))>0,IF(INDEX($C$8:$C$67,MATCH(($A73+1),$A$8:$A$67,0))="","?",INDEX($C$8:$C$67,MATCH(($A73+1),$A$8:$A$67,0)))&IF(COUNTIF($A$8:$A$67,($A73+1))>1," +"&(COUNTIF($A$8:$A$67,($A73+1))-1),""),IF(COUNTIFS(Einstellungen!$A$23:$A$34,"<="&($A73+1),Einstellungen!$B$23:$B$34,">="&($A73+1))>0,"Ferien",IF(COUNTIFS(Einstellungen!$A$38:$A$43,"<="&($A73+1),Einstellungen!$B$38:$B$43,">="&($A73+1))>0,"Sperre",IF(COUNTIF(Einstellungen!$A$47:$A$50,($A73+1))>0,"Nachschr.",""))))) | E73: =IF($A73="","",IF(COUNTIF($A$8:$A$67,($A73+2))>0,IF(INDEX($C$8:$C$67,MATCH(($A73+2),$A$8:$A$67,0))="","?",INDEX($C$8:$C$67,MATCH(($A73+2),$A$8:$A$67,0)))&IF(COUNTIF($A$8:$A$67,($A73+2))>1," +"&(COUNTIF($A$8:$A$67,($A73+2))-1),""),IF(COUNTIFS(Einstellungen!$A$23:$A$34,"<="&($A73+2),Einstellungen!$B$23:$B$34,">="&($A73+2))>0,"Ferien",IF(COUNTIFS(Einstellungen!$A$38:$A$43,"<="&($A73+2),Einstellungen!$B$38:$B$43,">="&($A73+2))>0,"Sperre",IF(COUNTIF(Einstellungen!$A$47:$A$50,($A73+2))>0,"Nachschr.",""))))) | F73: =IF($A73="","",IF(COUNTIF($A$8:$A$67,($A73+3))>0,IF(INDEX($C$8:$C$67,MATCH(($A73+3),$A$8:$A$67,0))="","?",INDEX($C$8:$C$67,MATCH(($A73+3),$A$8:$A$67,0)))&IF(COUNTIF($A$8:$A$67,($A73+3))>1," +"&(COUNTIF($A$8:$A$67,($A73+3))-1),""),IF(COUNTIFS(Einstellungen!$A$23:$A$34,"<="&($A73+3),Einstellungen!$B$23:$B$34,">="&($A73+3))>0,"Ferien",IF(COUNTIFS(Einstellungen!$A$38:$A$43,"<="&($A73+3),Einstellungen!$B$38:$B$43,">="&($A73+3))>0,"Sperre",IF(COUNTIF(Einstellungen!$A$47:$A$50,($A73+3))>0,"Nachschr.",""))))) | G73: =IF($A73="","",IF(COUNTIF($A$8:$A$67,($A73+4))>0,IF(INDEX($C$8:$C$67,MATCH(($A73+4),$A$8:$A$67,0))="","?",INDEX($C$8:$C$67,MATCH(($A73+4),$A$8:$A$67,0)))&IF(COUNTIF($A$8:$A$67,($A73+4))>1," +"&(COUNTIF($A$8:$A$67,($A73+4))-1),""),IF(COUNTIFS(Einstellungen!$A$23:$A$34,"<="&($A73+4),Einstellungen!$B$23:$B$34,">="&($A73+4))>0,"Ferien",IF(COUNTIFS(Einstellungen!$A$38:$A$43,"<="&($A73+4),Einstellungen!$B$38:$B$43,">="&($A73+4))>0,"Sperre",IF(COUNTIF(Einstellungen!$A$47:$A$50,($A73+4))>0,"Nachschr.",""))))) | H73: =IF($A73="","",IF(COUNTIF($A$8:$A$67,($A73+5))>0,IF(INDEX($C$8:$C$67,MATCH(($A73+5),$A$8:$A$67,0))="","?",INDEX($C$8:$C$67,MATCH(($A73+5),$A$8:$A$67,0)))&IF(COUNTIF($A$8:$A$67,($A73+5))>1," +"&(COUNTIF($A$8:$A$67,($A73+5))-1),""),IF(COUNTIFS(Einstellungen!$A$23:$A$34,"<="&($A73+5),Einstellungen!$B$23:$B$34,">="&($A73+5))>0,"Ferien",IF(COUNTIFS(Einstellungen!$A$38:$A$43,"<="&($A73+5),Einstellungen!$B$38:$B$43,">="&($A73+5))>0,"Sperre",IF(COUNTIF(Einstellungen!$A$47:$A$50,($A73+5))>0,"Nachschr.",""))))) | I73: =IF(A73="","",COUNTIFS($I$8:$I$67,A73,$D$8:$D$67,"Klassenarbeit")) | J73: =IF(A73="","",IF(A73<=Einstellungen!$C$6,1,2))
A74: =IF(A73="","",IF(A73+7>Einstellungen!$C$7,"",A73+7)) | B74: =IF(A74="","",WEEKNUM(A74,21)) | C74: =IF($A74="","",IF(COUNTIF($A$8:$A$67,($A74+0))>0,IF(INDEX($C$8:$C$67,MATCH(($A74+0),$A$8:$A$67,0))="","?",INDEX($C$8:$C$67,MATCH(($A74+0),$A$8:$A$67,0)))&IF(COUNTIF($A$8:$A$67,($A74+0))>1," +"&(COUNTIF($A$8:$A$67,($A74+0))-1),""),IF(COUNTIFS(Einstellungen!$A$23:$A$34,"<="&($A74+0),Einstellungen!$B$23:$B$34,">="&($A74+0))>0,"Ferien",IF(COUNTIFS(Einstellungen!$A$38:$A$43,"<="&($A74+0),Einstellungen!$B$38:$B$43,">="&($A74+0))>0,"Sperre",IF(COUNTIF(Einstellungen!$A$47:$A$50,($A74+0))>0,"Nachschr.",""))))) | D74: =IF($A74="","",IF(COUNTIF($A$8:$A$67,($A74+1))>0,IF(INDEX($C$8:$C$67,MATCH(($A74+1),$A$8:$A$67,0))="","?",INDEX($C$8:$C$67,MATCH(($A74+1),$A$8:$A$67,0)))&IF(COUNTIF($A$8:$A$67,($A74+1))>1," +"&(COUNTIF($A$8:$A$67,($A74+1))-1),""),IF(COUNTIFS(Einstellungen!$A$23:$A$34,"<="&($A74+1),Einstellungen!$B$23:$B$34,">="&($A74+1))>0,"Ferien",IF(COUNTIFS(Einstellungen!$A$38:$A$43,"<="&($A74+1),Einstellungen!$B$38:$B$43,">="&($A74+1))>0,"Sperre",IF(COUNTIF(Einstellungen!$A$47:$A$50,($A74+1))>0,"Nachschr.",""))))) | E74: =IF($A74="","",IF(COUNTIF($A$8:$A$67,($A74+2))>0,IF(INDEX($C$8:$C$67,MATCH(($A74+2),$A$8:$A$67,0))="","?",INDEX($C$8:$C$67,MATCH(($A74+2),$A$8:$A$67,0)))&IF(COUNTIF($A$8:$A$67,($A74+2))>1," +"&(COUNTIF($A$8:$A$67,($A74+2))-1),""),IF(COUNTIFS(Einstellungen!$A$23:$A$34,"<="&($A74+2),Einstellungen!$B$23:$B$34,">="&($A74+2))>0,"Ferien",IF(COUNTIFS(Einstellungen!$A$38:$A$43,"<="&($A74+2),Einstellungen!$B$38:$B$43,">="&($A74+2))>0,"Sperre",IF(COUNTIF(Einstellungen!$A$47:$A$50,($A74+2))>0,"Nachschr.",""))))) | F74: =IF($A74="","",IF(COUNTIF($A$8:$A$67,($A74+3))>0,IF(INDEX($C$8:$C$67,MATCH(($A74+3),$A$8:$A$67,0))="","?",INDEX($C$8:$C$67,MATCH(($A74+3),$A$8:$A$67,0)))&IF(COUNTIF($A$8:$A$67,($A74+3))>1," +"&(COUNTIF($A$8:$A$67,($A74+3))-1),""),IF(COUNTIFS(Einstellungen!$A$23:$A$34,"<="&($A74+3),Einstellungen!$B$23:$B$34,">="&($A74+3))>0,"Ferien",IF(COUNTIFS(Einstellungen!$A$38:$A$43,"<="&($A74+3),Einstellungen!$B$38:$B$43,">="&($A74+3))>0,"Sperre",IF(COUNTIF(Einstellungen!$A$47:$A$50,($A74+3))>0,"Nachschr.",""))))) | G74: =IF($A74="","",IF(COUNTIF($A$8:$A$67,($A74+4))>0,IF(INDEX($C$8:$C$67,MATCH(($A74+4),$A$8:$A$67,0))="","?",INDEX($C$8:$C$67,MATCH(($A74+4),$A$8:$A$67,0)))&IF(COUNTIF($A$8:$A$67,($A74+4))>1," +"&(COUNTIF($A$8:$A$67,($A74+4))-1),""),IF(COUNTIFS(Einstellungen!$A$23:$A$34,"<="&($A74+4),Einstellungen!$B$23:$B$34,">="&($A74+4))>0,"Ferien",IF(COUNTIFS(Einstellungen!$A$38:$A$43,"<="&($A74+4),Einstellungen!$B$38:$B$43,">="&($A74+4))>0,"Sperre",IF(COUNTIF(Einstellungen!$A$47:$A$50,($A74+4))>0,"Nachschr.",""))))) | H74: =IF($A74="","",IF(COUNTIF($A$8:$A$67,($A74+5))>0,IF(INDEX($C$8:$C$67,MATCH(($A74+5),$A$8:$A$67,0))="","?",INDEX($C$8:$C$67,MATCH(($A74+5),$A$8:$A$67,0)))&IF(COUNTIF($A$8:$A$67,($A74+5))>1," +"&(COUNTIF($A$8:$A$67,($A74+5))-1),""),IF(COUNTIFS(Einstellungen!$A$23:$A$34,"<="&($A74+5),Einstellungen!$B$23:$B$34,">="&($A74+5))>0,"Ferien",IF(COUNTIFS(Einstellungen!$A$38:$A$43,"<="&($A74+5),Einstellungen!$B$38:$B$43,">="&($A74+5))>0,"Sperre",IF(COUNTIF(Einstellungen!$A$47:$A$50,($A74+5))>0,"Nachschr.",""))))) | I74: =IF(A74="","",COUNTIFS($I$8:$I$67,A74,$D$8:$D$67,"Klassenarbeit")) | J74: =IF(A74="","",IF(A74<=Einstellungen!$C$6,1,2))
A75: =IF(A74="","",IF(A74+7>Einstellungen!$C$7,"",A74+7)) | B75: =IF(A75="","",WEEKNUM(A75,21)) | C75: =IF($A75="","",IF(COUNTIF($A$8:$A$67,($A75+0))>0,IF(INDEX($C$8:$C$67,MATCH(($A75+0),$A$8:$A$67,0))="","?",INDEX($C$8:$C$67,MATCH(($A75+0),$A$8:$A$67,0)))&IF(COUNTIF($A$8:$A$67,($A75+0))>1," +"&(COUNTIF($A$8:$A$67,($A75+0))-1),""),IF(COUNTIFS(Einstellungen!$A$23:$A$34,"<="&($A75+0),Einstellungen!$B$23:$B$34,">="&($A75+0))>0,"Ferien",IF(COUNTIFS(Einstellungen!$A$38:$A$43,"<="&($A75+0),Einstellungen!$B$38:$B$43,">="&($A75+0))>0,"Sperre",IF(COUNTIF(Einstellungen!$A$47:$A$50,($A75+0))>0,"Nachschr.",""))))) | D75: =IF($A75="","",IF(COUNTIF($A$8:$A$67,($A75+1))>0,IF(INDEX($C$8:$C$67,MATCH(($A75+1),$A$8:$A$67,0))="","?",INDEX($C$8:$C$67,MATCH(($A75+1),$A$8:$A$67,0)))&IF(COUNTIF($A$8:$A$67,($A75+1))>1," +"&(COUNTIF($A$8:$A$67,($A75+1))-1),""),IF(COUNTIFS(Einstellungen!$A$23:$A$34,"<="&($A75+1),Einstellungen!$B$23:$B$34,">="&($A75+1))>0,"Ferien",IF(COUNTIFS(Einstellungen!$A$38:$A$43,"<="&($A75+1),Einstellungen!$B$38:$B$43,">="&($A75+1))>0,"Sperre",IF(COUNTIF(Einstellungen!$A$47:$A$50,($A75+1))>0,"Nachschr.",""))))) | E75: =IF($A75="","",IF(COUNTIF($A$8:$A$67,($A75+2))>0,IF(INDEX($C$8:$C$67,MATCH(($A75+2),$A$8:$A$67,0))="","?",INDEX($C$8:$C$67,MATCH(($A75+2),$A$8:$A$67,0)))&IF(COUNTIF($A$8:$A$67,($A75+2))>1," +"&(COUNTIF($A$8:$A$67,($A75+2))-1),""),IF(COUNTIFS(Einstellungen!$A$23:$A$34,"<="&($A75+2),Einstellungen!$B$23:$B$34,">="&($A75+2))>0,"Ferien",IF(COUNTIFS(Einstellungen!$A$38:$A$43,"<="&($A75+2),Einstellungen!$B$38:$B$43,">="&($A75+2))>0,"Sperre",IF(COUNTIF(Einstellungen!$A$47:$A$50,($A75+2))>0,"Nachschr.",""))))) | F75: =IF($A75="","",IF(COUNTIF($A$8:$A$67,($A75+3))>0,IF(INDEX($C$8:$C$67,MATCH(($A75+3),$A$8:$A$67,0))="","?",INDEX($C$8:$C$67,MATCH(($A75+3),$A$8:$A$67,0)))&IF(COUNTIF($A$8:$A$67,($A75+3))>1," +"&(COUNTIF($A$8:$A$67,($A75+3))-1),""),IF(COUNTIFS(Einstellungen!$A$23:$A$34,"<="&($A75+3),Einstellungen!$B$23:$B$34,">="&($A75+3))>0,"Ferien",IF(COUNTIFS(Einstellungen!$A$38:$A$43,"<="&($A75+3),Einstellungen!$B$38:$B$43,">="&($A75+3))>0,"Sperre",IF(COUNTIF(Einstellungen!$A$47:$A$50,($A75+3))>0,"Nachschr.",""))))) | G75: =IF($A75="","",IF(COUNTIF($A$8:$A$67,($A75+4))>0,IF(INDEX($C$8:$C$67,MATCH(($A75+4),$A$8:$A$67,0))="","?",INDEX($C$8:$C$67,MATCH(($A75+4),$A$8:$A$67,0)))&IF(COUNTIF($A$8:$A$67,($A75+4))>1," +"&(COUNTIF($A$8:$A$67,($A75+4))-1),""),IF(COUNTIFS(Einstellungen!$A$23:$A$34,"<="&($A75+4),Einstellungen!$B$23:$B$34,">="&($A75+4))>0,"Ferien",IF(COUNTIFS(Einstellungen!$A$38:$A$43,"<="&($A75+4),Einstellungen!$B$38:$B$43,">="&($A75+4))>0,"Sperre",IF(COUNTIF(Einstellungen!$A$47:$A$50,($A75+4))>0,"Nachschr.",""))))) | H75: =IF($A75="","",IF(COUNTIF($A$8:$A$67,($A75+5))>0,IF(INDEX($C$8:$C$67,MATCH(($A75+5),$A$8:$A$67,0))="","?",INDEX($C$8:$C$67,MATCH(($A75+5),$A$8:$A$67,0)))&IF(COUNTIF($A$8:$A$67,($A75+5))>1," +"&(COUNTIF($A$8:$A$67,($A75+5))-1),""),IF(COUNTIFS(Einstellungen!$A$23:$A$34,"<="&($A75+5),Einstellungen!$B$23:$B$34,">="&($A75+5))>0,"Ferien",IF(COUNTIFS(Einstellungen!$A$38:$A$43,"<="&($A75+5),Einstellungen!$B$38:$B$43,">="&($A75+5))>0,"Sperre",IF(COUNTIF(Einstellungen!$A$47:$A$50,($A75+5))>0,"Nachschr.",""))))) | I75: =IF(A75="","",COUNTIFS($I$8:$I$67,A75,$D$8:$D$67,"Klassenarbeit")) | J75: =IF(A75="","",IF(A75<=Einstellungen!$C$6,1,2))
A76: =IF(A75="","",IF(A75+7>Einstellungen!$C$7,"",A75+7)) | B76: =IF(A76="","",WEEKNUM(A76,21)) | C76: =IF($A76="","",IF(COUNTIF($A$8:$A$67,($A76+0))>0,IF(INDEX($C$8:$C$67,MATCH(($A76+0),$A$8:$A$67,0))="","?",INDEX($C$8:$C$67,MATCH(($A76+0),$A$8:$A$67,0)))&IF(COUNTIF($A$8:$A$67,($A76+0))>1," +"&(COUNTIF($A$8:$A$67,($A76+0))-1),""),IF(COUNTIFS(Einstellungen!$A$23:$A$34,"<="&($A76+0),Einstellungen!$B$23:$B$34,">="&($A76+0))>0,"Ferien",IF(COUNTIFS(Einstellungen!$A$38:$A$43,"<="&($A76+0),Einstellungen!$B$38:$B$43,">="&($A76+0))>0,"Sperre",IF(COUNTIF(Einstellungen!$A$47:$A$50,($A76+0))>0,"Nachschr.",""))))) | D76: =IF($A76="","",IF(COUNTIF($A$8:$A$67,($A76+1))>0,IF(INDEX($C$8:$C$67,MATCH(($A76+1),$A$8:$A$67,0))="","?",INDEX($C$8:$C$67,MATCH(($A76+1),$A$8:$A$67,0)))&IF(COUNTIF($A$8:$A$67,($A76+1))>1," +"&(COUNTIF($A$8:$A$67,($A76+1))-1),""),IF(COUNTIFS(Einstellungen!$A$23:$A$34,"<="&($A76+1),Einstellungen!$B$23:$B$34,">="&($A76+1))>0,"Ferien",IF(COUNTIFS(Einstellungen!$A$38:$A$43,"<="&($A76+1),Einstellungen!$B$38:$B$43,">="&($A76+1))>0,"Sperre",IF(COUNTIF(Einstellungen!$A$47:$A$50,($A76+1))>0,"Nachschr.",""))))) | E76: =IF($A76="","",IF(COUNTIF($A$8:$A$67,($A76+2))>0,IF(INDEX($C$8:$C$67,MATCH(($A76+2),$A$8:$A$67,0))="","?",INDEX($C$8:$C$67,MATCH(($A76+2),$A$8:$A$67,0)))&IF(COUNTIF($A$8:$A$67,($A76+2))>1," +"&(COUNTIF($A$8:$A$67,($A76+2))-1),""),IF(COUNTIFS(Einstellungen!$A$23:$A$34,"<="&($A76+2),Einstellungen!$B$23:$B$34,">="&($A76+2))>0,"Ferien",IF(COUNTIFS(Einstellungen!$A$38:$A$43,"<="&($A76+2),Einstellungen!$B$38:$B$43,">="&($A76+2))>0,"Sperre",IF(COUNTIF(Einstellungen!$A$47:$A$50,($A76+2))>0,"Nachschr.",""))))) | F76: =IF($A76="","",IF(COUNTIF($A$8:$A$67,($A76+3))>0,IF(INDEX($C$8:$C$67,MATCH(($A76+3),$A$8:$A$67,0))="","?",INDEX($C$8:$C$67,MATCH(($A76+3),$A$8:$A$67,0)))&IF(COUNTIF($A$8:$A$67,($A76+3))>1," +"&(COUNTIF($A$8:$A$67,($A76+3))-1),""),IF(COUNTIFS(Einstellungen!$A$23:$A$34,"<="&($A76+3),Einstellungen!$B$23:$B$34,">="&($A76+3))>0,"Ferien",IF(COUNTIFS(Einstellungen!$A$38:$A$43,"<="&($A76+3),Einstellungen!$B$38:$B$43,">="&($A76+3))>0,"Sperre",IF(COUNTIF(Einstellungen!$A$47:$A$50,($A76+3))>0,"Nachschr.",""))))) | G76: =IF($A76="","",IF(COUNTIF($A$8:$A$67,($A76+4))>0,IF(INDEX($C$8:$C$67,MATCH(($A76+4),$A$8:$A$67,0))="","?",INDEX($C$8:$C$67,MATCH(($A76+4),$A$8:$A$67,0)))&IF(COUNTIF($A$8:$A$67,($A76+4))>1," +"&(COUNTIF($A$8:$A$67,($A76+4))-1),""),IF(COUNTIFS(Einstellungen!$A$23:$A$34,"<="&($A76+4),Einstellungen!$B$23:$B$34,">="&($A76+4))>0,"Ferien",IF(COUNTIFS(Einstellungen!$A$38:$A$43,"<="&($A76+4),Einstellungen!$B$38:$B$43,">="&($A76+4))>0,"Sperre",IF(COUNTIF(Einstellungen!$A$47:$A$50,($A76+4))>0,"Nachschr.",""))))) | H76: =IF($A76="","",IF(COUNTIF($A$8:$A$67,($A76+5))>0,IF(INDEX($C$8:$C$67,MATCH(($A76+5),$A$8:$A$67,0))="","?",INDEX($C$8:$C$67,MATCH(($A76+5),$A$8:$A$67,0)))&IF(COUNTIF($A$8:$A$67,($A76+5))>1," +"&(COUNTIF($A$8:$A$67,($A76+5))-1),""),IF(COUNTIFS(Einstellungen!$A$23:$A$34,"<="&($A76+5),Einstellungen!$B$23:$B$34,">="&($A76+5))>0,"Ferien",IF(COUNTIFS(Einstellungen!$A$38:$A$43,"<="&($A76+5),Einstellungen!$B$38:$B$43,">="&($A76+5))>0,"Sperre",IF(COUNTIF(Einstellungen!$A$47:$A$50,($A76+5))>0,"Nachschr.",""))))) | I76: =IF(A76="","",COUNTIFS($I$8:$I$67,A76,$D$8:$D$67,"Klassenarbeit")) | J76: =IF(A76="","",IF(A76<=Einstellungen!$C$6,1,2))
A77: =IF(A76="","",IF(A76+7>Einstellungen!$C$7,"",A76+7)) | B77: =IF(A77="","",WEEKNUM(A77,21)) | C77: =IF($A77="","",IF(COUNTIF($A$8:$A$67,($A77+0))>0,IF(INDEX($C$8:$C$67,MATCH(($A77+0),$A$8:$A$67,0))="","?",INDEX($C$8:$C$67,MATCH(($A77+0),$A$8:$A$67,0)))&IF(COUNTIF($A$8:$A$67,($A77+0))>1," +"&(COUNTIF($A$8:$A$67,($A77+0))-1),""),IF(COUNTIFS(Einstellungen!$A$23:$A$34,"<="&($A77+0),Einstellungen!$B$23:$B$34,">="&($A77+0))>0,"Ferien",IF(COUNTIFS(Einstellungen!$A$38:$A$43,"<="&($A77+0),Einstellungen!$B$38:$B$43,">="&($A77+0))>0,"Sperre",IF(COUNTIF(Einstellungen!$A$47:$A$50,($A77+0))>0,"Nachschr.",""))))) | D77: =IF($A77="","",IF(COUNTIF($A$8:$A$67,($A77+1))>0,IF(INDEX($C$8:$C$67,MATCH(($A77+1),$A$8:$A$67,0))="","?",INDEX($C$8:$C$67,MATCH(($A77+1),$A$8:$A$67,0)))&IF(COUNTIF($A$8:$A$67,($A77+1))>1," +"&(COUNTIF($A$8:$A$67,($A77+1))-1),""),IF(COUNTIFS(Einstellungen!$A$23:$A$34,"<="&($A77+1),Einstellungen!$B$23:$B$34,">="&($A77+1))>0,"Ferien",IF(COUNTIFS(Einstellungen!$A$38:$A$43,"<="&($A77+1),Einstellungen!$B$38:$B$43,">="&($A77+1))>0,"Sperre",IF(COUNTIF(Einstellungen!$A$47:$A$50,($A77+1))>0,"Nachschr.",""))))) | E77: =IF($A77="","",IF(COUNTIF($A$8:$A$67,($A77+2))>0,IF(INDEX($C$8:$C$67,MATCH(($A77+2),$A$8:$A$67,0))="","?",INDEX($C$8:$C$67,MATCH(($A77+2),$A$8:$A$67,0)))&IF(COUNTIF($A$8:$A$67,($A77+2))>1," +"&(COUNTIF($A$8:$A$67,($A77+2))-1),""),IF(COUNTIFS(Einstellungen!$A$23:$A$34,"<="&($A77+2),Einstellungen!$B$23:$B$34,">="&($A77+2))>0,"Ferien",IF(COUNTIFS(Einstellungen!$A$38:$A$43,"<="&($A77+2),Einstellungen!$B$38:$B$43,">="&($A77+2))>0,"Sperre",IF(COUNTIF(Einstellungen!$A$47:$A$50,($A77+2))>0,"Nachschr.",""))))) | F77: =IF($A77="","",IF(COUNTIF($A$8:$A$67,($A77+3))>0,IF(INDEX($C$8:$C$67,MATCH(($A77+3),$A$8:$A$67,0))="","?",INDEX($C$8:$C$67,MATCH(($A77+3),$A$8:$A$67,0)))&IF(COUNTIF($A$8:$A$67,($A77+3))>1," +"&(COUNTIF($A$8:$A$67,($A77+3))-1),""),IF(COUNTIFS(Einstellungen!$A$23:$A$34,"<="&($A77+3),Einstellungen!$B$23:$B$34,">="&($A77+3))>0,"Ferien",IF(COUNTIFS(Einstellungen!$A$38:$A$43,"<="&($A77+3),Einstellungen!$B$38:$B$43,">="&($A77+3))>0,"Sperre",IF(COUNTIF(Einstellungen!$A$47:$A$50,($A77+3))>0,"Nachschr.",""))))) | G77: =IF($A77="","",IF(COUNTIF($A$8:$A$67,($A77+4))>0,IF(INDEX($C$8:$C$67,MATCH(($A77+4),$A$8:$A$67,0))="","?",INDEX($C$8:$C$67,MATCH(($A77+4),$A$8:$A$67,0)))&IF(COUNTIF($A$8:$A$67,($A77+4))>1," +"&(COUNTIF($A$8:$A$67,($A77+4))-1),""),IF(COUNTIFS(Einstellungen!$A$23:$A$34,"<="&($A77+4),Einstellungen!$B$23:$B$34,">="&($A77+4))>0,"Ferien",IF(COUNTIFS(Einstellungen!$A$38:$A$43,"<="&($A77+4),Einstellungen!$B$38:$B$43,">="&($A77+4))>0,"Sperre",IF(COUNTIF(Einstellungen!$A$47:$A$50,($A77+4))>0,"Nachschr.",""))))) | H77: =IF($A77="","",IF(COUNTIF($A$8:$A$67,($A77+5))>0,IF(INDEX($C$8:$C$67,MATCH(($A77+5),$A$8:$A$67,0))="","?",INDEX($C$8:$C$67,MATCH(($A77+5),$A$8:$A$67,0)))&IF(COUNTIF($A$8:$A$67,($A77+5))>1," +"&(COUNTIF($A$8:$A$67,($A77+5))-1),""),IF(COUNTIFS(Einstellungen!$A$23:$A$34,"<="&($A77+5),Einstellungen!$B$23:$B$34,">="&($A77+5))>0,"Ferien",IF(COUNTIFS(Einstellungen!$A$38:$A$43,"<="&($A77+5),Einstellungen!$B$38:$B$43,">="&($A77+5))>0,"Sperre",IF(COUNTIF(Einstellungen!$A$47:$A$50,($A77+5))>0,"Nachschr.",""))))) | I77: =IF(A77="","",COUNTIFS($I$8:$I$67,A77,$D$8:$D$67,"Klassenarbeit")) | J77: =IF(A77="","",IF(A77<=Einstellungen!$C$6,1,2))
A78: =IF(A77="","",IF(A77+7>Einstellungen!$C$7,"",A77+7)) | B78: =IF(A78="","",WEEKNUM(A78,21)) | C78: =IF($A78="","",IF(COUNTIF($A$8:$A$67,($A78+0))>0,IF(INDEX($C$8:$C$67,MATCH(($A78+0),$A$8:$A$67,0))="","?",INDEX($C$8:$C$67,MATCH(($A78+0),$A$8:$A$67,0)))&IF(COUNTIF($A$8:$A$67,($A78+0))>1," +"&(COUNTIF($A$8:$A$67,($A78+0))-1),""),IF(COUNTIFS(Einstellungen!$A$23:$A$34,"<="&($A78+0),Einstellungen!$B$23:$B$34,">="&($A78+0))>0,"Ferien",IF(COUNTIFS(Einstellungen!$A$38:$A$43,"<="&($A78+0),Einstellungen!$B$38:$B$43,">="&($A78+0))>0,"Sperre",IF(COUNTIF(Einstellungen!$A$47:$A$50,($A78+0))>0,"Nachschr.",""))))) | D78: =IF($A78="","",IF(COUNTIF($A$8:$A$67,($A78+1))>0,IF(INDEX($C$8:$C$67,MATCH(($A78+1),$A$8:$A$67,0))="","?",INDEX($C$8:$C$67,MATCH(($A78+1),$A$8:$A$67,0)))&IF(COUNTIF($A$8:$A$67,($A78+1))>1," +"&(COUNTIF($A$8:$A$67,($A78+1))-1),""),IF(COUNTIFS(Einstellungen!$A$23:$A$34,"<="&($A78+1),Einstellungen!$B$23:$B$34,">="&($A78+1))>0,"Ferien",IF(COUNTIFS(Einstellungen!$A$38:$A$43,"<="&($A78+1),Einstellungen!$B$38:$B$43,">="&($A78+1))>0,"Sperre",IF(COUNTIF(Einstellungen!$A$47:$A$50,($A78+1))>0,"Nachschr.",""))))) | E78: =IF($A78="","",IF(COUNTIF($A$8:$A$67,($A78+2))>0,IF(INDEX($C$8:$C$67,MATCH(($A78+2),$A$8:$A$67,0))="","?",INDEX($C$8:$C$67,MATCH(($A78+2),$A$8:$A$67,0)))&IF(COUNTIF($A$8:$A$67,($A78+2))>1," +"&(COUNTIF($A$8:$A$67,($A78+2))-1),""),IF(COUNTIFS(Einstellungen!$A$23:$A$34,"<="&($A78+2),Einstellungen!$B$23:$B$34,">="&($A78+2))>0,"Ferien",IF(COUNTIFS(Einstellungen!$A$38:$A$43,"<="&($A78+2),Einstellungen!$B$38:$B$43,">="&($A78+2))>0,"Sperre",IF(COUNTIF(Einstellungen!$A$47:$A$50,($A78+2))>0,"Nachschr.",""))))) | F78: =IF($A78="","",IF(COUNTIF($A$8:$A$67,($A78+3))>0,IF(INDEX($C$8:$C$67,MATCH(($A78+3),$A$8:$A$67,0))="","?",INDEX($C$8:$C$67,MATCH(($A78+3),$A$8:$A$67,0)))&IF(COUNTIF($A$8:$A$67,($A78+3))>1," +"&(COUNTIF($A$8:$A$67,($A78+3))-1),""),IF(COUNTIFS(Einstellungen!$A$23:$A$34,"<="&($A78+3),Einstellungen!$B$23:$B$34,">="&($A78+3))>0,"Ferien",IF(COUNTIFS(Einstellungen!$A$38:$A$43,"<="&($A78+3),Einstellungen!$B$38:$B$43,">="&($A78+3))>0,"Sperre",IF(COUNTIF(Einstellungen!$A$47:$A$50,($A78+3))>0,"Nachschr.",""))))) | G78: =IF($A78="","",IF(COUNTIF($A$8:$A$67,($A78+4))>0,IF(INDEX($C$8:$C$67,MATCH(($A78+4),$A$8:$A$67,0))="","?",INDEX($C$8:$C$67,MATCH(($A78+4),$A$8:$A$67,0)))&IF(COUNTIF($A$8:$A$67,($A78+4))>1," +"&(COUNTIF($A$8:$A$67,($A78+4))-1),""),IF(COUNTIFS(Einstellungen!$A$23:$A$34,"<="&($A78+4),Einstellungen!$B$23:$B$34,">="&($A78+4))>0,"Ferien",IF(COUNTIFS(Einstellungen!$A$38:$A$43,"<="&($A78+4),Einstellungen!$B$38:$B$43,">="&($A78+4))>0,"Sperre",IF(COUNTIF(Einstellungen!$A$47:$A$50,($A78+4))>0,"Nachschr.",""))))) | H78: =IF($A78="","",IF(COUNTIF($A$8:$A$67,($A78+5))>0,IF(INDEX($C$8:$C$67,MATCH(($A78+5),$A$8:$A$67,0))="","?",INDEX($C$8:$C$67,MATCH(($A78+5),$A$8:$A$67,0)))&IF(COUNTIF($A$8:$A$67,($A78+5))>1," +"&(COUNTIF($A$8:$A$67,($A78+5))-1),""),IF(COUNTIFS(Einstellungen!$A$23:$A$34,"<="&($A78+5),Einstellungen!$B$23:$B$34,">="&($A78+5))>0,"Ferien",IF(COUNTIFS(Einstellungen!$A$38:$A$43,"<="&($A78+5),Einstellungen!$B$38:$B$43,">="&($A78+5))>0,"Sperre",IF(COUNTIF(Einstellungen!$A$47:$A$50,($A78+5))>0,"Nachschr.",""))))) | I78: =IF(A78="","",COUNTIFS($I$8:$I$67,A78,$D$8:$D$67,"Klassenarbeit")) | J78: =IF(A78="","",IF(A78<=Einstellungen!$C$6,1,2))
A79: =IF(A78="","",IF(A78+7>Einstellungen!$C$7,"",A78+7)) | B79: =IF(A79="","",WEEKNUM(A79,21)) | C79: =IF($A79="","",IF(COUNTIF($A$8:$A$67,($A79+0))>0,IF(INDEX($C$8:$C$67,MATCH(($A79+0),$A$8:$A$67,0))="","?",INDEX($C$8:$C$67,MATCH(($A79+0),$A$8:$A$67,0)))&IF(COUNTIF($A$8:$A$67,($A79+0))>1," +"&(COUNTIF($A$8:$A$67,($A79+0))-1),""),IF(COUNTIFS(Einstellungen!$A$23:$A$34,"<="&($A79+0),Einstellungen!$B$23:$B$34,">="&($A79+0))>0,"Ferien",IF(COUNTIFS(Einstellungen!$A$38:$A$43,"<="&($A79+0),Einstellungen!$B$38:$B$43,">="&($A79+0))>0,"Sperre",IF(COUNTIF(Einstellungen!$A$47:$A$50,($A79+0))>0,"Nachschr.",""))))) | D79: =IF($A79="","",IF(COUNTIF($A$8:$A$67,($A79+1))>0,IF(INDEX($C$8:$C$67,MATCH(($A79+1),$A$8:$A$67,0))="","?",INDEX($C$8:$C$67,MATCH(($A79+1),$A$8:$A$67,0)))&IF(COUNTIF($A$8:$A$67,($A79+1))>1," +"&(COUNTIF($A$8:$A$67,($A79+1))-1),""),IF(COUNTIFS(Einstellungen!$A$23:$A$34,"<="&($A79+1),Einstellungen!$B$23:$B$34,">="&($A79+1))>0,"Ferien",IF(COUNTIFS(Einstellungen!$A$38:$A$43,"<="&($A79+1),Einstellungen!$B$38:$B$43,">="&($A79+1))>0,"Sperre",IF(COUNTIF(Einstellungen!$A$47:$A$50,($A79+1))>0,"Nachschr.",""))))) | E79: =IF($A79="","",IF(COUNTIF($A$8:$A$67,($A79+2))>0,IF(INDEX($C$8:$C$67,MATCH(($A79+2),$A$8:$A$67,0))="","?",INDEX($C$8:$C$67,MATCH(($A79+2),$A$8:$A$67,0)))&IF(COUNTIF($A$8:$A$67,($A79+2))>1," +"&(COUNTIF($A$8:$A$67,($A79+2))-1),""),IF(COUNTIFS(Einstellungen!$A$23:$A$34,"<="&($A79+2),Einstellungen!$B$23:$B$34,">="&($A79+2))>0,"Ferien",IF(COUNTIFS(Einstellungen!$A$38:$A$43,"<="&($A79+2),Einstellungen!$B$38:$B$43,">="&($A79+2))>0,"Sperre",IF(COUNTIF(Einstellungen!$A$47:$A$50,($A79+2))>0,"Nachschr.",""))))) | F79: =IF($A79="","",IF(COUNTIF($A$8:$A$67,($A79+3))>0,IF(INDEX($C$8:$C$67,MATCH(($A79+3),$A$8:$A$67,0))="","?",INDEX($C$8:$C$67,MATCH(($A79+3),$A$8:$A$67,0)))&IF(COUNTIF($A$8:$A$67,($A79+3))>1," +"&(COUNTIF($A$8:$A$67,($A79+3))-1),""),IF(COUNTIFS(Einstellungen!$A$23:$A$34,"<="&($A79+3),Einstellungen!$B$23:$B$34,">="&($A79+3))>0,"Ferien",IF(COUNTIFS(Einstellungen!$A$38:$A$43,"<="&($A79+3),Einstellungen!$B$38:$B$43,">="&($A79+3))>0,"Sperre",IF(COUNTIF(Einstellungen!$A$47:$A$50,($A79+3))>0,"Nachschr.",""))))) | G79: =IF($A79="","",IF(COUNTIF($A$8:$A$67,($A79+4))>0,IF(INDEX($C$8:$C$67,MATCH(($A79+4),$A$8:$A$67,0))="","?",INDEX($C$8:$C$67,MATCH(($A79+4),$A$8:$A$67,0)))&IF(COUNTIF($A$8:$A$67,($A79+4))>1," +"&(COUNTIF($A$8:$A$67,($A79+4))-1),""),IF(COUNTIFS(Einstellungen!$A$23:$A$34,"<="&($A79+4),Einstellungen!$B$23:$B$34,">="&($A79+4))>0,"Ferien",IF(COUNTIFS(Einstellungen!$A$38:$A$43,"<="&($A79+4),Einstellungen!$B$38:$B$43,">="&($A79+4))>0,"Sperre",IF(COUNTIF(Einstellungen!$A$47:$A$50,($A79+4))>0,"Nachschr.",""))))) | H79: =IF($A79="","",IF(COUNTIF($A$8:$A$67,($A79+5))>0,IF(INDEX($C$8:$C$67,MATCH(($A79+5),$A$8:$A$67,0))="","?",INDEX($C$8:$C$67,MATCH(($A79+5),$A$8:$A$67,0)))&IF(COUNTIF($A$8:$A$67,($A79+5))>1," +"&(COUNTIF($A$8:$A$67,($A79+5))-1),""),IF(COUNTIFS(Einstellungen!$A$23:$A$34,"<="&($A79+5),Einstellungen!$B$23:$B$34,">="&($A79+5))>0,"Ferien",IF(COUNTIFS(Einstellungen!$A$38:$A$43,"<="&($A79+5),Einstellungen!$B$38:$B$43,">="&($A79+5))>0,"Sperre",IF(COUNTIF(Einstellungen!$A$47:$A$50,($A79+5))>0,"Nachschr.",""))))) | I79: =IF(A79="","",COUNTIFS($I$8:$I$67,A79,$D$8:$D$67,"Klassenarbeit")) | J79: =IF(A79="","",IF(A79<=Einstellungen!$C$6,1,2))
A80: =IF(A79="","",IF(A79+7>Einstellungen!$C$7,"",A79+7)) | B80: =IF(A80="","",WEEKNUM(A80,21)) | C80: =IF($A80="","",IF(COUNTIF($A$8:$A$67,($A80+0))>0,IF(INDEX($C$8:$C$67,MATCH(($A80+0),$A$8:$A$67,0))="","?",INDEX($C$8:$C$67,MATCH(($A80+0),$A$8:$A$67,0)))&IF(COUNTIF($A$8:$A$67,($A80+0))>1," +"&(COUNTIF($A$8:$A$67,($A80+0))-1),""),IF(COUNTIFS(Einstellungen!$A$23:$A$34,"<="&($A80+0),Einstellungen!$B$23:$B$34,">="&($A80+0))>0,"Ferien",IF(COUNTIFS(Einstellungen!$A$38:$A$43,"<="&($A80+0),Einstellungen!$B$38:$B$43,">="&($A80+0))>0,"Sperre",IF(COUNTIF(Einstellungen!$A$47:$A$50,($A80+0))>0,"Nachschr.",""))))) | D80: =IF($A80="","",IF(COUNTIF($A$8:$A$67,($A80+1))>0,IF(INDEX($C$8:$C$67,MATCH(($A80+1),$A$8:$A$67,0))="","?",INDEX($C$8:$C$67,MATCH(($A80+1),$A$8:$A$67,0)))&IF(COUNTIF($A$8:$A$67,($A80+1))>1," +"&(COUNTIF($A$8:$A$67,($A80+1))-1),""),IF(COUNTIFS(Einstellungen!$A$23:$A$34,"<="&($A80+1),Einstellungen!$B$23:$B$34,">="&($A80+1))>0,"Ferien",IF(COUNTIFS(Einstellungen!$A$38:$A$43,"<="&($A80+1),Einstellungen!$B$38:$B$43,">="&($A80+1))>0,"Sperre",IF(COUNTIF(Einstellungen!$A$47:$A$50,($A80+1))>0,"Nachschr.",""))))) | E80: =IF($A80="","",IF(COUNTIF($A$8:$A$67,($A80+2))>0,IF(INDEX($C$8:$C$67,MATCH(($A80+2),$A$8:$A$67,0))="","?",INDEX($C$8:$C$67,MATCH(($A80+2),$A$8:$A$67,0)))&IF(COUNTIF($A$8:$A$67,($A80+2))>1," +"&(COUNTIF($A$8:$A$67,($A80+2))-1),""),IF(COUNTIFS(Einstellungen!$A$23:$A$34,"<="&($A80+2),Einstellungen!$B$23:$B$34,">="&($A80+2))>0,"Ferien",IF(COUNTIFS(Einstellungen!$A$38:$A$43,"<="&($A80+2),Einstellungen!$B$38:$B$43,">="&($A80+2))>0,"Sperre",IF(COUNTIF(Einstellungen!$A$47:$A$50,($A80+2))>0,"Nachschr.",""))))) | F80: =IF($A80="","",IF(COUNTIF($A$8:$A$67,($A80+3))>0,IF(INDEX($C$8:$C$67,MATCH(($A80+3),$A$8:$A$67,0))="","?",INDEX($C$8:$C$67,MATCH(($A80+3),$A$8:$A$67,0)))&IF(COUNTIF($A$8:$A$67,($A80+3))>1," +"&(COUNTIF($A$8:$A$67,($A80+3))-1),""),IF(COUNTIFS(Einstellungen!$A$23:$A$34,"<="&($A80+3),Einstellungen!$B$23:$B$34,">="&($A80+3))>0,"Ferien",IF(COUNTIFS(Einstellungen!$A$38:$A$43,"<="&($A80+3),Einstellungen!$B$38:$B$43,">="&($A80+3))>0,"Sperre",IF(COUNTIF(Einstellungen!$A$47:$A$50,($A80+3))>0,"Nachschr.",""))))) | G80: =IF($A80="","",IF(COUNTIF($A$8:$A$67,($A80+4))>0,IF(INDEX($C$8:$C$67,MATCH(($A80+4),$A$8:$A$67,0))="","?",INDEX($C$8:$C$67,MATCH(($A80+4),$A$8:$A$67,0)))&IF(COUNTIF($A$8:$A$67,($A80+4))>1," +"&(COUNTIF($A$8:$A$67,($A80+4))-1),""),IF(COUNTIFS(Einstellungen!$A$23:$A$34,"<="&($A80+4),Einstellungen!$B$23:$B$34,">="&($A80+4))>0,"Ferien",IF(COUNTIFS(Einstellungen!$A$38:$A$43,"<="&($A80+4),Einstellungen!$B$38:$B$43,">="&($A80+4))>0,"Sperre",IF(COUNTIF(Einstellungen!$A$47:$A$50,($A80+4))>0,"Nachschr.",""))))) | H80: =IF($A80="","",IF(COUNTIF($A$8:$A$67,($A80+5))>0,IF(INDEX($C$8:$C$67,MATCH(($A80+5),$A$8:$A$67,0))="","?",INDEX($C$8:$C$67,MATCH(($A80+5),$A$8:$A$67,0)))&IF(COUNTIF($A$8:$A$67,($A80+5))>1," +"&(COUNTIF($A$8:$A$67,($A80+5))-1),""),IF(COUNTIFS(Einstellungen!$A$23:$A$34,"<="&($A80+5),Einstellungen!$B$23:$B$34,">="&($A80+5))>0,"Ferien",IF(COUNTIFS(Einstellungen!$A$38:$A$43,"<="&($A80+5),Einstellungen!$B$38:$B$43,">="&($A80+5))>0,"Sperre",IF(COUNTIF(Einstellungen!$A$47:$A$50,($A80+5))>0,"Nachschr.",""))))) | I80: =IF(A80="","",COUNTIFS($I$8:$I$67,A80,$D$8:$D$67,"Klassenarbeit")) | J80: =IF(A80="","",IF(A80<=Einstellungen!$C$6,1,2))
A81: =IF(A80="","",IF(A80+7>Einstellungen!$C$7,"",A80+7)) | B81: =IF(A81="","",WEEKNUM(A81,21)) | C81: =IF($A81="","",IF(COUNTIF($A$8:$A$67,($A81+0))>0,IF(INDEX($C$8:$C$67,MATCH(($A81+0),$A$8:$A$67,0))="","?",INDEX($C$8:$C$67,MATCH(($A81+0),$A$8:$A$67,0)))&IF(COUNTIF($A$8:$A$67,($A81+0))>1," +"&(COUNTIF($A$8:$A$67,($A81+0))-1),""),IF(COUNTIFS(Einstellungen!$A$23:$A$34,"<="&($A81+0),Einstellungen!$B$23:$B$34,">="&($A81+0))>0,"Ferien",IF(COUNTIFS(Einstellungen!$A$38:$A$43,"<="&($A81+0),Einstellungen!$B$38:$B$43,">="&($A81+0))>0,"Sperre",IF(COUNTIF(Einstellungen!$A$47:$A$50,($A81+0))>0,"Nachschr.",""))))) | D81: =IF($A81="","",IF(COUNTIF($A$8:$A$67,($A81+1))>0,IF(INDEX($C$8:$C$67,MATCH(($A81+1),$A$8:$A$67,0))="","?",INDEX($C$8:$C$67,MATCH(($A81+1),$A$8:$A$67,0)))&IF(COUNTIF($A$8:$A$67,($A81+1))>1," +"&(COUNTIF($A$8:$A$67,($A81+1))-1),""),IF(COUNTIFS(Einstellungen!$A$23:$A$34,"<="&($A81+1),Einstellungen!$B$23:$B$34,">="&($A81+1))>0,"Ferien",IF(COUNTIFS(Einstellungen!$A$38:$A$43,"<="&($A81+1),Einstellungen!$B$38:$B$43,">="&($A81+1))>0,"Sperre",IF(COUNTIF(Einstellungen!$A$47:$A$50,($A81+1))>0,"Nachschr.",""))))) | E81: =IF($A81="","",IF(COUNTIF($A$8:$A$67,($A81+2))>0,IF(INDEX($C$8:$C$67,MATCH(($A81+2),$A$8:$A$67,0))="","?",INDEX($C$8:$C$67,MATCH(($A81+2),$A$8:$A$67,0)))&IF(COUNTIF($A$8:$A$67,($A81+2))>1," +"&(COUNTIF($A$8:$A$67,($A81+2))-1),""),IF(COUNTIFS(Einstellungen!$A$23:$A$34,"<="&($A81+2),Einstellungen!$B$23:$B$34,">="&($A81+2))>0,"Ferien",IF(COUNTIFS(Einstellungen!$A$38:$A$43,"<="&($A81+2),Einstellungen!$B$38:$B$43,">="&($A81+2))>0,"Sperre",IF(COUNTIF(Einstellungen!$A$47:$A$50,($A81+2))>0,"Nachschr.",""))))) | F81: =IF($A81="","",IF(COUNTIF($A$8:$A$67,($A81+3))>0,IF(INDEX($C$8:$C$67,MATCH(($A81+3),$A$8:$A$67,0))="","?",INDEX($C$8:$C$67,MATCH(($A81+3),$A$8:$A$67,0)))&IF(COUNTIF($A$8:$A$67,($A81+3))>1," +"&(COUNTIF($A$8:$A$67,($A81+3))-1),""),IF(COUNTIFS(Einstellungen!$A$23:$A$34,"<="&($A81+3),Einstellungen!$B$23:$B$34,">="&($A81+3))>0,"Ferien",IF(COUNTIFS(Einstellungen!$A$38:$A$43,"<="&($A81+3),Einstellungen!$B$38:$B$43,">="&($A81+3))>0,"Sperre",IF(COUNTIF(Einstellungen!$A$47:$A$50,($A81+3))>0,"Nachschr.",""))))) | G81: =IF($A81="","",IF(COUNTIF($A$8:$A$67,($A81+4))>0,IF(INDEX($C$8:$C$67,MATCH(($A81+4),$A$8:$A$67,0))="","?",INDEX($C$8:$C$67,MATCH(($A81+4),$A$8:$A$67,0)))&IF(COUNTIF($A$8:$A$67,($A81+4))>1," +"&(COUNTIF($A$8:$A$67,($A81+4))-1),""),IF(COUNTIFS(Einstellungen!$A$23:$A$34,"<="&($A81+4),Einstellungen!$B$23:$B$34,">="&($A81+4))>0,"Ferien",IF(COUNTIFS(Einstellungen!$A$38:$A$43,"<="&($A81+4),Einstellungen!$B$38:$B$43,">="&($A81+4))>0,"Sperre",IF(COUNTIF(Einstellungen!$A$47:$A$50,($A81+4))>0,"Nachschr.",""))))) | H81: =IF($A81="","",IF(COUNTIF($A$8:$A$67,($A81+5))>0,IF(INDEX($C$8:$C$67,MATCH(($A81+5),$A$8:$A$67,0))="","?",INDEX($C$8:$C$67,MATCH(($A81+5),$A$8:$A$67,0)))&IF(COUNTIF($A$8:$A$67,($A81+5))>1," +"&(COUNTIF($A$8:$A$67,($A81+5))-1),""),IF(COUNTIFS(Einstellungen!$A$23:$A$34,"<="&($A81+5),Einstellungen!$B$23:$B$34,">="&($A81+5))>0,"Ferien",IF(COUNTIFS(Einstellungen!$A$38:$A$43,"<="&($A81+5),Einstellungen!$B$38:$B$43,">="&($A81+5))>0,"Sperre",IF(COUNTIF(Einstellungen!$A$47:$A$50,($A81+5))>0,"Nachschr.",""))))) | I81: =IF(A81="","",COUNTIFS($I$8:$I$67,A81,$D$8:$D$67,"Klassenarbeit")) | J81: =IF(A81="","",IF(A81<=Einstellungen!$C$6,1,2))
A82: =IF(A81="","",IF(A81+7>Einstellungen!$C$7,"",A81+7)) | B82: =IF(A82="","",WEEKNUM(A82,21)) | C82: =IF($A82="","",IF(COUNTIF($A$8:$A$67,($A82+0))>0,IF(INDEX($C$8:$C$67,MATCH(($A82+0),$A$8:$A$67,0))="","?",INDEX($C$8:$C$67,MATCH(($A82+0),$A$8:$A$67,0)))&IF(COUNTIF($A$8:$A$67,($A82+0))>1," +"&(COUNTIF($A$8:$A$67,($A82+0))-1),""),IF(COUNTIFS(Einstellungen!$A$23:$A$34,"<="&($A82+0),Einstellungen!$B$23:$B$34,">="&($A82+0))>0,"Ferien",IF(COUNTIFS(Einstellungen!$A$38:$A$43,"<="&($A82+0),Einstellungen!$B$38:$B$43,">="&($A82+0))>0,"Sperre",IF(COUNTIF(Einstellungen!$A$47:$A$50,($A82+0))>0,"Nachschr.",""))))) | D82: =IF($A82="","",IF(COUNTIF($A$8:$A$67,($A82+1))>0,IF(INDEX($C$8:$C$67,MATCH(($A82+1),$A$8:$A$67,0))="","?",INDEX($C$8:$C$67,MATCH(($A82+1),$A$8:$A$67,0)))&IF(COUNTIF($A$8:$A$67,($A82+1))>1," +"&(COUNTIF($A$8:$A$67,($A82+1))-1),""),IF(COUNTIFS(Einstellungen!$A$23:$A$34,"<="&($A82+1),Einstellungen!$B$23:$B$34,">="&($A82+1))>0,"Ferien",IF(COUNTIFS(Einstellungen!$A$38:$A$43,"<="&($A82+1),Einstellungen!$B$38:$B$43,">="&($A82+1))>0,"Sperre",IF(COUNTIF(Einstellungen!$A$47:$A$50,($A82+1))>0,"Nachschr.",""))))) | E82: =IF($A82="","",IF(COUNTIF($A$8:$A$67,($A82+2))>0,IF(INDEX($C$8:$C$67,MATCH(($A82+2),$A$8:$A$67,0))="","?",INDEX($C$8:$C$67,MATCH(($A82+2),$A$8:$A$67,0)))&IF(COUNTIF($A$8:$A$67,($A82+2))>1," +"&(COUNTIF($A$8:$A$67,($A82+2))-1),""),IF(COUNTIFS(Einstellungen!$A$23:$A$34,"<="&($A82+2),Einstellungen!$B$23:$B$34,">="&($A82+2))>0,"Ferien",IF(COUNTIFS(Einstellungen!$A$38:$A$43,"<="&($A82+2),Einstellungen!$B$38:$B$43,">="&($A82+2))>0,"Sperre",IF(COUNTIF(Einstellungen!$A$47:$A$50,($A82+2))>0,"Nachschr.",""))))) | F82: =IF($A82="","",IF(COUNTIF($A$8:$A$67,($A82+3))>0,IF(INDEX($C$8:$C$67,MATCH(($A82+3),$A$8:$A$67,0))="","?",INDEX($C$8:$C$67,MATCH(($A82+3),$A$8:$A$67,0)))&IF(COUNTIF($A$8:$A$67,($A82+3))>1," +"&(COUNTIF($A$8:$A$67,($A82+3))-1),""),IF(COUNTIFS(Einstellungen!$A$23:$A$34,"<="&($A82+3),Einstellungen!$B$23:$B$34,">="&($A82+3))>0,"Ferien",IF(COUNTIFS(Einstellungen!$A$38:$A$43,"<="&($A82+3),Einstellungen!$B$38:$B$43,">="&($A82+3))>0,"Sperre",IF(COUNTIF(Einstellungen!$A$47:$A$50,($A82+3))>0,"Nachschr.",""))))) | G82: =IF($A82="","",IF(COUNTIF($A$8:$A$67,($A82+4))>0,IF(INDEX($C$8:$C$67,MATCH(($A82+4),$A$8:$A$67,0))="","?",INDEX($C$8:$C$67,MATCH(($A82+4),$A$8:$A$67,0)))&IF(COUNTIF($A$8:$A$67,($A82+4))>1," +"&(COUNTIF($A$8:$A$67,($A82+4))-1),""),IF(COUNTIFS(Einstellungen!$A$23:$A$34,"<="&($A82+4),Einstellungen!$B$23:$B$34,">="&($A82+4))>0,"Ferien",IF(COUNTIFS(Einstellungen!$A$38:$A$43,"<="&($A82+4),Einstellungen!$B$38:$B$43,">="&($A82+4))>0,"Sperre",IF(COUNTIF(Einstellungen!$A$47:$A$50,($A82+4))>0,"Nachschr.",""))))) | H82: =IF($A82="","",IF(COUNTIF($A$8:$A$67,($A82+5))>0,IF(INDEX($C$8:$C$67,MATCH(($A82+5),$A$8:$A$67,0))="","?",INDEX($C$8:$C$67,MATCH(($A82+5),$A$8:$A$67,0)))&IF(COUNTIF($A$8:$A$67,($A82+5))>1," +"&(COUNTIF($A$8:$A$67,($A82+5))-1),""),IF(COUNTIFS(Einstellungen!$A$23:$A$34,"<="&($A82+5),Einstellungen!$B$23:$B$34,">="&($A82+5))>0,"Ferien",IF(COUNTIFS(Einstellungen!$A$38:$A$43,"<="&($A82+5),Einstellungen!$B$38:$B$43,">="&($A82+5))>0,"Sperre",IF(COUNTIF(Einstellungen!$A$47:$A$50,($A82+5))>0,"Nachschr.",""))))) | I82: =IF(A82="","",COUNTIFS($I$8:$I$67,A82,$D$8:$D$67,"Klassenarbeit")) | J82: =IF(A82="","",IF(A82<=Einstellungen!$C$6,1,2))
A83: =IF(A82="","",IF(A82+7>Einstellungen!$C$7,"",A82+7)) | B83: =IF(A83="","",WEEKNUM(A83,21)) | C83: =IF($A83="","",IF(COUNTIF($A$8:$A$67,($A83+0))>0,IF(INDEX($C$8:$C$67,MATCH(($A83+0),$A$8:$A$67,0))="","?",INDEX($C$8:$C$67,MATCH(($A83+0),$A$8:$A$67,0)))&IF(COUNTIF($A$8:$A$67,($A83+0))>1," +"&(COUNTIF($A$8:$A$67,($A83+0))-1),""),IF(COUNTIFS(Einstellungen!$A$23:$A$34,"<="&($A83+0),Einstellungen!$B$23:$B$34,">="&($A83+0))>0,"Ferien",IF(COUNTIFS(Einstellungen!$A$38:$A$43,"<="&($A83+0),Einstellungen!$B$38:$B$43,">="&($A83+0))>0,"Sperre",IF(COUNTIF(Einstellungen!$A$47:$A$50,($A83+0))>0,"Nachschr.",""))))) | D83: =IF($A83="","",IF(COUNTIF($A$8:$A$67,($A83+1))>0,IF(INDEX($C$8:$C$67,MATCH(($A83+1),$A$8:$A$67,0))="","?",INDEX($C$8:$C$67,MATCH(($A83+1),$A$8:$A$67,0)))&IF(COUNTIF($A$8:$A$67,($A83+1))>1," +"&(COUNTIF($A$8:$A$67,($A83+1))-1),""),IF(COUNTIFS(Einstellungen!$A$23:$A$34,"<="&($A83+1),Einstellungen!$B$23:$B$34,">="&($A83+1))>0,"Ferien",IF(COUNTIFS(Einstellungen!$A$38:$A$43,"<="&($A83+1),Einstellungen!$B$38:$B$43,">="&($A83+1))>0,"Sperre",IF(COUNTIF(Einstellungen!$A$47:$A$50,($A83+1))>0,"Nachschr.",""))))) | E83: =IF($A83="","",IF(COUNTIF($A$8:$A$67,($A83+2))>0,IF(INDEX($C$8:$C$67,MATCH(($A83+2),$A$8:$A$67,0))="","?",INDEX($C$8:$C$67,MATCH(($A83+2),$A$8:$A$67,0)))&IF(COUNTIF($A$8:$A$67,($A83+2))>1," +"&(COUNTIF($A$8:$A$67,($A83+2))-1),""),IF(COUNTIFS(Einstellungen!$A$23:$A$34,"<="&($A83+2),Einstellungen!$B$23:$B$34,">="&($A83+2))>0,"Ferien",IF(COUNTIFS(Einstellungen!$A$38:$A$43,"<="&($A83+2),Einstellungen!$B$38:$B$43,">="&($A83+2))>0,"Sperre",IF(COUNTIF(Einstellungen!$A$47:$A$50,($A83+2))>0,"Nachschr.",""))))) | F83: =IF($A83="","",IF(COUNTIF($A$8:$A$67,($A83+3))>0,IF(INDEX($C$8:$C$67,MATCH(($A83+3),$A$8:$A$67,0))="","?",INDEX($C$8:$C$67,MATCH(($A83+3),$A$8:$A$67,0)))&IF(COUNTIF($A$8:$A$67,($A83+3))>1," +"&(COUNTIF($A$8:$A$67,($A83+3))-1),""),IF(COUNTIFS(Einstellungen!$A$23:$A$34,"<="&($A83+3),Einstellungen!$B$23:$B$34,">="&($A83+3))>0,"Ferien",IF(COUNTIFS(Einstellungen!$A$38:$A$43,"<="&($A83+3),Einstellungen!$B$38:$B$43,">="&($A83+3))>0,"Sperre",IF(COUNTIF(Einstellungen!$A$47:$A$50,($A83+3))>0,"Nachschr.",""))))) | G83: =IF($A83="","",IF(COUNTIF($A$8:$A$67,($A83+4))>0,IF(INDEX($C$8:$C$67,MATCH(($A83+4),$A$8:$A$67,0))="","?",INDEX($C$8:$C$67,MATCH(($A83+4),$A$8:$A$67,0)))&IF(COUNTIF($A$8:$A$67,($A83+4))>1," +"&(COUNTIF($A$8:$A$67,($A83+4))-1),""),IF(COUNTIFS(Einstellungen!$A$23:$A$34,"<="&($A83+4),Einstellungen!$B$23:$B$34,">="&($A83+4))>0,"Ferien",IF(COUNTIFS(Einstellungen!$A$38:$A$43,"<="&($A83+4),Einstellungen!$B$38:$B$43,">="&($A83+4))>0,"Sperre",IF(COUNTIF(Einstellungen!$A$47:$A$50,($A83+4))>0,"Nachschr.",""))))) | H83: =IF($A83="","",IF(COUNTIF($A$8:$A$67,($A83+5))>0,IF(INDEX($C$8:$C$67,MATCH(($A83+5),$A$8:$A$67,0))="","?",INDEX($C$8:$C$67,MATCH(($A83+5),$A$8:$A$67,0)))&IF(COUNTIF($A$8:$A$67,($A83+5))>1," +"&(COUNTIF($A$8:$A$67,($A83+5))-1),""),IF(COUNTIFS(Einstellungen!$A$23:$A$34,"<="&($A83+5),Einstellungen!$B$23:$B$34,">="&($A83+5))>0,"Ferien",IF(COUNTIFS(Einstellungen!$A$38:$A$43,"<="&($A83+5),Einstellungen!$B$38:$B$43,">="&($A83+5))>0,"Sperre",IF(COUNTIF(Einstellungen!$A$47:$A$50,($A83+5))>0,"Nachschr.",""))))) | I83: =IF(A83="","",COUNTIFS($I$8:$I$67,A83,$D$8:$D$67,"Klassenarbeit")) | J83: =IF(A83="","",IF(A83<=Einstellungen!$C$6,1,2))
A84: =IF(A83="","",IF(A83+7>Einstellungen!$C$7,"",A83+7)) | B84: =IF(A84="","",WEEKNUM(A84,21)) | C84: =IF($A84="","",IF(COUNTIF($A$8:$A$67,($A84+0))>0,IF(INDEX($C$8:$C$67,MATCH(($A84+0),$A$8:$A$67,0))="","?",INDEX($C$8:$C$67,MATCH(($A84+0),$A$8:$A$67,0)))&IF(COUNTIF($A$8:$A$67,($A84+0))>1," +"&(COUNTIF($A$8:$A$67,($A84+0))-1),""),IF(COUNTIFS(Einstellungen!$A$23:$A$34,"<="&($A84+0),Einstellungen!$B$23:$B$34,">="&($A84+0))>0,"Ferien",IF(COUNTIFS(Einstellungen!$A$38:$A$43,"<="&($A84+0),Einstellungen!$B$38:$B$43,">="&($A84+0))>0,"Sperre",IF(COUNTIF(Einstellungen!$A$47:$A$50,($A84+0))>0,"Nachschr.",""))))) | D84: =IF($A84="","",IF(COUNTIF($A$8:$A$67,($A84+1))>0,IF(INDEX($C$8:$C$67,MATCH(($A84+1),$A$8:$A$67,0))="","?",INDEX($C$8:$C$67,MATCH(($A84+1),$A$8:$A$67,0)))&IF(COUNTIF($A$8:$A$67,($A84+1))>1," +"&(COUNTIF($A$8:$A$67,($A84+1))-1),""),IF(COUNTIFS(Einstellungen!$A$23:$A$34,"<="&($A84+1),Einstellungen!$B$23:$B$34,">="&($A84+1))>0,"Ferien",IF(COUNTIFS(Einstellungen!$A$38:$A$43,"<="&($A84+1),Einstellungen!$B$38:$B$43,">="&($A84+1))>0,"Sperre",IF(COUNTIF(Einstellungen!$A$47:$A$50,($A84+1))>0,"Nachschr.",""))))) | E84: =IF($A84="","",IF(COUNTIF($A$8:$A$67,($A84+2))>0,IF(INDEX($C$8:$C$67,MATCH(($A84+2),$A$8:$A$67,0))="","?",INDEX($C$8:$C$67,MATCH(($A84+2),$A$8:$A$67,0)))&IF(COUNTIF($A$8:$A$67,($A84+2))>1," +"&(COUNTIF($A$8:$A$67,($A84+2))-1),""),IF(COUNTIFS(Einstellungen!$A$23:$A$34,"<="&($A84+2),Einstellungen!$B$23:$B$34,">="&($A84+2))>0,"Ferien",IF(COUNTIFS(Einstellungen!$A$38:$A$43,"<="&($A84+2),Einstellungen!$B$38:$B$43,">="&($A84+2))>0,"Sperre",IF(COUNTIF(Einstellungen!$A$47:$A$50,($A84+2))>0,"Nachschr.",""))))) | F84: =IF($A84="","",IF(COUNTIF($A$8:$A$67,($A84+3))>0,IF(INDEX($C$8:$C$67,MATCH(($A84+3),$A$8:$A$67,0))="","?",INDEX($C$8:$C$67,MATCH(($A84+3),$A$8:$A$67,0)))&IF(COUNTIF($A$8:$A$67,($A84+3))>1," +"&(COUNTIF($A$8:$A$67,($A84+3))-1),""),IF(COUNTIFS(Einstellungen!$A$23:$A$34,"<="&($A84+3),Einstellungen!$B$23:$B$34,">="&($A84+3))>0,"Ferien",IF(COUNTIFS(Einstellungen!$A$38:$A$43,"<="&($A84+3),Einstellungen!$B$38:$B$43,">="&($A84+3))>0,"Sperre",IF(COUNTIF(Einstellungen!$A$47:$A$50,($A84+3))>0,"Nachschr.",""))))) | G84: =IF($A84="","",IF(COUNTIF($A$8:$A$67,($A84+4))>0,IF(INDEX($C$8:$C$67,MATCH(($A84+4),$A$8:$A$67,0))="","?",INDEX($C$8:$C$67,MATCH(($A84+4),$A$8:$A$67,0)))&IF(COUNTIF($A$8:$A$67,($A84+4))>1," +"&(COUNTIF($A$8:$A$67,($A84+4))-1),""),IF(COUNTIFS(Einstellungen!$A$23:$A$34,"<="&($A84+4),Einstellungen!$B$23:$B$34,">="&($A84+4))>0,"Ferien",IF(COUNTIFS(Einstellungen!$A$38:$A$43,"<="&($A84+4),Einstellungen!$B$38:$B$43,">="&($A84+4))>0,"Sperre",IF(COUNTIF(Einstellungen!$A$47:$A$50,($A84+4))>0,"Nachschr.",""))))) | H84: =IF($A84="","",IF(COUNTIF($A$8:$A$67,($A84+5))>0,IF(INDEX($C$8:$C$67,MATCH(($A84+5),$A$8:$A$67,0))="","?",INDEX($C$8:$C$67,MATCH(($A84+5),$A$8:$A$67,0)))&IF(COUNTIF($A$8:$A$67,($A84+5))>1," +"&(COUNTIF($A$8:$A$67,($A84+5))-1),""),IF(COUNTIFS(Einstellungen!$A$23:$A$34,"<="&($A84+5),Einstellungen!$B$23:$B$34,">="&($A84+5))>0,"Ferien",IF(COUNTIFS(Einstellungen!$A$38:$A$43,"<="&($A84+5),Einstellungen!$B$38:$B$43,">="&($A84+5))>0,"Sperre",IF(COUNTIF(Einstellungen!$A$47:$A$50,($A84+5))>0,"Nachschr.",""))))) | I84: =IF(A84="","",COUNTIFS($I$8:$I$67,A84,$D$8:$D$67,"Klassenarbeit")) | J84: =IF(A84="","",IF(A84<=Einstellungen!$C$6,1,2))
... A123: =IF(A122="","",IF(A122+7>Einstellungen!$C$7,"",A122+7)) | B123: =IF(A123="","",WEEKNUM(A123,21)) | C123: =IF($A123="","",IF(COUNTIF($A$8:$A$67,($A123+0))>0,IF(INDEX($C$8:$C$67,MATCH(($A123+0),$A$8:$A$67,0))="","?",INDEX($C$8:$C$67,MATCH(($A123+0),$A$8:$A$67,0)))&IF(COUNTIF($A$8:$A$67,($A123+0))>1," +"&(COUNTIF($A$8:$A$67,($A123+0))-1),""),IF(COUNTIFS(Einstellungen!$A$23:$A$34,"<="&($A123+0),Einstellungen!$B$23:$B$34,">="&($A123+0))>0,"Ferien",IF(COUNTIFS(Einstellungen!$A$38:$A$43,"<="&($A123+0),Einstellungen!$B$38:$B$43,">="&($A123+0))>0,"Sperre",IF(COUNTIF(Einstellungen!$A$47:$A$50,($A123+0))>0,"Nachschr.",""))))) | D123: =IF($A123="","",IF(COUNTIF($A$8:$A$67,($A123+1))>0,IF(INDEX($C$8:$C$67,MATCH(($A123+1),$A$8:$A$67,0))="","?",INDEX($C$8:$C$67,MATCH(($A123+1),$A$8:$A$67,0)))&IF(COUNTIF($A$8:$A$67,($A123+1))>1," +"&(COUNTIF($A$8:$A$67,($A123+1))-1),""),IF(COUNTIFS(Einstellungen!$A$23:$A$34,"<="&($A123+1),Einstellungen!$B$23:$B$34,">="&($A123+1))>0,"Ferien",IF(COUNTIFS(Einstellungen!$A$38:$A$43,"<="&($A123+1),Einstellungen!$B$38:$B$43,">="&($A123+1))>0,"Sperre",IF(COUNTIF(Einstellungen!$A$47:$A$50,($A123+1))>0,"Nachschr.",""))))) | E123: =IF($A123="","",IF(COUNTIF($A$8:$A$67,($A123+2))>0,IF(INDEX($C$8:$C$67,MATCH(($A123+2),$A$8:$A$67,0))="","?",INDEX($C$8:$C$67,MATCH(($A123+2),$A$8:$A$67,0)))&IF(COUNTIF($A$8:$A$67,($A123+2))>1," +"&(COUNTIF($A$8:$A$67,($A123+2))-1),""),IF(COUNTIFS(Einstellungen!$A$23:$A$34,"<="&($A123+2),Einstellungen!$B$23:$B$34,">="&($A123+2))>0,"Ferien",IF(COUNTIFS(Einstellungen!$A$38:$A$43,"<="&($A123+2),Einstellungen!$B$38:$B$43,">="&($A123+2))>0,"Sperre",IF(COUNTIF(Einstellungen!$A$47:$A$50,($A123+2))>0,"Nachschr.",""))))) | F123: =IF($A123="","",IF(COUNTIF($A$8:$A$67,($A123+3))>0,IF(INDEX($C$8:$C$67,MATCH(($A123+3),$A$8:$A$67,0))="","?",INDEX($C$8:$C$67,MATCH(($A123+3),$A$8:$A$67,0)))&IF(COUNTIF($A$8:$A$67,($A123+3))>1," +"&(COUNTIF($A$8:$A$67,($A123+3))-1),""),IF(COUNTIFS(Einstellungen!$A$23:$A$34,"<="&($A123+3),Einstellungen!$B$23:$B$34,">="&($A123+3))>0,"Ferien",IF(COUNTIFS(Einstellungen!$A$38:$A$43,"<="&($A123+3),Einstellungen!$B$38:$B$43,">="&($A123+3))>0,"Sperre",IF(COUNTIF(Einstellungen!$A$47:$A$50,($A123+3))>0,"Nachschr.",""))))) | G123: =IF($A123="","",IF(COUNTIF($A$8:$A$67,($A123+4))>0,IF(INDEX($C$8:$C$67,MATCH(($A123+4),$A$8:$A$67,0))="","?",INDEX($C$8:$C$67,MATCH(($A123+4),$A$8:$A$67,0)))&IF(COUNTIF($A$8:$A$67,($A123+4))>1," +"&(COUNTIF($A$8:$A$67,($A123+4))-1),""),IF(COUNTIFS(Einstellungen!$A$23:$A$34,"<="&($A123+4),Einstellungen!$B$23:$B$34,">="&($A123+4))>0,"Ferien",IF(COUNTIFS(Einstellungen!$A$38:$A$43,"<="&($A123+4),Einstellungen!$B$38:$B$43,">="&($A123+4))>0,"Sperre",IF(COUNTIF(Einstellungen!$A$47:$A$50,($A123+4))>0,"Nachschr.",""))))) | H123: =IF($A123="","",IF(COUNTIF($A$8:$A$67,($A123+5))>0,IF(INDEX($C$8:$C$67,MATCH(($A123+5),$A$8:$A$67,0))="","?",INDEX($C$8:$C$67,MATCH(($A123+5),$A$8:$A$67,0)))&IF(COUNTIF($A$8:$A$67,($A123+5))>1," +"&(COUNTIF($A$8:$A$67,($A123+5))-1),""),IF(COUNTIFS(Einstellungen!$A$23:$A$34,"<="&($A123+5),Einstellungen!$B$23:$B$34,">="&($A123+5))>0,"Ferien",IF(COUNTIFS(Einstellungen!$A$38:$A$43,"<="&($A123+5),Einstellungen!$B$38:$B$43,">="&($A123+5))>0,"Sperre",IF(COUNTIF(Einstellungen!$A$47:$A$50,($A123+5))>0,"Nachschr.",""))))) | I123: =IF(A123="","",COUNTIFS($I$8:$I$67,A123,$D$8:$D$67,"Klassenarbeit")) | J123: =IF(A123="","",IF(A123<=Einstellungen!$C$6,1,2))
A125: Teil C – Zählung je Fach (berechnet)
A126: Kürzel | B126: Vorgabe je Halbjahr | C126: Fach | E126: Ist 1. Halbjahr | F126: Ist 2. Halbjahr | G126: Prüfung
A127: =IF(Einstellungen!$A$54="","",Einstellungen!$A$54) | B127: =IF(OR(A127="",Einstellungen!$C$54=""),"",Einstellungen!$C$54) | C127: =IF(A127="","",Einstellungen!$B$54) | E127: =IF(A127="","",COUNTIFS($C$8:$C$67,A127,$D$8:$D$67,"Klassenarbeit",$H$8:$H$67,1)) | F127: =IF(A127="","",COUNTIFS($C$8:$C$67,A127,$D$8:$D$67,"Klassenarbeit",$H$8:$H$67,2)) | G127: =IF(OR(A127="",B127=""),"",IF(OR(E127>B127,F127>B127),"über Vorgabe","OK"))
A128: =IF(Einstellungen!$A$55="","",Einstellungen!$A$55) | B128: =IF(OR(A128="",Einstellungen!$C$55=""),"",Einstellungen!$C$55) | C128: =IF(A128="","",Einstellungen!$B$55) | E128: =IF(A128="","",COUNTIFS($C$8:$C$67,A128,$D$8:$D$67,"Klassenarbeit",$H$8:$H$67,1)) | F128: =IF(A128="","",COUNTIFS($C$8:$C$67,A128,$D$8:$D$67,"Klassenarbeit",$H$8:$H$67,2)) | G128: =IF(OR(A128="",B128=""),"",IF(OR(E128>B128,F128>B128),"über Vorgabe","OK"))
A129: =IF(Einstellungen!$A$56="","",Einstellungen!$A$56) | B129: =IF(OR(A129="",Einstellungen!$C$56=""),"",Einstellungen!$C$56) | C129: =IF(A129="","",Einstellungen!$B$56) | E129: =IF(A129="","",COUNTIFS($C$8:$C$67,A129,$D$8:$D$67,"Klassenarbeit",$H$8:$H$67,1)) | F129: =IF(A129="","",COUNTIFS($C$8:$C$67,A129,$D$8:$D$67,"Klassenarbeit",$H$8:$H$67,2)) | G129: =IF(OR(A129="",B129=""),"",IF(OR(E129>B129,F129>B129),"über Vorgabe","OK"))
A130: =IF(Einstellungen!$A$57="","",Einstellungen!$A$57) | B130: =IF(OR(A130="",Einstellungen!$C$57=""),"",Einstellungen!$C$57) | C130: =IF(A130="","",Einstellungen!$B$57) | E130: =IF(A130="","",COUNTIFS($C$8:$C$67,A130,$D$8:$D$67,"Klassenarbeit",$H$8:$H$67,1)) | F130: =IF(A130="","",COUNTIFS($C$8:$C$67,A130,$D$8:$D$67,"Klassenarbeit",$H$8:$H$67,2)) | G130: =IF(OR(A130="",B130=""),"",IF(OR(E130>B130,F130>B130),"über Vorgabe","OK"))
A131: =IF(Einstellungen!$A$58="","",Einstellungen!$A$58) | B131: =IF(OR(A131="",Einstellungen!$C$58=""),"",Einstellungen!$C$58) | C131: =IF(A131="","",Einstellungen!$B$58) | E131: =IF(A131="","",COUNTIFS($C$8:$C$67,A131,$D$8:$D$67,"Klassenarbeit",$H$8:$H$67,1)) | F131: =IF(A131="","",COUNTIFS($C$8:$C$67,A131,$D$8:$D$67,"Klassenarbeit",$H$8:$H$67,2)) | G131: =IF(OR(A131="",B131=""),"",IF(OR(E131>B131,F131>B131),"über Vorgabe","OK"))
A132: =IF(Einstellungen!$A$59="","",Einstellungen!$A$59) | B132: =IF(OR(A132="",Einstellungen!$C$59=""),"",Einstellungen!$C$59) | C132: =IF(A132="","",Einstellungen!$B$59) | E132: =IF(A132="","",COUNTIFS($C$8:$C$67,A132,$D$8:$D$67,"Klassenarbeit",$H$8:$H$67,1)) | F132: =IF(A132="","",COUNTIFS($C$8:$C$67,A132,$D$8:$D$67,"Klassenarbeit",$H$8:$H$67,2)) | G132: =IF(OR(A132="",B132=""),"",IF(OR(E132>B132,F132>B132),"über Vorgabe","OK"))
A133: =IF(Einstellungen!$A$60="","",Einstellungen!$A$60) | B133: =IF(OR(A133="",Einstellungen!$C$60=""),"",Einstellungen!$C$60) | C133: =IF(A133="","",Einstellungen!$B$60) | E133: =IF(A133="","",COUNTIFS($C$8:$C$67,A133,$D$8:$D$67,"Klassenarbeit",$H$8:$H$67,1)) | F133: =IF(A133="","",COUNTIFS($C$8:$C$67,A133,$D$8:$D$67,"Klassenarbeit",$H$8:$H$67,2)) | G133: =IF(OR(A133="",B133=""),"",IF(OR(E133>B133,F133>B133),"über Vorgabe","OK"))
A134: =IF(Einstellungen!$A$61="","",Einstellungen!$A$61) | B134: =IF(OR(A134="",Einstellungen!$C$61=""),"",Einstellungen!$C$61) | C134: =IF(A134="","",Einstellungen!$B$61) | E134: =IF(A134="","",COUNTIFS($C$8:$C$67,A134,$D$8:$D$67,"Klassenarbeit",$H$8:$H$67,1)) | F134: =IF(A134="","",COUNTIFS($C$8:$C$67,A134,$D$8:$D$67,"Klassenarbeit",$H$8:$H$67,2)) | G134: =IF(OR(A134="",B134=""),"",IF(OR(E134>B134,F134>B134),"über Vorgabe","OK"))
A135: =IF(Einstellungen!$A$62="","",Einstellungen!$A$62) | B135: =IF(OR(A135="",Einstellungen!$C$62=""),"",Einstellungen!$C$62) | C135: =IF(A135="","",Einstellungen!$B$62) | E135: =IF(A135="","",COUNTIFS($C$8:$C$67,A135,$D$8:$D$67,"Klassenarbeit",$H$8:$H$67,1)) | F135: =IF(A135="","",COUNTIFS($C$8:$C$67,A135,$D$8:$D$67,"Klassenarbeit",$H$8:$H$67,2)) | G135: =IF(OR(A135="",B135=""),"",IF(OR(E135>B135,F135>B135),"über Vorgabe","OK"))
A136: =IF(Einstellungen!$A$63="","",Einstellungen!$A$63) | B136: =IF(OR(A136="",Einstellungen!$C$63=""),"",Einstellungen!$C$63) | C136: =IF(A136="","",Einstellungen!$B$63) | E136: =IF(A136="","",COUNTIFS($C$8:$C$67,A136,$D$8:$D$67,"Klassenarbeit",$H$8:$H$67,1)) | F136: =IF(A136="","",COUNTIFS($C$8:$C$67,A136,$D$8:$D$67,"Klassenarbeit",$H$8:$H$67,2)) | G136: =IF(OR(A136="",B136=""),"",IF(OR(E136>B136,F136>B136),"über Vorgabe","OK"))
A137: =IF(Einstellungen!$A$64="","",Einstellungen!$A$64) | B137: =IF(OR(A137="",Einstellungen!$C$64=""),"",Einstellungen!$C$64) | C137: =IF(A137="","",Einstellungen!$B$64) | E137: =IF(A137="","",COUNTIFS($C$8:$C$67,A137,$D$8:$D$67,"Klassenarbeit",$H$8:$H$67,1)) | F137: =IF(A137="","",COUNTIFS($C$8:$C$67,A137,$D$8:$D$67,"Klassenarbeit",$H$8:$H$67,2)) | G137: =IF(OR(A137="",B137=""),"",IF(OR(E137>B137,F137>B137),"über Vorgabe","OK"))
A138: =IF(Einstellungen!$A$65="","",Einstellungen!$A$65) | B138: =IF(OR(A138="",Einstellungen!$C$65=""),"",Einstellungen!$C$65) | C138: =IF(A138="","",Einstellungen!$B$65) | E138: =IF(A138="","",COUNTIFS($C$8:$C$67,A138,$D$8:$D$67,"Klassenarbeit",$H$8:$H$67,1)) | F138: =IF(A138="","",COUNTIFS($C$8:$C$67,A138,$D$8:$D$67,"Klassenarbeit",$H$8:$H$67,2)) | G138: =IF(OR(A138="",B138=""),"",IF(OR(E138>B138,F138>B138),"über Vorgabe","OK"))
A139: =IF(Einstellungen!$A$66="","",Einstellungen!$A$66) | B139: =IF(OR(A139="",Einstellungen!$C$66=""),"",Einstellungen!$C$66) | C139: =IF(A139="","",Einstellungen!$B$66) | E139: =IF(A139="","",COUNTIFS($C$8:$C$67,A139,$D$8:$D$67,"Klassenarbeit",$H$8:$H$67,1)) | F139: =IF(A139="","",COUNTIFS($C$8:$C$67,A139,$D$8:$D$67,"Klassenarbeit",$H$8:$H$67,2)) | G139: =IF(OR(A139="",B139=""),"",IF(OR(E139>B139,F139>B139),"über Vorgabe","OK"))
A140: =IF(Einstellungen!$A$67="","",Einstellungen!$A$67) | B140: =IF(OR(A140="",Einstellungen!$C$67=""),"",Einstellungen!$C$67) | C140: =IF(A140="","",Einstellungen!$B$67) | E140: =IF(A140="","",COUNTIFS($C$8:$C$67,A140,$D$8:$D$67,"Klassenarbeit",$H$8:$H$67,1)) | F140: =IF(A140="","",COUNTIFS($C$8:$C$67,A140,$D$8:$D$67,"Klassenarbeit",$H$8:$H$67,2)) | G140: =IF(OR(A140="",B140=""),"",IF(OR(E140>B140,F140>B140),"über Vorgabe","OK"))
A141: =IF(Einstellungen!$A$68="","",Einstellungen!$A$68) | B141: =IF(OR(A141="",Einstellungen!$C$68=""),"",Einstellungen!$C$68) | C141: =IF(A141="","",Einstellungen!$B$68) | E141: =IF(A141="","",COUNTIFS($C$8:$C$67,A141,$D$8:$D$67,"Klassenarbeit",$H$8:$H$67,1)) | F141: =IF(A141="","",COUNTIFS($C$8:$C$67,A141,$D$8:$D$67,"Klassenarbeit",$H$8:$H$67,2)) | G141: =IF(OR(A141="",B141=""),"",IF(OR(E141>B141,F141>B141),"über Vorgabe","OK"))

Sheet Klasse B
A1: ="Klassenarbeits-Kalender · "&IF(Einstellungen!$B$17="","[Klassenname in Einstellungen eintragen]",Einstellungen!$B$17)
A2: =IF(Einstellungen!$B$2="","[Schule]",Einstellungen!$B$2)&" · Schuljahr "&IF(Einstellungen!$B$3="","[JJJJ/JJ]",Einstellungen!$B$3)
A3: Klassenleitung | G3: Gelb = Eingabe · Grau = Formel (geschützt, ohne Passwort, siehe Anleitung)
A6: Teil A – Terminliste (Eingabe)
A7: Datum | B7: Tag | C7: Fach | D7: Art | E7: Lehrkraft | F7: Stunde | G7: Status | H7: Halbjahr | I7: Wochenbeginn | J7: Prüfung | K7: Bemerkung
B8: =IF(A8="","",CHOOSE(WEEKDAY(A8,2),"Mo","Di","Mi","Do","Fr","Sa","So")) | H8: =IF(A8="","",IF(OR(A8<Einstellungen!$B$6,A8>Einstellungen!$C$7),"außerhalb",IF(A8<=Einstellungen!$C$6,1,2))) | I8: =IF(A8="","",A8-WEEKDAY(A8,2)+1) | J8: =IF(A8="","",IF(AND(WEEKDAY(A8,2)>5,D8<>"Nachschreibtermin"),"Wochenende",IF(COUNTIFS(Einstellungen!$A$23:$A$34,"<="&A8,Einstellungen!$B$23:$B$34,">="&A8)>0,"Ferien/Feiertag",IF(COUNTIFS(Einstellungen!$A$38:$A$43,"<="&A8,Einstellungen!$B$38:$B$43,">="&A8)>0,"Sperrzeit",IF(AND(Einstellungen!$B$10<>"",D8="Klassenarbeit",COUNTIFS($A$8:$A$67,A8,$D$8:$D$67,"Klassenarbeit")>Einstellungen!$B$10),"Tag überschritten",IF(AND(Einstellungen!$B$11<>"",D8="Klassenarbeit",COUNTIFS($I$8:$I$67,I8,$D$8:$D$67,"Klassenarbeit")>Einstellungen!$B$11),"Woche überschritten",IF(OR(C8="",D8=""),"Fach/Art fehlt","OK")))))))
B9: =IF(A9="","",CHOOSE(WEEKDAY(A9,2),"Mo","Di","Mi","Do","Fr","Sa","So")) | H9: =IF(A9="","",IF(OR(A9<Einstellungen!$B$6,A9>Einstellungen!$C$7),"außerhalb",IF(A9<=Einstellungen!$C$6,1,2))) | I9: =IF(A9="","",A9-WEEKDAY(A9,2)+1) | J9: =IF(A9="","",IF(AND(WEEKDAY(A9,2)>5,D9<>"Nachschreibtermin"),"Wochenende",IF(COUNTIFS(Einstellungen!$A$23:$A$34,"<="&A9,Einstellungen!$B$23:$B$34,">="&A9)>0,"Ferien/Feiertag",IF(COUNTIFS(Einstellungen!$A$38:$A$43,"<="&A9,Einstellungen!$B$38:$B$43,">="&A9)>0,"Sperrzeit",IF(AND(Einstellungen!$B$10<>"",D9="Klassenarbeit",COUNTIFS($A$8:$A$67,A9,$D$8:$D$67,"Klassenarbeit")>Einstellungen!$B$10),"Tag überschritten",IF(AND(Einstellungen!$B$11<>"",D9="Klassenarbeit",COUNTIFS($I$8:$I$67,I9,$D$8:$D$67,"Klassenarbeit")>Einstellungen!$B$11),"Woche überschritten",IF(OR(C9="",D9=""),"Fach/Art fehlt","OK")))))))
B10: =IF(A10="","",CHOOSE(WEEKDAY(A10,2),"Mo","Di","Mi","Do","Fr","Sa","So")) | H10: =IF(A10="","",IF(OR(A10<Einstellungen!$B$6,A10>Einstellungen!$C$7),"außerhalb",IF(A10<=Einstellungen!$C$6,1,2))) | I10: =IF(A10="","",A10-WEEKDAY(A10,2)+1) | J10: =IF(A10="","",IF(AND(WEEKDAY(A10,2)>5,D10<>"Nachschreibtermin"),"Wochenende",IF(COUNTIFS(Einstellungen!$A$23:$A$34,"<="&A10,Einstellungen!$B$23:$B$34,">="&A10)>0,"Ferien/Feiertag",IF(COUNTIFS(Einstellungen!$A$38:$A$43,"<="&A10,Einstellungen!$B$38:$B$43,">="&A10)>0,"Sperrzeit",IF(AND(Einstellungen!$B$10<>"",D10="Klassenarbeit",COUNTIFS($A$8:$A$67,A10,$D$8:$D$67,"Klassenarbeit")>Einstellungen!$B$10),"Tag überschritten",IF(AND(Einstellungen!$B$11<>"",D10="Klassenarbeit",COUNTIFS($I$8:$I$67,I10,$D$8:$D$67,"Klassenarbeit")>Einstellungen!$B$11),"Woche überschritten",IF(OR(C10="",D10=""),"Fach/Art fehlt","OK")))))))
B11: =IF(A11="","",CHOOSE(WEEKDAY(A11,2),"Mo","Di","Mi","Do","Fr","Sa","So")) | H11: =IF(A11="","",IF(OR(A11<Einstellungen!$B$6,A11>Einstellungen!$C$7),"außerhalb",IF(A11<=Einstellungen!$C$6,1,2))) | I11: =IF(A11="","",A11-WEEKDAY(A11,2)+1) | J11: =IF(A11="","",IF(AND(WEEKDAY(A11,2)>5,D11<>"Nachschreibtermin"),"Wochenende",IF(COUNTIFS(Einstellungen!$A$23:$A$34,"<="&A11,Einstellungen!$B$23:$B$34,">="&A11)>0,"Ferien/Feiertag",IF(COUNTIFS(Einstellungen!$A$38:$A$43,"<="&A11,Einstellungen!$B$38:$B$43,">="&A11)>0,"Sperrzeit",IF(AND(Einstellungen!$B$10<>"",D11="Klassenarbeit",COUNTIFS($A$8:$A$67,A11,$D$8:$D$67,"Klassenarbeit")>Einstellungen!$B$10),"Tag überschritten",IF(AND(Einstellungen!$B$11<>"",D11="Klassenarbeit",COUNTIFS($I$8:$I$67,I11,$D$8:$D$67,"Klassenarbeit")>Einstellungen!$B$11),"Woche überschritten",IF(OR(C11="",D11=""),"Fach/Art fehlt","OK")))))))
B12: =IF(A12="","",CHOOSE(WEEKDAY(A12,2),"Mo","Di","Mi","Do","Fr","Sa","So")) | H12: =IF(A12="","",IF(OR(A12<Einstellungen!$B$6,A12>Einstellungen!$C$7),"außerhalb",IF(A12<=Einstellungen!$C$6,1,2))) | I12: =IF(A12="","",A12-WEEKDAY(A12,2)+1) | J12: =IF(A12="","",IF(AND(WEEKDAY(A12,2)>5,D12<>"Nachschreibtermin"),"Wochenende",IF(COUNTIFS(Einstellungen!$A$23:$A$34,"<="&A12,Einstellungen!$B$23:$B$34,">="&A12)>0,"Ferien/Feiertag",IF(COUNTIFS(Einstellungen!$A$38:$A$43,"<="&A12,Einstellungen!$B$38:$B$43,">="&A12)>0,"Sperrzeit",IF(AND(Einstellungen!$B$10<>"",D12="Klassenarbeit",COUNTIFS($A$8:$A$67,A12,$D$8:$D$67,"Klassenarbeit")>Einstellungen!$B$10),"Tag überschritten",IF(AND(Einstellungen!$B$11<>"",D12="Klassenarbeit",COUNTIFS($I$8:$I$67,I12,$D$8:$D$67,"Klassenarbeit")>Einstellungen!$B$11),"Woche überschritten",IF(OR(C12="",D12=""),"Fach/Art fehlt","OK")))))))
B13: =IF(A13="","",CHOOSE(WEEKDAY(A13,2),"Mo","Di","Mi","Do","Fr","Sa","So")) | H13: =IF(A13="","",IF(OR(A13<Einstellungen!$B$6,A13>Einstellungen!$C$7),"außerhalb",IF(A13<=Einstellungen!$C$6,1,2))) | I13: =IF(A13="","",A13-WEEKDAY(A13,2)+1) | J13: =IF(A13="","",IF(AND(WEEKDAY(A13,2)>5,D13<>"Nachschreibtermin"),"Wochenende",IF(COUNTIFS(Einstellungen!$A$23:$A$34,"<="&A13,Einstellungen!$B$23:$B$34,">="&A13)>0,"Ferien/Feiertag",IF(COUNTIFS(Einstellungen!$A$38:$A$43,"<="&A13,Einstellungen!$B$38:$B$43,">="&A13)>0,"Sperrzeit",IF(AND(Einstellungen!$B$10<>"",D13="Klassenarbeit",COUNTIFS($A$8:$A$67,A13,$D$8:$D$67,"Klassenarbeit")>Einstellungen!$B$10),"Tag überschritten",IF(AND(Einstellungen!$B$11<>"",D13="Klassenarbeit",COUNTIFS($I$8:$I$67,I13,$D$8:$D$67,"Klassenarbeit")>Einstellungen!$B$11),"Woche überschritten",IF(OR(C13="",D13=""),"Fach/Art fehlt","OK")))))))
B14: =IF(A14="","",CHOOSE(WEEKDAY(A14,2),"Mo","Di","Mi","Do","Fr","Sa","So")) | H14: =IF(A14="","",IF(OR(A14<Einstellungen!$B$6,A14>Einstellungen!$C$7),"außerhalb",IF(A14<=Einstellungen!$C$6,1,2))) | I14: =IF(A14="","",A14-WEEKDAY(A14,2)+1) | J14: =IF(A14="","",IF(AND(WEEKDAY(A14,2)>5,D14<>"Nachschreibtermin"),"Wochenende",IF(COUNTIFS(Einstellungen!$A$23:$A$34,"<="&A14,Einstellungen!$B$23:$B$34,">="&A14)>0,"Ferien/Feiertag",IF(COUNTIFS(Einstellungen!$A$38:$A$43,"<="&A14,Einstellungen!$B$38:$B$43,">="&A14)>0,"Sperrzeit",IF(AND(Einstellungen!$B$10<>"",D14="Klassenarbeit",COUNTIFS($A$8:$A$67,A14,$D$8:$D$67,"Klassenarbeit")>Einstellungen!$B$10),"Tag überschritten",IF(AND(Einstellungen!$B$11<>"",D14="Klassenarbeit",COUNTIFS($I$8:$I$67,I14,$D$8:$D$67,"Klassenarbeit")>Einstellungen!$B$11),"Woche überschritten",IF(OR(C14="",D14=""),"Fach/Art fehlt","OK")))))))
B15: =IF(A15="","",CHOOSE(WEEKDAY(A15,2),"Mo","Di","Mi","Do","Fr","Sa","So")) | H15: =IF(A15="","",IF(OR(A15<Einstellungen!$B$6,A15>Einstellungen!$C$7),"außerhalb",IF(A15<=Einstellungen!$C$6,1,2))) | I15: =IF(A15="","",A15-WEEKDAY(A15,2)+1) | J15: =IF(A15="","",IF(AND(WEEKDAY(A15,2)>5,D15<>"Nachschreibtermin"),"Wochenende",IF(COUNTIFS(Einstellungen!$A$23:$A$34,"<="&A15,Einstellungen!$B$23:$B$34,">="&A15)>0,"Ferien/Feiertag",IF(COUNTIFS(Einstellungen!$A$38:$A$43,"<="&A15,Einstellungen!$B$38:$B$43,">="&A15)>0,"Sperrzeit",IF(AND(Einstellungen!$B$10<>"",D15="Klassenarbeit",COUNTIFS($A$8:$A$67,A15,$D$8:$D$67,"Klassenarbeit")>Einstellungen!$B$10),"Tag überschritten",IF(AND(Einstellungen!$B$11<>"",D15="Klassenarbeit",COUNTIFS($I$8:$I$67,I15,$D$8:$D$67,"Klassenarbeit")>Einstellungen!$B$11),"Woche überschritten",IF(OR(C15="",D15=""),"Fach/Art fehlt","OK")))))))
B16: =IF(A16="","",CHOOSE(WEEKDAY(A16,2),"Mo","Di","Mi","Do","Fr","Sa","So")) | H16: =IF(A16="","",IF(OR(A16<Einstellungen!$B$6,A16>Einstellungen!$C$7),"außerhalb",IF(A16<=Einstellungen!$C$6,1,2))) | I16: =IF(A16="","",A16-WEEKDAY(A16,2)+1) | J16: =IF(A16="","",IF(AND(WEEKDAY(A16,2)>5,D16<>"Nachschreibtermin"),"Wochenende",IF(COUNTIFS(Einstellungen!$A$23:$A$34,"<="&A16,Einstellungen!$B$23:$B$34,">="&A16)>0,"Ferien/Feiertag",IF(COUNTIFS(Einstellungen!$A$38:$A$43,"<="&A16,Einstellungen!$B$38:$B$43,">="&A16)>0,"Sperrzeit",IF(AND(Einstellungen!$B$10<>"",D16="Klassenarbeit",COUNTIFS($A$8:$A$67,A16,$D$8:$D$67,"Klassenarbeit")>Einstellungen!$B$10),"Tag überschritten",IF(AND(Einstellungen!$B$11<>"",D16="Klassenarbeit",COUNTIFS($I$8:$I$67,I16,$D$8:$D$67,"Klassenarbeit")>Einstellungen!$B$11),"Woche überschritten",IF(OR(C16="",D16=""),"Fach/Art fehlt","OK")))))))
B17: =IF(A17="","",CHOOSE(WEEKDAY(A17,2),"Mo","Di","Mi","Do","Fr","Sa","So")) | H17: =IF(A17="","",IF(OR(A17<Einstellungen!$B$6,A17>Einstellungen!$C$7),"außerhalb",IF(A17<=Einstellungen!$C$6,1,2))) | I17: =IF(A17="","",A17-WEEKDAY(A17,2)+1) | J17: =IF(A17="","",IF(AND(WEEKDAY(A17,2)>5,D17<>"Nachschreibtermin"),"Wochenende",IF(COUNTIFS(Einstellungen!$A$23:$A$34,"<="&A17,Einstellungen!$B$23:$B$34,">="&A17)>0,"Ferien/Feiertag",IF(COUNTIFS(Einstellungen!$A$38:$A$43,"<="&A17,Einstellungen!$B$38:$B$43,">="&A17)>0,"Sperrzeit",IF(AND(Einstellungen!$B$10<>"",D17="Klassenarbeit",COUNTIFS($A$8:$A$67,A17,$D$8:$D$67,"Klassenarbeit")>Einstellungen!$B$10),"Tag überschritten",IF(AND(Einstellungen!$B$11<>"",D17="Klassenarbeit",COUNTIFS($I$8:$I$67,I17,$D$8:$D$67,"Klassenarbeit")>Einstellungen!$B$11),"Woche überschritten",IF(OR(C17="",D17=""),"Fach/Art fehlt","OK")))))))
B18: =IF(A18="","",CHOOSE(WEEKDAY(A18,2),"Mo","Di","Mi","Do","Fr","Sa","So")) | H18: =IF(A18="","",IF(OR(A18<Einstellungen!$B$6,A18>Einstellungen!$C$7),"außerhalb",IF(A18<=Einstellungen!$C$6,1,2))) | I18: =IF(A18="","",A18-WEEKDAY(A18,2)+1) | J18: =IF(A18="","",IF(AND(WEEKDAY(A18,2)>5,D18<>"Nachschreibtermin"),"Wochenende",IF(COUNTIFS(Einstellungen!$A$23:$A$34,"<="&A18,Einstellungen!$B$23:$B$34,">="&A18)>0,"Ferien/Feiertag",IF(COUNTIFS(Einstellungen!$A$38:$A$43,"<="&A18,Einstellungen!$B$38:$B$43,">="&A18)>0,"Sperrzeit",IF(AND(Einstellungen!$B$10<>"",D18="Klassenarbeit",COUNTIFS($A$8:$A$67,A18,$D$8:$D$67,"Klassenarbeit")>Einstellungen!$B$10),"Tag überschritten",IF(AND(Einstellungen!$B$11<>"",D18="Klassenarbeit",COUNTIFS($I$8:$I$67,I18,$D$8:$D$67,"Klassenarbeit")>Einstellungen!$B$11),"Woche überschritten",IF(OR(C18="",D18=""),"Fach/Art fehlt","OK")))))))
B19: =IF(A19="","",CHOOSE(WEEKDAY(A19,2),"Mo","Di","Mi","Do","Fr","Sa","So")) | H19: =IF(A19="","",IF(OR(A19<Einstellungen!$B$6,A19>Einstellungen!$C$7),"außerhalb",IF(A19<=Einstellungen!$C$6,1,2))) | I19: =IF(A19="","",A19-WEEKDAY(A19,2)+1) | J19: =IF(A19="","",IF(AND(WEEKDAY(A19,2)>5,D19<>"Nachschreibtermin"),"Wochenende",IF(COUNTIFS(Einstellungen!$A$23:$A$34,"<="&A19,Einstellungen!$B$23:$B$34,">="&A19)>0,"Ferien/Feiertag",IF(COUNTIFS(Einstellungen!$A$38:$A$43,"<="&A19,Einstellungen!$B$38:$B$43,">="&A19)>0,"Sperrzeit",IF(AND(Einstellungen!$B$10<>"",D19="Klassenarbeit",COUNTIFS($A$8:$A$67,A19,$D$8:$D$67,"Klassenarbeit")>Einstellungen!$B$10),"Tag überschritten",IF(AND(Einstellungen!$B$11<>"",D19="Klassenarbeit",COUNTIFS($I$8:$I$67,I19,$D$8:$D$67,"Klassenarbeit")>Einstellungen!$B$11),"Woche überschritten",IF(OR(C19="",D19=""),"Fach/Art fehlt","OK")))))))
... B67: =IF(A67="","",CHOOSE(WEEKDAY(A67,2),"Mo","Di","Mi","Do","Fr","Sa","So")) | H67: =IF(A67="","",IF(OR(A67<Einstellungen!$B$6,A67>Einstellungen!$C$7),"außerhalb",IF(A67<=Einstellungen!$C$6,1,2))) | I67: =IF(A67="","",A67-WEEKDAY(A67,2)+1) | J67: =IF(A67="","",IF(AND(WEEKDAY(A67,2)>5,D67<>"Nachschreibtermin"),"Wochenende",IF(COUNTIFS(Einstellungen!$A$23:$A$34,"<="&A67,Einstellungen!$B$23:$B$34,">="&A67)>0,"Ferien/Feiertag",IF(COUNTIFS(Einstellungen!$A$38:$A$43,"<="&A67,Einstellungen!$B$38:$B$43,">="&A67)>0,"Sperrzeit",IF(AND(Einstellungen!$B$10<>"",D67="Klassenarbeit",COUNTIFS($A$8:$A$67,A67,$D$8:$D$67,"Klassenarbeit")>Einstellungen!$B$10),"Tag überschritten",IF(AND(Einstellungen!$B$11<>"",D67="Klassenarbeit",COUNTIFS($I$8:$I$67,I67,$D$8:$D$67,"Klassenarbeit")>Einstellungen!$B$11),"Woche überschritten",IF(OR(C67="",D67=""),"Fach/Art fehlt","OK")))))))
A69: Teil B – Wochenraster (berechnet)
A70: Fach-Kürzel der eingetragenen Termine · Ferien, Sperrzeiten und zentrale Nachschreibtermine aus „Einstellungen“ · Spalte „Arbeiten“ = Klassenarbeiten in der Woche
A71: Wochenbeginn | B71: KW | C71: Mo | D71: Di | E71: Mi | F71: Do | G71: Fr | H71: Sa | I71: Arbeiten | J71: Halbjahr
A72: =IF(Einstellungen!$B$6="","",Einstellungen!$B$6-WEEKDAY(Einstellungen!$B$6,2)+1) | B72: =IF(A72="","",WEEKNUM(A72,21)) | C72: =IF($A72="","",IF(COUNTIF($A$8:$A$67,($A72+0))>0,IF(INDEX($C$8:$C$67,MATCH(($A72+0),$A$8:$A$67,0))="","?",INDEX($C$8:$C$67,MATCH(($A72+0),$A$8:$A$67,0)))&IF(COUNTIF($A$8:$A$67,($A72+0))>1," +"&(COUNTIF($A$8:$A$67,($A72+0))-1),""),IF(COUNTIFS(Einstellungen!$A$23:$A$34,"<="&($A72+0),Einstellungen!$B$23:$B$34,">="&($A72+0))>0,"Ferien",IF(COUNTIFS(Einstellungen!$A$38:$A$43,"<="&($A72+0),Einstellungen!$B$38:$B$43,">="&($A72+0))>0,"Sperre",IF(COUNTIF(Einstellungen!$A$47:$A$50,($A72+0))>0,"Nachschr.",""))))) | D72: =IF($A72="","",IF(COUNTIF($A$8:$A$67,($A72+1))>0,IF(INDEX($C$8:$C$67,MATCH(($A72+1),$A$8:$A$67,0))="","?",INDEX($C$8:$C$67,MATCH(($A72+1),$A$8:$A$67,0)))&IF(COUNTIF($A$8:$A$67,($A72+1))>1," +"&(COUNTIF($A$8:$A$67,($A72+1))-1),""),IF(COUNTIFS(Einstellungen!$A$23:$A$34,"<="&($A72+1),Einstellungen!$B$23:$B$34,">="&($A72+1))>0,"Ferien",IF(COUNTIFS(Einstellungen!$A$38:$A$43,"<="&($A72+1),Einstellungen!$B$38:$B$43,">="&($A72+1))>0,"Sperre",IF(COUNTIF(Einstellungen!$A$47:$A$50,($A72+1))>0,"Nachschr.",""))))) | E72: =IF($A72="","",IF(COUNTIF($A$8:$A$67,($A72+2))>0,IF(INDEX($C$8:$C$67,MATCH(($A72+2),$A$8:$A$67,0))="","?",INDEX($C$8:$C$67,MATCH(($A72+2),$A$8:$A$67,0)))&IF(COUNTIF($A$8:$A$67,($A72+2))>1," +"&(COUNTIF($A$8:$A$67,($A72+2))-1),""),IF(COUNTIFS(Einstellungen!$A$23:$A$34,"<="&($A72+2),Einstellungen!$B$23:$B$34,">="&($A72+2))>0,"Ferien",IF(COUNTIFS(Einstellungen!$A$38:$A$43,"<="&($A72+2),Einstellungen!$B$38:$B$43,">="&($A72+2))>0,"Sperre",IF(COUNTIF(Einstellungen!$A$47:$A$50,($A72+2))>0,"Nachschr.",""))))) | F72: =IF($A72="","",IF(COUNTIF($A$8:$A$67,($A72+3))>0,IF(INDEX($C$8:$C$67,MATCH(($A72+3),$A$8:$A$67,0))="","?",INDEX($C$8:$C$67,MATCH(($A72+3),$A$8:$A$67,0)))&IF(COUNTIF($A$8:$A$67,($A72+3))>1," +"&(COUNTIF($A$8:$A$67,($A72+3))-1),""),IF(COUNTIFS(Einstellungen!$A$23:$A$34,"<="&($A72+3),Einstellungen!$B$23:$B$34,">="&($A72+3))>0,"Ferien",IF(COUNTIFS(Einstellungen!$A$38:$A$43,"<="&($A72+3),Einstellungen!$B$38:$B$43,">="&($A72+3))>0,"Sperre",IF(COUNTIF(Einstellungen!$A$47:$A$50,($A72+3))>0,"Nachschr.",""))))) | G72: =IF($A72="","",IF(COUNTIF($A$8:$A$67,($A72+4))>0,IF(INDEX($C$8:$C$67,MATCH(($A72+4),$A$8:$A$67,0))="","?",INDEX($C$8:$C$67,MATCH(($A72+4),$A$8:$A$67,0)))&IF(COUNTIF($A$8:$A$67,($A72+4))>1," +"&(COUNTIF($A$8:$A$67,($A72+4))-1),""),IF(COUNTIFS(Einstellungen!$A$23:$A$34,"<="&($A72+4),Einstellungen!$B$23:$B$34,">="&($A72+4))>0,"Ferien",IF(COUNTIFS(Einstellungen!$A$38:$A$43,"<="&($A72+4),Einstellungen!$B$38:$B$43,">="&($A72+4))>0,"Sperre",IF(COUNTIF(Einstellungen!$A$47:$A$50,($A72+4))>0,"Nachschr.",""))))) | H72: =IF($A72="","",IF(COUNTIF($A$8:$A$67,($A72+5))>0,IF(INDEX($C$8:$C$67,MATCH(($A72+5),$A$8:$A$67,0))="","?",INDEX($C$8:$C$67,MATCH(($A72+5),$A$8:$A$67,0)))&IF(COUNTIF($A$8:$A$67,($A72+5))>1," +"&(COUNTIF($A$8:$A$67,($A72+5))-1),""),IF(COUNTIFS(Einstellungen!$A$23:$A$34,"<="&($A72+5),Einstellungen!$B$23:$B$34,">="&($A72+5))>0,"Ferien",IF(COUNTIFS(Einstellungen!$A$38:$A$43,"<="&($A72+5),Einstellungen!$B$38:$B$43,">="&($A72+5))>0,"Sperre",IF(COUNTIF(Einstellungen!$A$47:$A$50,($A72+5))>0,"Nachschr.",""))))) | I72: =IF(A72="","",COUNTIFS($I$8:$I$67,A72,$D$8:$D$67,"Klassenarbeit")) | J72: =IF(A72="","",IF(A72<=Einstellungen!$C$6,1,2))
A73: =IF(A72="","",IF(A72+7>Einstellungen!$C$7,"",A72+7)) | B73: =IF(A73="","",WEEKNUM(A73,21)) | C73: =IF($A73="","",IF(COUNTIF($A$8:$A$67,($A73+0))>0,IF(INDEX($C$8:$C$67,MATCH(($A73+0),$A$8:$A$67,0))="","?",INDEX($C$8:$C$67,MATCH(($A73+0),$A$8:$A$67,0)))&IF(COUNTIF($A$8:$A$67,($A73+0))>1," +"&(COUNTIF($A$8:$A$67,($A73+0))-1),""),IF(COUNTIFS(Einstellungen!$A$23:$A$34,"<="&($A73+0),Einstellungen!$B$23:$B$34,">="&($A73+0))>0,"Ferien",IF(COUNTIFS(Einstellungen!$A$38:$A$43,"<="&($A73+0),Einstellungen!$B$38:$B$43,">="&($A73+0))>0,"Sperre",IF(COUNTIF(Einstellungen!$A$47:$A$50,($A73+0))>0,"Nachschr.",""))))) | D73: =IF($A73="","",IF(COUNTIF($A$8:$A$67,($A73+1))>0,IF(INDEX($C$8:$C$67,MATCH(($A73+1),$A$8:$A$67,0))="","?",INDEX($C$8:$C$67,MATCH(($A73+1),$A$8:$A$67,0)))&IF(COUNTIF($A$8:$A$67,($A73+1))>1," +"&(COUNTIF($A$8:$A$67,($A73+1))-1),""),IF(COUNTIFS(Einstellungen!$A$23:$A$34,"<="&($A73+1),Einstellungen!$B$23:$B$34,">="&($A73+1))>0,"Ferien",IF(COUNTIFS(Einstellungen!$A$38:$A$43,"<="&($A73+1),Einstellungen!$B$38:$B$43,">="&($A73+1))>0,"Sperre",IF(COUNTIF(Einstellungen!$A$47:$A$50,($A73+1))>0,"Nachschr.",""))))) | E73: =IF($A73="","",IF(COUNTIF($A$8:$A$67,($A73+2))>0,IF(INDEX($C$8:$C$67,MATCH(($A73+2),$A$8:$A$67,0))="","?",INDEX($C$8:$C$67,MATCH(($A73+2),$A$8:$A$67,0)))&IF(COUNTIF($A$8:$A$67,($A73+2))>1," +"&(COUNTIF($A$8:$A$67,($A73+2))-1),""),IF(COUNTIFS(Einstellungen!$A$23:$A$34,"<="&($A73+2),Einstellungen!$B$23:$B$34,">="&($A73+2))>0,"Ferien",IF(COUNTIFS(Einstellungen!$A$38:$A$43,"<="&($A73+2),Einstellungen!$B$38:$B$43,">="&($A73+2))>0,"Sperre",IF(COUNTIF(Einstellungen!$A$47:$A$50,($A73+2))>0,"Nachschr.",""))))) | F73: =IF($A73="","",IF(COUNTIF($A$8:$A$67,($A73+3))>0,IF(INDEX($C$8:$C$67,MATCH(($A73+3),$A$8:$A$67,0))="","?",INDEX($C$8:$C$67,MATCH(($A73+3),$A$8:$A$67,0)))&IF(COUNTIF($A$8:$A$67,($A73+3))>1," +"&(COUNTIF($A$8:$A$67,($A73+3))-1),""),IF(COUNTIFS(Einstellungen!$A$23:$A$34,"<="&($A73+3),Einstellungen!$B$23:$B$34,">="&($A73+3))>0,"Ferien",IF(COUNTIFS(Einstellungen!$A$38:$A$43,"<="&($A73+3),Einstellungen!$B$38:$B$43,">="&($A73+3))>0,"Sperre",IF(COUNTIF(Einstellungen!$A$47:$A$50,($A73+3))>0,"Nachschr.",""))))) | G73: =IF($A73="","",IF(COUNTIF($A$8:$A$67,($A73+4))>0,IF(INDEX($C$8:$C$67,MATCH(($A73+4),$A$8:$A$67,0))="","?",INDEX($C$8:$C$67,MATCH(($A73+4),$A$8:$A$67,0)))&IF(COUNTIF($A$8:$A$67,($A73+4))>1," +"&(COUNTIF($A$8:$A$67,($A73+4))-1),""),IF(COUNTIFS(Einstellungen!$A$23:$A$34,"<="&($A73+4),Einstellungen!$B$23:$B$34,">="&($A73+4))>0,"Ferien",IF(COUNTIFS(Einstellungen!$A$38:$A$43,"<="&($A73+4),Einstellungen!$B$38:$B$43,">="&($A73+4))>0,"Sperre",IF(COUNTIF(Einstellungen!$A$47:$A$50,($A73+4))>0,"Nachschr.",""))))) | H73: =IF($A73="","",IF(COUNTIF($A$8:$A$67,($A73+5))>0,IF(INDEX($C$8:$C$67,MATCH(($A73+5),$A$8:$A$67,0))="","?",INDEX($C$8:$C$67,MATCH(($A73+5),$A$8:$A$67,0)))&IF(COUNTIF($A$8:$A$67,($A73+5))>1," +"&(COUNTIF($A$8:$A$67,($A73+5))-1),""),IF(COUNTIFS(Einstellungen!$A$23:$A$34,"<="&($A73+5),Einstellungen!$B$23:$B$34,">="&($A73+5))>0,"Ferien",IF(COUNTIFS(Einstellungen!$A$38:$A$43,"<="&($A73+5),Einstellungen!$B$38:$B$43,">="&($A73+5))>0,"Sperre",IF(COUNTIF(Einstellungen!$A$47:$A$50,($A73+5))>0,"Nachschr.",""))))) | I73: =IF(A73="","",COUNTIFS($I$8:$I$67,A73,$D$8:$D$67,"Klassenarbeit")) | J73: =IF(A73="","",IF(A73<=Einstellungen!$C$6,1,2))
A74: =IF(A73="","",IF(A73+7>Einstellungen!$C$7,"",A73+7)) | B74: =IF(A74="","",WEEKNUM(A74,21)) | C74: =IF($A74="","",IF(COUNTIF($A$8:$A$67,($A74+0))>0,IF(INDEX($C$8:$C$67,MATCH(($A74+0),$A$8:$A$67,0))="","?",INDEX($C$8:$C$67,MATCH(($A74+0),$A$8:$A$67,0)))&IF(COUNTIF($A$8:$A$67,($A74+0))>1," +"&(COUNTIF($A$8:$A$67,($A74+0))-1),""),IF(COUNTIFS(Einstellungen!$A$23:$A$34,"<="&($A74+0),Einstellungen!$B$23:$B$34,">="&($A74+0))>0,"Ferien",IF(COUNTIFS(Einstellungen!$A$38:$A$43,"<="&($A74+0),Einstellungen!$B$38:$B$43,">="&($A74+0))>0,"Sperre",IF(COUNTIF(Einstellungen!$A$47:$A$50,($A74+0))>0,"Nachschr.",""))))) | D74: =IF($A74="","",IF(COUNTIF($A$8:$A$67,($A74+1))>0,IF(INDEX($C$8:$C$67,MATCH(($A74+1),$A$8:$A$67,0))="","?",INDEX($C$8:$C$67,MATCH(($A74+1),$A$8:$A$67,0)))&IF(COUNTIF($A$8:$A$67,($A74+1))>1," +"&(COUNTIF($A$8:$A$67,($A74+1))-1),""),IF(COUNTIFS(Einstellungen!$A$23:$A$34,"<="&($A74+1),Einstellungen!$B$23:$B$34,">="&($A74+1))>0,"Ferien",IF(COUNTIFS(Einstellungen!$A$38:$A$43,"<="&($A74+1),Einstellungen!$B$38:$B$43,">="&($A74+1))>0,"Sperre",IF(COUNTIF(Einstellungen!$A$47:$A$50,($A74+1))>0,"Nachschr.",""))))) | E74: =IF($A74="","",IF(COUNTIF($A$8:$A$67,($A74+2))>0,IF(INDEX($C$8:$C$67,MATCH(($A74+2),$A$8:$A$67,0))="","?",INDEX($C$8:$C$67,MATCH(($A74+2),$A$8:$A$67,0)))&IF(COUNTIF($A$8:$A$67,($A74+2))>1," +"&(COUNTIF($A$8:$A$67,($A74+2))-1),""),IF(COUNTIFS(Einstellungen!$A$23:$A$34,"<="&($A74+2),Einstellungen!$B$23:$B$34,">="&($A74+2))>0,"Ferien",IF(COUNTIFS(Einstellungen!$A$38:$A$43,"<="&($A74+2),Einstellungen!$B$38:$B$43,">="&($A74+2))>0,"Sperre",IF(COUNTIF(Einstellungen!$A$47:$A$50,($A74+2))>0,"Nachschr.",""))))) | F74: =IF($A74="","",IF(COUNTIF($A$8:$A$67,($A74+3))>0,IF(INDEX($C$8:$C$67,MATCH(($A74+3),$A$8:$A$67,0))="","?",INDEX($C$8:$C$67,MATCH(($A74+3),$A$8:$A$67,0)))&IF(COUNTIF($A$8:$A$67,($A74+3))>1," +"&(COUNTIF($A$8:$A$67,($A74+3))-1),""),IF(COUNTIFS(Einstellungen!$A$23:$A$34,"<="&($A74+3),Einstellungen!$B$23:$B$34,">="&($A74+3))>0,"Ferien",IF(COUNTIFS(Einstellungen!$A$38:$A$43,"<="&($A74+3),Einstellungen!$B$38:$B$43,">="&($A74+3))>0,"Sperre",IF(COUNTIF(Einstellungen!$A$47:$A$50,($A74+3))>0,"Nachschr.",""))))) | G74: =IF($A74="","",IF(COUNTIF($A$8:$A$67,($A74+4))>0,IF(INDEX($C$8:$C$67,MATCH(($A74+4),$A$8:$A$67,0))="","?",INDEX($C$8:$C$67,MATCH(($A74+4),$A$8:$A$67,0)))&IF(COUNTIF($A$8:$A$67,($A74+4))>1," +"&(COUNTIF($A$8:$A$67,($A74+4))-1),""),IF(COUNTIFS(Einstellungen!$A$23:$A$34,"<="&($A74+4),Einstellungen!$B$23:$B$34,">="&($A74+4))>0,"Ferien",IF(COUNTIFS(Einstellungen!$A$38:$A$43,"<="&($A74+4),Einstellungen!$B$38:$B$43,">="&($A74+4))>0,"Sperre",IF(COUNTIF(Einstellungen!$A$47:$A$50,($A74+4))>0,"Nachschr.",""))))) | H74: =IF($A74="","",IF(COUNTIF($A$8:$A$67,($A74+5))>0,IF(INDEX($C$8:$C$67,MATCH(($A74+5),$A$8:$A$67,0))="","?",INDEX($C$8:$C$67,MATCH(($A74+5),$A$8:$A$67,0)))&IF(COUNTIF($A$8:$A$67,($A74+5))>1," +"&(COUNTIF($A$8:$A$67,($A74+5))-1),""),IF(COUNTIFS(Einstellungen!$A$23:$A$34,"<="&($A74+5),Einstellungen!$B$23:$B$34,">="&($A74+5))>0,"Ferien",IF(COUNTIFS(Einstellungen!$A$38:$A$43,"<="&($A74+5),Einstellungen!$B$38:$B$43,">="&($A74+5))>0,"Sperre",IF(COUNTIF(Einstellungen!$A$47:$A$50,($A74+5))>0,"Nachschr.",""))))) | I74: =IF(A74="","",COUNTIFS($I$8:$I$67,A74,$D$8:$D$67,"Klassenarbeit")) | J74: =IF(A74="","",IF(A74<=Einstellungen!$C$6,1,2))
A75: =IF(A74="","",IF(A74+7>Einstellungen!$C$7,"",A74+7)) | B75: =IF(A75="","",WEEKNUM(A75,21)) | C75: =IF($A75="","",IF(COUNTIF($A$8:$A$67,($A75+0))>0,IF(INDEX($C$8:$C$67,MATCH(($A75+0),$A$8:$A$67,0))="","?",INDEX($C$8:$C$67,MATCH(($A75+0),$A$8:$A$67,0)))&IF(COUNTIF($A$8:$A$67,($A75+0))>1," +"&(COUNTIF($A$8:$A$67,($A75+0))-1),""),IF(COUNTIFS(Einstellungen!$A$23:$A$34,"<="&($A75+0),Einstellungen!$B$23:$B$34,">="&($A75+0))>0,"Ferien",IF(COUNTIFS(Einstellungen!$A$38:$A$43,"<="&($A75+0),Einstellungen!$B$38:$B$43,">="&($A75+0))>0,"Sperre",IF(COUNTIF(Einstellungen!$A$47:$A$50,($A75+0))>0,"Nachschr.",""))))) | D75: =IF($A75="","",IF(COUNTIF($A$8:$A$67,($A75+1))>0,IF(INDEX($C$8:$C$67,MATCH(($A75+1),$A$8:$A$67,0))="","?",INDEX($C$8:$C$67,MATCH(($A75+1),$A$8:$A$67,0)))&IF(COUNTIF($A$8:$A$67,($A75+1))>1," +"&(COUNTIF($A$8:$A$67,($A75+1))-1),""),IF(COUNTIFS(Einstellungen!$A$23:$A$34,"<="&($A75+1),Einstellungen!$B$23:$B$34,">="&($A75+1))>0,"Ferien",IF(COUNTIFS(Einstellungen!$A$38:$A$43,"<="&($A75+1),Einstellungen!$B$38:$B$43,">="&($A75+1))>0,"Sperre",IF(COUNTIF(Einstellungen!$A$47:$A$50,($A75+1))>0,"Nachschr.",""))))) | E75: =IF($A75="","",IF(COUNTIF($A$8:$A$67,($A75+2))>0,IF(INDEX($C$8:$C$67,MATCH(($A75+2),$A$8:$A$67,0))="","?",INDEX($C$8:$C$67,MATCH(($A75+2),$A$8:$A$67,0)))&IF(COUNTIF($A$8:$A$67,($A75+2))>1," +"&(COUNTIF($A$8:$A$67,($A75+2))-1),""),IF(COUNTIFS(Einstellungen!$A$23:$A$34,"<="&($A75+2),Einstellungen!$B$23:$B$34,">="&($A75+2))>0,"Ferien",IF(COUNTIFS(Einstellungen!$A$38:$A$43,"<="&($A75+2),Einstellungen!$B$38:$B$43,">="&($A75+2))>0,"Sperre",IF(COUNTIF(Einstellungen!$A$47:$A$50,($A75+2))>0,"Nachschr.",""))))) | F75: =IF($A75="","",IF(COUNTIF($A$8:$A$67,($A75+3))>0,IF(INDEX($C$8:$C$67,MATCH(($A75+3),$A$8:$A$67,0))="","?",INDEX($C$8:$C$67,MATCH(($A75+3),$A$8:$A$67,0)))&IF(COUNTIF($A$8:$A$67,($A75+3))>1," +"&(COUNTIF($A$8:$A$67,($A75+3))-1),""),IF(COUNTIFS(Einstellungen!$A$23:$A$34,"<="&($A75+3),Einstellungen!$B$23:$B$34,">="&($A75+3))>0,"Ferien",IF(COUNTIFS(Einstellungen!$A$38:$A$43,"<="&($A75+3),Einstellungen!$B$38:$B$43,">="&($A75+3))>0,"Sperre",IF(COUNTIF(Einstellungen!$A$47:$A$50,($A75+3))>0,"Nachschr.",""))))) | G75: =IF($A75="","",IF(COUNTIF($A$8:$A$67,($A75+4))>0,IF(INDEX($C$8:$C$67,MATCH(($A75+4),$A$8:$A$67,0))="","?",INDEX($C$8:$C$67,MATCH(($A75+4),$A$8:$A$67,0)))&IF(COUNTIF($A$8:$A$67,($A75+4))>1," +"&(COUNTIF($A$8:$A$67,($A75+4))-1),""),IF(COUNTIFS(Einstellungen!$A$23:$A$34,"<="&($A75+4),Einstellungen!$B$23:$B$34,">="&($A75+4))>0,"Ferien",IF(COUNTIFS(Einstellungen!$A$38:$A$43,"<="&($A75+4),Einstellungen!$B$38:$B$43,">="&($A75+4))>0,"Sperre",IF(COUNTIF(Einstellungen!$A$47:$A$50,($A75+4))>0,"Nachschr.",""))))) | H75: =IF($A75="","",IF(COUNTIF($A$8:$A$67,($A75+5))>0,IF(INDEX($C$8:$C$67,MATCH(($A75+5),$A$8:$A$67,0))="","?",INDEX($C$8:$C$67,MATCH(($A75+5),$A$8:$A$67,0)))&IF(COUNTIF($A$8:$A$67,($A75+5))>1," +"&(COUNTIF($A$8:$A$67,($A75+5))-1),""),IF(COUNTIFS(Einstellungen!$A$23:$A$34,"<="&($A75+5),Einstellungen!$B$23:$B$34,">="&($A75+5))>0,"Ferien",IF(COUNTIFS(Einstellungen!$A$38:$A$43,"<="&($A75+5),Einstellungen!$B$38:$B$43,">="&($A75+5))>0,"Sperre",IF(COUNTIF(Einstellungen!$A$47:$A$50,($A75+5))>0,"Nachschr.",""))))) | I75: =IF(A75="","",COUNTIFS($I$8:$I$67,A75,$D$8:$D$67,"Klassenarbeit")) | J75: =IF(A75="","",IF(A75<=Einstellungen!$C$6,1,2))
A76: =IF(A75="","",IF(A75+7>Einstellungen!$C$7,"",A75+7)) | B76: =IF(A76="","",WEEKNUM(A76,21)) | C76: =IF($A76="","",IF(COUNTIF($A$8:$A$67,($A76+0))>0,IF(INDEX($C$8:$C$67,MATCH(($A76+0),$A$8:$A$67,0))="","?",INDEX($C$8:$C$67,MATCH(($A76+0),$A$8:$A$67,0)))&IF(COUNTIF($A$8:$A$67,($A76+0))>1," +"&(COUNTIF($A$8:$A$67,($A76+0))-1),""),IF(COUNTIFS(Einstellungen!$A$23:$A$34,"<="&($A76+0),Einstellungen!$B$23:$B$34,">="&($A76+0))>0,"Ferien",IF(COUNTIFS(Einstellungen!$A$38:$A$43,"<="&($A76+0),Einstellungen!$B$38:$B$43,">="&($A76+0))>0,"Sperre",IF(COUNTIF(Einstellungen!$A$47:$A$50,($A76+0))>0,"Nachschr.",""))))) | D76: =IF($A76="","",IF(COUNTIF($A$8:$A$67,($A76+1))>0,IF(INDEX($C$8:$C$67,MATCH(($A76+1),$A$8:$A$67,0))="","?",INDEX($C$8:$C$67,MATCH(($A76+1),$A$8:$A$67,0)))&IF(COUNTIF($A$8:$A$67,($A76+1))>1," +"&(COUNTIF($A$8:$A$67,($A76+1))-1),""),IF(COUNTIFS(Einstellungen!$A$23:$A$34,"<="&($A76+1),Einstellungen!$B$23:$B$34,">="&($A76+1))>0,"Ferien",IF(COUNTIFS(Einstellungen!$A$38:$A$43,"<="&($A76+1),Einstellungen!$B$38:$B$43,">="&($A76+1))>0,"Sperre",IF(COUNTIF(Einstellungen!$A$47:$A$50,($A76+1))>0,"Nachschr.",""))))) | E76: =IF($A76="","",IF(COUNTIF($A$8:$A$67,($A76+2))>0,IF(INDEX($C$8:$C$67,MATCH(($A76+2),$A$8:$A$67,0))="","?",INDEX($C$8:$C$67,MATCH(($A76+2),$A$8:$A$67,0)))&IF(COUNTIF($A$8:$A$67,($A76+2))>1," +"&(COUNTIF($A$8:$A$67,($A76+2))-1),""),IF(COUNTIFS(Einstellungen!$A$23:$A$34,"<="&($A76+2),Einstellungen!$B$23:$B$34,">="&($A76+2))>0,"Ferien",IF(COUNTIFS(Einstellungen!$A$38:$A$43,"<="&($A76+2),Einstellungen!$B$38:$B$43,">="&($A76+2))>0,"Sperre",IF(COUNTIF(Einstellungen!$A$47:$A$50,($A76+2))>0,"Nachschr.",""))))) | F76: =IF($A76="","",IF(COUNTIF($A$8:$A$67,($A76+3))>0,IF(INDEX($C$8:$C$67,MATCH(($A76+3),$A$8:$A$67,0))="","?",INDEX($C$8:$C$67,MATCH(($A76+3),$A$8:$A$67,0)))&IF(COUNTIF($A$8:$A$67,($A76+3))>1," +"&(COUNTIF($A$8:$A$67,($A76+3))-1),""),IF(COUNTIFS(Einstellungen!$A$23:$A$34,"<="&($A76+3),Einstellungen!$B$23:$B$34,">="&($A76+3))>0,"Ferien",IF(COUNTIFS(Einstellungen!$A$38:$A$43,"<="&($A76+3),Einstellungen!$B$38:$B$43,">="&($A76+3))>0,"Sperre",IF(COUNTIF(Einstellungen!$A$47:$A$50,($A76+3))>0,"Nachschr.",""))))) | G76: =IF($A76="","",IF(COUNTIF($A$8:$A$67,($A76+4))>0,IF(INDEX($C$8:$C$67,MATCH(($A76+4),$A$8:$A$67,0))="","?",INDEX($C$8:$C$67,MATCH(($A76+4),$A$8:$A$67,0)))&IF(COUNTIF($A$8:$A$67,($A76+4))>1," +"&(COUNTIF($A$8:$A$67,($A76+4))-1),""),IF(COUNTIFS(Einstellungen!$A$23:$A$34,"<="&($A76+4),Einstellungen!$B$23:$B$34,">="&($A76+4))>0,"Ferien",IF(COUNTIFS(Einstellungen!$A$38:$A$43,"<="&($A76+4),Einstellungen!$B$38:$B$43,">="&($A76+4))>0,"Sperre",IF(COUNTIF(Einstellungen!$A$47:$A$50,($A76+4))>0,"Nachschr.",""))))) | H76: =IF($A76="","",IF(COUNTIF($A$8:$A$67,($A76+5))>0,IF(INDEX($C$8:$C$67,MATCH(($A76+5),$A$8:$A$67,0))="","?",INDEX($C$8:$C$67,MATCH(($A76+5),$A$8:$A$67,0)))&IF(COUNTIF($A$8:$A$67,($A76+5))>1," +"&(COUNTIF($A$8:$A$67,($A76+5))-1),""),IF(COUNTIFS(Einstellungen!$A$23:$A$34,"<="&($A76+5),Einstellungen!$B$23:$B$34,">="&($A76+5))>0,"Ferien",IF(COUNTIFS(Einstellungen!$A$38:$A$43,"<="&($A76+5),Einstellungen!$B$38:$B$43,">="&($A76+5))>0,"Sperre",IF(COUNTIF(Einstellungen!$A$47:$A$50,($A76+5))>0,"Nachschr.",""))))) | I76: =IF(A76="","",COUNTIFS($I$8:$I$67,A76,$D$8:$D$67,"Klassenarbeit")) | J76: =IF(A76="","",IF(A76<=Einstellungen!$C$6,1,2))
A77: =IF(A76="","",IF(A76+7>Einstellungen!$C$7,"",A76+7)) | B77: =IF(A77="","",WEEKNUM(A77,21)) | C77: =IF($A77="","",IF(COUNTIF($A$8:$A$67,($A77+0))>0,IF(INDEX($C$8:$C$67,MATCH(($A77+0),$A$8:$A$67,0))="","?",INDEX($C$8:$C$67,MATCH(($A77+0),$A$8:$A$67,0)))&IF(COUNTIF($A$8:$A$67,($A77+0))>1," +"&(COUNTIF($A$8:$A$67,($A77+0))-1),""),IF(COUNTIFS(Einstellungen!$A$23:$A$34,"<="&($A77+0),Einstellungen!$B$23:$B$34,">="&($A77+0))>0,"Ferien",IF(COUNTIFS(Einstellungen!$A$38:$A$43,"<="&($A77+0),Einstellungen!$B$38:$B$43,">="&($A77+0))>0,"Sperre",IF(COUNTIF(Einstellungen!$A$47:$A$50,($A77+0))>0,"Nachschr.",""))))) | D77: =IF($A77="","",IF(COUNTIF($A$8:$A$67,($A77+1))>0,IF(INDEX($C$8:$C$67,MATCH(($A77+1),$A$8:$A$67,0))="","?",INDEX($C$8:$C$67,MATCH(($A77+1),$A$8:$A$67,0)))&IF(COUNTIF($A$8:$A$67,($A77+1))>1," +"&(COUNTIF($A$8:$A$67,($A77+1))-1),""),IF(COUNTIFS(Einstellungen!$A$23:$A$34,"<="&($A77+1),Einstellungen!$B$23:$B$34,">="&($A77+1))>0,"Ferien",IF(COUNTIFS(Einstellungen!$A$38:$A$43,"<="&($A77+1),Einstellungen!$B$38:$B$43,">="&($A77+1))>0,"Sperre",IF(COUNTIF(Einstellungen!$A$47:$A$50,($A77+1))>0,"Nachschr.",""))))) | E77: =IF($A77="","",IF(COUNTIF($A$8:$A$67,($A77+2))>0,IF(INDEX($C$8:$C$67,MATCH(($A77+2),$A$8:$A$67,0))="","?",INDEX($C$8:$C$67,MATCH(($A77+2),$A$8:$A$67,0)))&IF(COUNTIF($A$8:$A$67,($A77+2))>1," +"&(COUNTIF($A$8:$A$67,($A77+2))-1),""),IF(COUNTIFS(Einstellungen!$A$23:$A$34,"<="&($A77+2),Einstellungen!$B$23:$B$34,">="&($A77+2))>0,"Ferien",IF(COUNTIFS(Einstellungen!$A$38:$A$43,"<="&($A77+2),Einstellungen!$B$38:$B$43,">="&($A77+2))>0,"Sperre",IF(COUNTIF(Einstellungen!$A$47:$A$50,($A77+2))>0,"Nachschr.",""))))) | F77: =IF($A77="","",IF(COUNTIF($A$8:$A$67,($A77+3))>0,IF(INDEX($C$8:$C$67,MATCH(($A77+3),$A$8:$A$67,0))="","?",INDEX($C$8:$C$67,MATCH(($A77+3),$A$8:$A$67,0)))&IF(COUNTIF($A$8:$A$67,($A77+3))>1," +"&(COUNTIF($A$8:$A$67,($A77+3))-1),""),IF(COUNTIFS(Einstellungen!$A$23:$A$34,"<="&($A77+3),Einstellungen!$B$23:$B$34,">="&($A77+3))>0,"Ferien",IF(COUNTIFS(Einstellungen!$A$38:$A$43,"<="&($A77+3),Einstellungen!$B$38:$B$43,">="&($A77+3))>0,"Sperre",IF(COUNTIF(Einstellungen!$A$47:$A$50,($A77+3))>0,"Nachschr.",""))))) | G77: =IF($A77="","",IF(COUNTIF($A$8:$A$67,($A77+4))>0,IF(INDEX($C$8:$C$67,MATCH(($A77+4),$A$8:$A$67,0))="","?",INDEX($C$8:$C$67,MATCH(($A77+4),$A$8:$A$67,0)))&IF(COUNTIF($A$8:$A$67,($A77+4))>1," +"&(COUNTIF($A$8:$A$67,($A77+4))-1),""),IF(COUNTIFS(Einstellungen!$A$23:$A$34,"<="&($A77+4),Einstellungen!$B$23:$B$34,">="&($A77+4))>0,"Ferien",IF(COUNTIFS(Einstellungen!$A$38:$A$43,"<="&($A77+4),Einstellungen!$B$38:$B$43,">="&($A77+4))>0,"Sperre",IF(COUNTIF(Einstellungen!$A$47:$A$50,($A77+4))>0,"Nachschr.",""))))) | H77: =IF($A77="","",IF(COUNTIF($A$8:$A$67,($A77+5))>0,IF(INDEX($C$8:$C$67,MATCH(($A77+5),$A$8:$A$67,0))="","?",INDEX($C$8:$C$67,MATCH(($A77+5),$A$8:$A$67,0)))&IF(COUNTIF($A$8:$A$67,($A77+5))>1," +"&(COUNTIF($A$8:$A$67,($A77+5))-1),""),IF(COUNTIFS(Einstellungen!$A$23:$A$34,"<="&($A77+5),Einstellungen!$B$23:$B$34,">="&($A77+5))>0,"Ferien",IF(COUNTIFS(Einstellungen!$A$38:$A$43,"<="&($A77+5),Einstellungen!$B$38:$B$43,">="&($A77+5))>0,"Sperre",IF(COUNTIF(Einstellungen!$A$47:$A$50,($A77+5))>0,"Nachschr.",""))))) | I77: =IF(A77="","",COUNTIFS($I$8:$I$67,A77,$D$8:$D$67,"Klassenarbeit")) | J77: =IF(A77="","",IF(A77<=Einstellungen!$C$6,1,2))
A78: =IF(A77="","",IF(A77+7>Einstellungen!$C$7,"",A77+7)) | B78: =IF(A78="","",WEEKNUM(A78,21)) | C78: =IF($A78="","",IF(COUNTIF($A$8:$A$67,($A78+0))>0,IF(INDEX($C$8:$C$67,MATCH(($A78+0),$A$8:$A$67,0))="","?",INDEX($C$8:$C$67,MATCH(($A78+0),$A$8:$A$67,0)))&IF(COUNTIF($A$8:$A$67,($A78+0))>1," +"&(COUNTIF($A$8:$A$67,($A78+0))-1),""),IF(COUNTIFS(Einstellungen!$A$23:$A$34,"<="&($A78+0),Einstellungen!$B$23:$B$34,">="&($A78+0))>0,"Ferien",IF(COUNTIFS(Einstellungen!$A$38:$A$43,"<="&($A78+0),Einstellungen!$B$38:$B$43,">="&($A78+0))>0,"Sperre",IF(COUNTIF(Einstellungen!$A$47:$A$50,($A78+0))>0,"Nachschr.",""))))) | D78: =IF($A78="","",IF(COUNTIF($A$8:$A$67,($A78+1))>0,IF(INDEX($C$8:$C$67,MATCH(($A78+1),$A$8:$A$67,0))="","?",INDEX($C$8:$C$67,MATCH(($A78+1),$A$8:$A$67,0)))&IF(COUNTIF($A$8:$A$67,($A78+1))>1," +"&(COUNTIF($A$8:$A$67,($A78+1))-1),""),IF(COUNTIFS(Einstellungen!$A$23:$A$34,"<="&($A78+1),Einstellungen!$B$23:$B$34,">="&($A78+1))>0,"Ferien",IF(COUNTIFS(Einstellungen!$A$38:$A$43,"<="&($A78+1),Einstellungen!$B$38:$B$43,">="&($A78+1))>0,"Sperre",IF(COUNTIF(Einstellungen!$A$47:$A$50,($A78+1))>0,"Nachschr.",""))))) | E78: =IF($A78="","",IF(COUNTIF($A$8:$A$67,($A78+2))>0,IF(INDEX($C$8:$C$67,MATCH(($A78+2),$A$8:$A$67,0))="","?",INDEX($C$8:$C$67,MATCH(($A78+2),$A$8:$A$67,0)))&IF(COUNTIF($A$8:$A$67,($A78+2))>1," +"&(COUNTIF($A$8:$A$67,($A78+2))-1),""),IF(COUNTIFS(Einstellungen!$A$23:$A$34,"<="&($A78+2),Einstellungen!$B$23:$B$34,">="&($A78+2))>0,"Ferien",IF(COUNTIFS(Einstellungen!$A$38:$A$43,"<="&($A78+2),Einstellungen!$B$38:$B$43,">="&($A78+2))>0,"Sperre",IF(COUNTIF(Einstellungen!$A$47:$A$50,($A78+2))>0,"Nachschr.",""))))) | F78: =IF($A78="","",IF(COUNTIF($A$8:$A$67,($A78+3))>0,IF(INDEX($C$8:$C$67,MATCH(($A78+3),$A$8:$A$67,0))="","?",INDEX($C$8:$C$67,MATCH(($A78+3),$A$8:$A$67,0)))&IF(COUNTIF($A$8:$A$67,($A78+3))>1," +"&(COUNTIF($A$8:$A$67,($A78+3))-1),""),IF(COUNTIFS(Einstellungen!$A$23:$A$34,"<="&($A78+3),Einstellungen!$B$23:$B$34,">="&($A78+3))>0,"Ferien",IF(COUNTIFS(Einstellungen!$A$38:$A$43,"<="&($A78+3),Einstellungen!$B$38:$B$43,">="&($A78+3))>0,"Sperre",IF(COUNTIF(Einstellungen!$A$47:$A$50,($A78+3))>0,"Nachschr.",""))))) | G78: =IF($A78="","",IF(COUNTIF($A$8:$A$67,($A78+4))>0,IF(INDEX($C$8:$C$67,MATCH(($A78+4),$A$8:$A$67,0))="","?",INDEX($C$8:$C$67,MATCH(($A78+4),$A$8:$A$67,0)))&IF(COUNTIF($A$8:$A$67,($A78+4))>1," +"&(COUNTIF($A$8:$A$67,($A78+4))-1),""),IF(COUNTIFS(Einstellungen!$A$23:$A$34,"<="&($A78+4),Einstellungen!$B$23:$B$34,">="&($A78+4))>0,"Ferien",IF(COUNTIFS(Einstellungen!$A$38:$A$43,"<="&($A78+4),Einstellungen!$B$38:$B$43,">="&($A78+4))>0,"Sperre",IF(COUNTIF(Einstellungen!$A$47:$A$50,($A78+4))>0,"Nachschr.",""))))) | H78: =IF($A78="","",IF(COUNTIF($A$8:$A$67,($A78+5))>0,IF(INDEX($C$8:$C$67,MATCH(($A78+5),$A$8:$A$67,0))="","?",INDEX($C$8:$C$67,MATCH(($A78+5),$A$8:$A$67,0)))&IF(COUNTIF($A$8:$A$67,($A78+5))>1," +"&(COUNTIF($A$8:$A$67,($A78+5))-1),""),IF(COUNTIFS(Einstellungen!$A$23:$A$34,"<="&($A78+5),Einstellungen!$B$23:$B$34,">="&($A78+5))>0,"Ferien",IF(COUNTIFS(Einstellungen!$A$38:$A$43,"<="&($A78+5),Einstellungen!$B$38:$B$43,">="&($A78+5))>0,"Sperre",IF(COUNTIF(Einstellungen!$A$47:$A$50,($A78+5))>0,"Nachschr.",""))))) | I78: =IF(A78="","",COUNTIFS($I$8:$I$67,A78,$D$8:$D$67,"Klassenarbeit")) | J78: =IF(A78="","",IF(A78<=Einstellungen!$C$6,1,2))
A79: =IF(A78="","",IF(A78+7>Einstellungen!$C$7,"",A78+7)) | B79: =IF(A79="","",WEEKNUM(A79,21)) | C79: =IF($A79="","",IF(COUNTIF($A$8:$A$67,($A79+0))>0,IF(INDEX($C$8:$C$67,MATCH(($A79+0),$A$8:$A$67,0))="","?",INDEX($C$8:$C$67,MATCH(($A79+0),$A$8:$A$67,0)))&IF(COUNTIF($A$8:$A$67,($A79+0))>1," +"&(COUNTIF($A$8:$A$67,($A79+0))-1),""),IF(COUNTIFS(Einstellungen!$A$23:$A$34,"<="&($A79+0),Einstellungen!$B$23:$B$34,">="&($A79+0))>0,"Ferien",IF(COUNTIFS(Einstellungen!$A$38:$A$43,"<="&($A79+0),Einstellungen!$B$38:$B$43,">="&($A79+0))>0,"Sperre",IF(COUNTIF(Einstellungen!$A$47:$A$50,($A79+0))>0,"Nachschr.",""))))) | D79: =IF($A79="","",IF(COUNTIF($A$8:$A$67,($A79+1))>0,IF(INDEX($C$8:$C$67,MATCH(($A79+1),$A$8:$A$67,0))="","?",INDEX($C$8:$C$67,MATCH(($A79+1),$A$8:$A$67,0)))&IF(COUNTIF($A$8:$A$67,($A79+1))>1," +"&(COUNTIF($A$8:$A$67,($A79+1))-1),""),IF(COUNTIFS(Einstellungen!$A$23:$A$34,"<="&($A79+1),Einstellungen!$B$23:$B$34,">="&($A79+1))>0,"Ferien",IF(COUNTIFS(Einstellungen!$A$38:$A$43,"<="&($A79+1),Einstellungen!$B$38:$B$43,">="&($A79+1))>0,"Sperre",IF(COUNTIF(Einstellungen!$A$47:$A$50,($A79+1))>0,"Nachschr.",""))))) | E79: =IF($A79="","",IF(COUNTIF($A$8:$A$67,($A79+2))>0,IF(INDEX($C$8:$C$67,MATCH(($A79+2),$A$8:$A$67,0))="","?",INDEX($C$8:$C$67,MATCH(($A79+2),$A$8:$A$67,0)))&IF(COUNTIF($A$8:$A$67,($A79+2))>1," +"&(COUNTIF($A$8:$A$67,($A79+2))-1),""),IF(COUNTIFS(Einstellungen!$A$23:$A$34,"<="&($A79+2),Einstellungen!$B$23:$B$34,">="&($A79+2))>0,"Ferien",IF(COUNTIFS(Einstellungen!$A$38:$A$43,"<="&($A79+2),Einstellungen!$B$38:$B$43,">="&($A79+2))>0,"Sperre",IF(COUNTIF(Einstellungen!$A$47:$A$50,($A79+2))>0,"Nachschr.",""))))) | F79: =IF($A79="","",IF(COUNTIF($A$8:$A$67,($A79+3))>0,IF(INDEX($C$8:$C$67,MATCH(($A79+3),$A$8:$A$67,0))="","?",INDEX($C$8:$C$67,MATCH(($A79+3),$A$8:$A$67,0)))&IF(COUNTIF($A$8:$A$67,($A79+3))>1," +"&(COUNTIF($A$8:$A$67,($A79+3))-1),""),IF(COUNTIFS(Einstellungen!$A$23:$A$34,"<="&($A79+3),Einstellungen!$B$23:$B$34,">="&($A79+3))>0,"Ferien",IF(COUNTIFS(Einstellungen!$A$38:$A$43,"<="&($A79+3),Einstellungen!$B$38:$B$43,">="&($A79+3))>0,"Sperre",IF(COUNTIF(Einstellungen!$A$47:$A$50,($A79+3))>0,"Nachschr.",""))))) | G79: =IF($A79="","",IF(COUNTIF($A$8:$A$67,($A79+4))>0,IF(INDEX($C$8:$C$67,MATCH(($A79+4),$A$8:$A$67,0))="","?",INDEX($C$8:$C$67,MATCH(($A79+4),$A$8:$A$67,0)))&IF(COUNTIF($A$8:$A$67,($A79+4))>1," +"&(COUNTIF($A$8:$A$67,($A79+4))-1),""),IF(COUNTIFS(Einstellungen!$A$23:$A$34,"<="&($A79+4),Einstellungen!$B$23:$B$34,">="&($A79+4))>0,"Ferien",IF(COUNTIFS(Einstellungen!$A$38:$A$43,"<="&($A79+4),Einstellungen!$B$38:$B$43,">="&($A79+4))>0,"Sperre",IF(COUNTIF(Einstellungen!$A$47:$A$50,($A79+4))>0,"Nachschr.",""))))) | H79: =IF($A79="","",IF(COUNTIF($A$8:$A$67,($A79+5))>0,IF(INDEX($C$8:$C$67,MATCH(($A79+5),$A$8:$A$67,0))="","?",INDEX($C$8:$C$67,MATCH(($A79+5),$A$8:$A$67,0)))&IF(COUNTIF($A$8:$A$67,($A79+5))>1," +"&(COUNTIF($A$8:$A$67,($A79+5))-1),""),IF(COUNTIFS(Einstellungen!$A$23:$A$34,"<="&($A79+5),Einstellungen!$B$23:$B$34,">="&($A79+5))>0,"Ferien",IF(COUNTIFS(Einstellungen!$A$38:$A$43,"<="&($A79+5),Einstellungen!$B$38:$B$43,">="&($A79+5))>0,"Sperre",IF(COUNTIF(Einstellungen!$A$47:$A$50,($A79+5))>0,"Nachschr.",""))))) | I79: =IF(A79="","",COUNTIFS($I$8:$I$67,A79,$D$8:$D$67,"Klassenarbeit")) | J79: =IF(A79="","",IF(A79<=Einstellungen!$C$6,1,2))
A80: =IF(A79="","",IF(A79+7>Einstellungen!$C$7,"",A79+7)) | B80: =IF(A80="","",WEEKNUM(A80,21)) | C80: =IF($A80="","",IF(COUNTIF($A$8:$A$67,($A80+0))>0,IF(INDEX($C$8:$C$67,MATCH(($A80+0),$A$8:$A$67,0))="","?",INDEX($C$8:$C$67,MATCH(($A80+0),$A$8:$A$67,0)))&IF(COUNTIF($A$8:$A$67,($A80+0))>1," +"&(COUNTIF($A$8:$A$67,($A80+0))-1),""),IF(COUNTIFS(Einstellungen!$A$23:$A$34,"<="&($A80+0),Einstellungen!$B$23:$B$34,">="&($A80+0))>0,"Ferien",IF(COUNTIFS(Einstellungen!$A$38:$A$43,"<="&($A80+0),Einstellungen!$B$38:$B$43,">="&($A80+0))>0,"Sperre",IF(COUNTIF(Einstellungen!$A$47:$A$50,($A80+0))>0,"Nachschr.",""))))) | D80: =IF($A80="","",IF(COUNTIF($A$8:$A$67,($A80+1))>0,IF(INDEX($C$8:$C$67,MATCH(($A80+1),$A$8:$A$67,0))="","?",INDEX($C$8:$C$67,MATCH(($A80+1),$A$8:$A$67,0)))&IF(COUNTIF($A$8:$A$67,($A80+1))>1," +"&(COUNTIF($A$8:$A$67,($A80+1))-1),""),IF(COUNTIFS(Einstellungen!$A$23:$A$34,"<="&($A80+1),Einstellungen!$B$23:$B$34,">="&($A80+1))>0,"Ferien",IF(COUNTIFS(Einstellungen!$A$38:$A$43,"<="&($A80+1),Einstellungen!$B$38:$B$43,">="&($A80+1))>0,"Sperre",IF(COUNTIF(Einstellungen!$A$47:$A$50,($A80+1))>0,"Nachschr.",""))))) | E80: =IF($A80="","",IF(COUNTIF($A$8:$A$67,($A80+2))>0,IF(INDEX($C$8:$C$67,MATCH(($A80+2),$A$8:$A$67,0))="","?",INDEX($C$8:$C$67,MATCH(($A80+2),$A$8:$A$67,0)))&IF(COUNTIF($A$8:$A$67,($A80+2))>1," +"&(COUNTIF($A$8:$A$67,($A80+2))-1),""),IF(COUNTIFS(Einstellungen!$A$23:$A$34,"<="&($A80+2),Einstellungen!$B$23:$B$34,">="&($A80+2))>0,"Ferien",IF(COUNTIFS(Einstellungen!$A$38:$A$43,"<="&($A80+2),Einstellungen!$B$38:$B$43,">="&($A80+2))>0,"Sperre",IF(COUNTIF(Einstellungen!$A$47:$A$50,($A80+2))>0,"Nachschr.",""))))) | F80: =IF($A80="","",IF(COUNTIF($A$8:$A$67,($A80+3))>0,IF(INDEX($C$8:$C$67,MATCH(($A80+3),$A$8:$A$67,0))="","?",INDEX($C$8:$C$67,MATCH(($A80+3),$A$8:$A$67,0)))&IF(COUNTIF($A$8:$A$67,($A80+3))>1," +"&(COUNTIF($A$8:$A$67,($A80+3))-1),""),IF(COUNTIFS(Einstellungen!$A$23:$A$34,"<="&($A80+3),Einstellungen!$B$23:$B$34,">="&($A80+3))>0,"Ferien",IF(COUNTIFS(Einstellungen!$A$38:$A$43,"<="&($A80+3),Einstellungen!$B$38:$B$43,">="&($A80+3))>0,"Sperre",IF(COUNTIF(Einstellungen!$A$47:$A$50,($A80+3))>0,"Nachschr.",""))))) | G80: =IF($A80="","",IF(COUNTIF($A$8:$A$67,($A80+4))>0,IF(INDEX($C$8:$C$67,MATCH(($A80+4),$A$8:$A$67,0))="","?",INDEX($C$8:$C$67,MATCH(($A80+4),$A$8:$A$67,0)))&IF(COUNTIF($A$8:$A$67,($A80+4))>1," +"&(COUNTIF($A$8:$A$67,($A80+4))-1),""),IF(COUNTIFS(Einstellungen!$A$23:$A$34,"<="&($A80+4),Einstellungen!$B$23:$B$34,">="&($A80+4))>0,"Ferien",IF(COUNTIFS(Einstellungen!$A$38:$A$43,"<="&($A80+4),Einstellungen!$B$38:$B$43,">="&($A80+4))>0,"Sperre",IF(COUNTIF(Einstellungen!$A$47:$A$50,($A80+4))>0,"Nachschr.",""))))) | H80: =IF($A80="","",IF(COUNTIF($A$8:$A$67,($A80+5))>0,IF(INDEX($C$8:$C$67,MATCH(($A80+5),$A$8:$A$67,0))="","?",INDEX($C$8:$C$67,MATCH(($A80+5),$A$8:$A$67,0)))&IF(COUNTIF($A$8:$A$67,($A80+5))>1," +"&(COUNTIF($A$8:$A$67,($A80+5))-1),""),IF(COUNTIFS(Einstellungen!$A$23:$A$34,"<="&($A80+5),Einstellungen!$B$23:$B$34,">="&($A80+5))>0,"Ferien",IF(COUNTIFS(Einstellungen!$A$38:$A$43,"<="&($A80+5),Einstellungen!$B$38:$B$43,">="&($A80+5))>0,"Sperre",IF(COUNTIF(Einstellungen!$A$47:$A$50,($A80+5))>0,"Nachschr.",""))))) | I80: =IF(A80="","",COUNTIFS($I$8:$I$67,A80,$D$8:$D$67,"Klassenarbeit")) | J80: =IF(A80="","",IF(A80<=Einstellungen!$C$6,1,2))
A81: =IF(A80="","",IF(A80+7>Einstellungen!$C$7,"",A80+7)) | B81: =IF(A81="","",WEEKNUM(A81,21)) | C81: =IF($A81="","",IF(COUNTIF($A$8:$A$67,($A81+0))>0,IF(INDEX($C$8:$C$67,MATCH(($A81+0),$A$8:$A$67,0))="","?",INDEX($C$8:$C$67,MATCH(($A81+0),$A$8:$A$67,0)))&IF(COUNTIF($A$8:$A$67,($A81+0))>1," +"&(COUNTIF($A$8:$A$67,($A81+0))-1),""),IF(COUNTIFS(Einstellungen!$A$23:$A$34,"<="&($A81+0),Einstellungen!$B$23:$B$34,">="&($A81+0))>0,"Ferien",IF(COUNTIFS(Einstellungen!$A$38:$A$43,"<="&($A81+0),Einstellungen!$B$38:$B$43,">="&($A81+0))>0,"Sperre",IF(COUNTIF(Einstellungen!$A$47:$A$50,($A81+0))>0,"Nachschr.",""))))) | D81: =IF($A81="","",IF(COUNTIF($A$8:$A$67,($A81+1))>0,IF(INDEX($C$8:$C$67,MATCH(($A81+1),$A$8:$A$67,0))="","?",INDEX($C$8:$C$67,MATCH(($A81+1),$A$8:$A$67,0)))&IF(COUNTIF($A$8:$A$67,($A81+1))>1," +"&(COUNTIF($A$8:$A$67,($A81+1))-1),""),IF(COUNTIFS(Einstellungen!$A$23:$A$34,"<="&($A81+1),Einstellungen!$B$23:$B$34,">="&($A81+1))>0,"Ferien",IF(COUNTIFS(Einstellungen!$A$38:$A$43,"<="&($A81+1),Einstellungen!$B$38:$B$43,">="&($A81+1))>0,"Sperre",IF(COUNTIF(Einstellungen!$A$47:$A$50,($A81+1))>0,"Nachschr.",""))))) | E81: =IF($A81="","",IF(COUNTIF($A$8:$A$67,($A81+2))>0,IF(INDEX($C$8:$C$67,MATCH(($A81+2),$A$8:$A$67,0))="","?",INDEX($C$8:$C$67,MATCH(($A81+2),$A$8:$A$67,0)))&IF(COUNTIF($A$8:$A$67,($A81+2))>1," +"&(COUNTIF($A$8:$A$67,($A81+2))-1),""),IF(COUNTIFS(Einstellungen!$A$23:$A$34,"<="&($A81+2),Einstellungen!$B$23:$B$34,">="&($A81+2))>0,"Ferien",IF(COUNTIFS(Einstellungen!$A$38:$A$43,"<="&($A81+2),Einstellungen!$B$38:$B$43,">="&($A81+2))>0,"Sperre",IF(COUNTIF(Einstellungen!$A$47:$A$50,($A81+2))>0,"Nachschr.",""))))) | F81: =IF($A81="","",IF(COUNTIF($A$8:$A$67,($A81+3))>0,IF(INDEX($C$8:$C$67,MATCH(($A81+3),$A$8:$A$67,0))="","?",INDEX($C$8:$C$67,MATCH(($A81+3),$A$8:$A$67,0)))&IF(COUNTIF($A$8:$A$67,($A81+3))>1," +"&(COUNTIF($A$8:$A$67,($A81+3))-1),""),IF(COUNTIFS(Einstellungen!$A$23:$A$34,"<="&($A81+3),Einstellungen!$B$23:$B$34,">="&($A81+3))>0,"Ferien",IF(COUNTIFS(Einstellungen!$A$38:$A$43,"<="&($A81+3),Einstellungen!$B$38:$B$43,">="&($A81+3))>0,"Sperre",IF(COUNTIF(Einstellungen!$A$47:$A$50,($A81+3))>0,"Nachschr.",""))))) | G81: =IF($A81="","",IF(COUNTIF($A$8:$A$67,($A81+4))>0,IF(INDEX($C$8:$C$67,MATCH(($A81+4),$A$8:$A$67,0))="","?",INDEX($C$8:$C$67,MATCH(($A81+4),$A$8:$A$67,0)))&IF(COUNTIF($A$8:$A$67,($A81+4))>1," +"&(COUNTIF($A$8:$A$67,($A81+4))-1),""),IF(COUNTIFS(Einstellungen!$A$23:$A$34,"<="&($A81+4),Einstellungen!$B$23:$B$34,">="&($A81+4))>0,"Ferien",IF(COUNTIFS(Einstellungen!$A$38:$A$43,"<="&($A81+4),Einstellungen!$B$38:$B$43,">="&($A81+4))>0,"Sperre",IF(COUNTIF(Einstellungen!$A$47:$A$50,($A81+4))>0,"Nachschr.",""))))) | H81: =IF($A81="","",IF(COUNTIF($A$8:$A$67,($A81+5))>0,IF(INDEX($C$8:$C$67,MATCH(($A81+5),$A$8:$A$67,0))="","?",INDEX($C$8:$C$67,MATCH(($A81+5),$A$8:$A$67,0)))&IF(COUNTIF($A$8:$A$67,($A81+5))>1," +"&(COUNTIF($A$8:$A$67,($A81+5))-1),""),IF(COUNTIFS(Einstellungen!$A$23:$A$34,"<="&($A81+5),Einstellungen!$B$23:$B$34,">="&($A81+5))>0,"Ferien",IF(COUNTIFS(Einstellungen!$A$38:$A$43,"<="&($A81+5),Einstellungen!$B$38:$B$43,">="&($A81+5))>0,"Sperre",IF(COUNTIF(Einstellungen!$A$47:$A$50,($A81+5))>0,"Nachschr.",""))))) | I81: =IF(A81="","",COUNTIFS($I$8:$I$67,A81,$D$8:$D$67,"Klassenarbeit")) | J81: =IF(A81="","",IF(A81<=Einstellungen!$C$6,1,2))
A82: =IF(A81="","",IF(A81+7>Einstellungen!$C$7,"",A81+7)) | B82: =IF(A82="","",WEEKNUM(A82,21)) | C82: =IF($A82="","",IF(COUNTIF($A$8:$A$67,($A82+0))>0,IF(INDEX($C$8:$C$67,MATCH(($A82+0),$A$8:$A$67,0))="","?",INDEX($C$8:$C$67,MATCH(($A82+0),$A$8:$A$67,0)))&IF(COUNTIF($A$8:$A$67,($A82+0))>1," +"&(COUNTIF($A$8:$A$67,($A82+0))-1),""),IF(COUNTIFS(Einstellungen!$A$23:$A$34,"<="&($A82+0),Einstellungen!$B$23:$B$34,">="&($A82+0))>0,"Ferien",IF(COUNTIFS(Einstellungen!$A$38:$A$43,"<="&($A82+0),Einstellungen!$B$38:$B$43,">="&($A82+0))>0,"Sperre",IF(COUNTIF(Einstellungen!$A$47:$A$50,($A82+0))>0,"Nachschr.",""))))) | D82: =IF($A82="","",IF(COUNTIF($A$8:$A$67,($A82+1))>0,IF(INDEX($C$8:$C$67,MATCH(($A82+1),$A$8:$A$67,0))="","?",INDEX($C$8:$C$67,MATCH(($A82+1),$A$8:$A$67,0)))&IF(COUNTIF($A$8:$A$67,($A82+1))>1," +"&(COUNTIF($A$8:$A$67,($A82+1))-1),""),IF(COUNTIFS(Einstellungen!$A$23:$A$34,"<="&($A82+1),Einstellungen!$B$23:$B$34,">="&($A82+1))>0,"Ferien",IF(COUNTIFS(Einstellungen!$A$38:$A$43,"<="&($A82+1),Einstellungen!$B$38:$B$43,">="&($A82+1))>0,"Sperre",IF(COUNTIF(Einstellungen!$A$47:$A$50,($A82+1))>0,"Nachschr.",""))))) | E82: =IF($A82="","",IF(COUNTIF($A$8:$A$67,($A82+2))>0,IF(INDEX($C$8:$C$67,MATCH(($A82+2),$A$8:$A$67,0))="","?",INDEX($C$8:$C$67,MATCH(($A82+2),$A$8:$A$67,0)))&IF(COUNTIF($A$8:$A$67,($A82+2))>1," +"&(COUNTIF($A$8:$A$67,($A82+2))-1),""),IF(COUNTIFS(Einstellungen!$A$23:$A$34,"<="&($A82+2),Einstellungen!$B$23:$B$34,">="&($A82+2))>0,"Ferien",IF(COUNTIFS(Einstellungen!$A$38:$A$43,"<="&($A82+2),Einstellungen!$B$38:$B$43,">="&($A82+2))>0,"Sperre",IF(COUNTIF(Einstellungen!$A$47:$A$50,($A82+2))>0,"Nachschr.",""))))) | F82: =IF($A82="","",IF(COUNTIF($A$8:$A$67,($A82+3))>0,IF(INDEX($C$8:$C$67,MATCH(($A82+3),$A$8:$A$67,0))="","?",INDEX($C$8:$C$67,MATCH(($A82+3),$A$8:$A$67,0)))&IF(COUNTIF($A$8:$A$67,($A82+3))>1," +"&(COUNTIF($A$8:$A$67,($A82+3))-1),""),IF(COUNTIFS(Einstellungen!$A$23:$A$34,"<="&($A82+3),Einstellungen!$B$23:$B$34,">="&($A82+3))>0,"Ferien",IF(COUNTIFS(Einstellungen!$A$38:$A$43,"<="&($A82+3),Einstellungen!$B$38:$B$43,">="&($A82+3))>0,"Sperre",IF(COUNTIF(Einstellungen!$A$47:$A$50,($A82+3))>0,"Nachschr.",""))))) | G82: =IF($A82="","",IF(COUNTIF($A$8:$A$67,($A82+4))>0,IF(INDEX($C$8:$C$67,MATCH(($A82+4),$A$8:$A$67,0))="","?",INDEX($C$8:$C$67,MATCH(($A82+4),$A$8:$A$67,0)))&IF(COUNTIF($A$8:$A$67,($A82+4))>1," +"&(COUNTIF($A$8:$A$67,($A82+4))-1),""),IF(COUNTIFS(Einstellungen!$A$23:$A$34,"<="&($A82+4),Einstellungen!$B$23:$B$34,">="&($A82+4))>0,"Ferien",IF(COUNTIFS(Einstellungen!$A$38:$A$43,"<="&($A82+4),Einstellungen!$B$38:$B$43,">="&($A82+4))>0,"Sperre",IF(COUNTIF(Einstellungen!$A$47:$A$50,($A82+4))>0,"Nachschr.",""))))) | H82: =IF($A82="","",IF(COUNTIF($A$8:$A$67,($A82+5))>0,IF(INDEX($C$8:$C$67,MATCH(($A82+5),$A$8:$A$67,0))="","?",INDEX($C$8:$C$67,MATCH(($A82+5),$A$8:$A$67,0)))&IF(COUNTIF($A$8:$A$67,($A82+5))>1," +"&(COUNTIF($A$8:$A$67,($A82+5))-1),""),IF(COUNTIFS(Einstellungen!$A$23:$A$34,"<="&($A82+5),Einstellungen!$B$23:$B$34,">="&($A82+5))>0,"Ferien",IF(COUNTIFS(Einstellungen!$A$38:$A$43,"<="&($A82+5),Einstellungen!$B$38:$B$43,">="&($A82+5))>0,"Sperre",IF(COUNTIF(Einstellungen!$A$47:$A$50,($A82+5))>0,"Nachschr.",""))))) | I82: =IF(A82="","",COUNTIFS($I$8:$I$67,A82,$D$8:$D$67,"Klassenarbeit")) | J82: =IF(A82="","",IF(A82<=Einstellungen!$C$6,1,2))
A83: =IF(A82="","",IF(A82+7>Einstellungen!$C$7,"",A82+7)) | B83: =IF(A83="","",WEEKNUM(A83,21)) | C83: =IF($A83="","",IF(COUNTIF($A$8:$A$67,($A83+0))>0,IF(INDEX($C$8:$C$67,MATCH(($A83+0),$A$8:$A$67,0))="","?",INDEX($C$8:$C$67,MATCH(($A83+0),$A$8:$A$67,0)))&IF(COUNTIF($A$8:$A$67,($A83+0))>1," +"&(COUNTIF($A$8:$A$67,($A83+0))-1),""),IF(COUNTIFS(Einstellungen!$A$23:$A$34,"<="&($A83+0),Einstellungen!$B$23:$B$34,">="&($A83+0))>0,"Ferien",IF(COUNTIFS(Einstellungen!$A$38:$A$43,"<="&($A83+0),Einstellungen!$B$38:$B$43,">="&($A83+0))>0,"Sperre",IF(COUNTIF(Einstellungen!$A$47:$A$50,($A83+0))>0,"Nachschr.",""))))) | D83: =IF($A83="","",IF(COUNTIF($A$8:$A$67,($A83+1))>0,IF(INDEX($C$8:$C$67,MATCH(($A83+1),$A$8:$A$67,0))="","?",INDEX($C$8:$C$67,MATCH(($A83+1),$A$8:$A$67,0)))&IF(COUNTIF($A$8:$A$67,($A83+1))>1," +"&(COUNTIF($A$8:$A$67,($A83+1))-1),""),IF(COUNTIFS(Einstellungen!$A$23:$A$34,"<="&($A83+1),Einstellungen!$B$23:$B$34,">="&($A83+1))>0,"Ferien",IF(COUNTIFS(Einstellungen!$A$38:$A$43,"<="&($A83+1),Einstellungen!$B$38:$B$43,">="&($A83+1))>0,"Sperre",IF(COUNTIF(Einstellungen!$A$47:$A$50,($A83+1))>0,"Nachschr.",""))))) | E83: =IF($A83="","",IF(COUNTIF($A$8:$A$67,($A83+2))>0,IF(INDEX($C$8:$C$67,MATCH(($A83+2),$A$8:$A$67,0))="","?",INDEX($C$8:$C$67,MATCH(($A83+2),$A$8:$A$67,0)))&IF(COUNTIF($A$8:$A$67,($A83+2))>1," +"&(COUNTIF($A$8:$A$67,($A83+2))-1),""),IF(COUNTIFS(Einstellungen!$A$23:$A$34,"<="&($A83+2),Einstellungen!$B$23:$B$34,">="&($A83+2))>0,"Ferien",IF(COUNTIFS(Einstellungen!$A$38:$A$43,"<="&($A83+2),Einstellungen!$B$38:$B$43,">="&($A83+2))>0,"Sperre",IF(COUNTIF(Einstellungen!$A$47:$A$50,($A83+2))>0,"Nachschr.",""))))) | F83: =IF($A83="","",IF(COUNTIF($A$8:$A$67,($A83+3))>0,IF(INDEX($C$8:$C$67,MATCH(($A83+3),$A$8:$A$67,0))="","?",INDEX($C$8:$C$67,MATCH(($A83+3),$A$8:$A$67,0)))&IF(COUNTIF($A$8:$A$67,($A83+3))>1," +"&(COUNTIF($A$8:$A$67,($A83+3))-1),""),IF(COUNTIFS(Einstellungen!$A$23:$A$34,"<="&($A83+3),Einstellungen!$B$23:$B$34,">="&($A83+3))>0,"Ferien",IF(COUNTIFS(Einstellungen!$A$38:$A$43,"<="&($A83+3),Einstellungen!$B$38:$B$43,">="&($A83+3))>0,"Sperre",IF(COUNTIF(Einstellungen!$A$47:$A$50,($A83+3))>0,"Nachschr.",""))))) | G83: =IF($A83="","",IF(COUNTIF($A$8:$A$67,($A83+4))>0,IF(INDEX($C$8:$C$67,MATCH(($A83+4),$A$8:$A$67,0))="","?",INDEX($C$8:$C$67,MATCH(($A83+4),$A$8:$A$67,0)))&IF(COUNTIF($A$8:$A$67,($A83+4))>1," +"&(COUNTIF($A$8:$A$67,($A83+4))-1),""),IF(COUNTIFS(Einstellungen!$A$23:$A$34,"<="&($A83+4),Einstellungen!$B$23:$B$34,">="&($A83+4))>0,"Ferien",IF(COUNTIFS(Einstellungen!$A$38:$A$43,"<="&($A83+4),Einstellungen!$B$38:$B$43,">="&($A83+4))>0,"Sperre",IF(COUNTIF(Einstellungen!$A$47:$A$50,($A83+4))>0,"Nachschr.",""))))) | H83: =IF($A83="","",IF(COUNTIF($A$8:$A$67,($A83+5))>0,IF(INDEX($C$8:$C$67,MATCH(($A83+5),$A$8:$A$67,0))="","?",INDEX($C$8:$C$67,MATCH(($A83+5),$A$8:$A$67,0)))&IF(COUNTIF($A$8:$A$67,($A83+5))>1," +"&(COUNTIF($A$8:$A$67,($A83+5))-1),""),IF(COUNTIFS(Einstellungen!$A$23:$A$34,"<="&($A83+5),Einstellungen!$B$23:$B$34,">="&($A83+5))>0,"Ferien",IF(COUNTIFS(Einstellungen!$A$38:$A$43,"<="&($A83+5),Einstellungen!$B$38:$B$43,">="&($A83+5))>0,"Sperre",IF(COUNTIF(Einstellungen!$A$47:$A$50,($A83+5))>0,"Nachschr.",""))))) | I83: =IF(A83="","",COUNTIFS($I$8:$I$67,A83,$D$8:$D$67,"Klassenarbeit")) | J83: =IF(A83="","",IF(A83<=Einstellungen!$C$6,1,2))
A84: =IF(A83="","",IF(A83+7>Einstellungen!$C$7,"",A83+7)) | B84: =IF(A84="","",WEEKNUM(A84,21)) | C84: =IF($A84="","",IF(COUNTIF($A$8:$A$67,($A84+0))>0,IF(INDEX($C$8:$C$67,MATCH(($A84+0),$A$8:$A$67,0))="","?",INDEX($C$8:$C$67,MATCH(($A84+0),$A$8:$A$67,0)))&IF(COUNTIF($A$8:$A$67,($A84+0))>1," +"&(COUNTIF($A$8:$A$67,($A84+0))-1),""),IF(COUNTIFS(Einstellungen!$A$23:$A$34,"<="&($A84+0),Einstellungen!$B$23:$B$34,">="&($A84+0))>0,"Ferien",IF(COUNTIFS(Einstellungen!$A$38:$A$43,"<="&($A84+0),Einstellungen!$B$38:$B$43,">="&($A84+0))>0,"Sperre",IF(COUNTIF(Einstellungen!$A$47:$A$50,($A84+0))>0,"Nachschr.",""))))) | D84: =IF($A84="","",IF(COUNTIF($A$8:$A$67,($A84+1))>0,IF(INDEX($C$8:$C$67,MATCH(($A84+1),$A$8:$A$67,0))="","?",INDEX($C$8:$C$67,MATCH(($A84+1),$A$8:$A$67,0)))&IF(COUNTIF($A$8:$A$67,($A84+1))>1," +"&(COUNTIF($A$8:$A$67,($A84+1))-1),""),IF(COUNTIFS(Einstellungen!$A$23:$A$34,"<="&($A84+1),Einstellungen!$B$23:$B$34,">="&($A84+1))>0,"Ferien",IF(COUNTIFS(Einstellungen!$A$38:$A$43,"<="&($A84+1),Einstellungen!$B$38:$B$43,">="&($A84+1))>0,"Sperre",IF(COUNTIF(Einstellungen!$A$47:$A$50,($A84+1))>0,"Nachschr.",""))))) | E84: =IF($A84="","",IF(COUNTIF($A$8:$A$67,($A84+2))>0,IF(INDEX($C$8:$C$67,MATCH(($A84+2),$A$8:$A$67,0))="","?",INDEX($C$8:$C$67,MATCH(($A84+2),$A$8:$A$67,0)))&IF(COUNTIF($A$8:$A$67,($A84+2))>1," +"&(COUNTIF($A$8:$A$67,($A84+2))-1),""),IF(COUNTIFS(Einstellungen!$A$23:$A$34,"<="&($A84+2),Einstellungen!$B$23:$B$34,">="&($A84+2))>0,"Ferien",IF(COUNTIFS(Einstellungen!$A$38:$A$43,"<="&($A84+2),Einstellungen!$B$38:$B$43,">="&($A84+2))>0,"Sperre",IF(COUNTIF(Einstellungen!$A$47:$A$50,($A84+2))>0,"Nachschr.",""))))) | F84: =IF($A84="","",IF(COUNTIF($A$8:$A$67,($A84+3))>0,IF(INDEX($C$8:$C$67,MATCH(($A84+3),$A$8:$A$67,0))="","?",INDEX($C$8:$C$67,MATCH(($A84+3),$A$8:$A$67,0)))&IF(COUNTIF($A$8:$A$67,($A84+3))>1," +"&(COUNTIF($A$8:$A$67,($A84+3))-1),""),IF(COUNTIFS(Einstellungen!$A$23:$A$34,"<="&($A84+3),Einstellungen!$B$23:$B$34,">="&($A84+3))>0,"Ferien",IF(COUNTIFS(Einstellungen!$A$38:$A$43,"<="&($A84+3),Einstellungen!$B$38:$B$43,">="&($A84+3))>0,"Sperre",IF(COUNTIF(Einstellungen!$A$47:$A$50,($A84+3))>0,"Nachschr.",""))))) | G84: =IF($A84="","",IF(COUNTIF($A$8:$A$67,($A84+4))>0,IF(INDEX($C$8:$C$67,MATCH(($A84+4),$A$8:$A$67,0))="","?",INDEX($C$8:$C$67,MATCH(($A84+4),$A$8:$A$67,0)))&IF(COUNTIF($A$8:$A$67,($A84+4))>1," +"&(COUNTIF($A$8:$A$67,($A84+4))-1),""),IF(COUNTIFS(Einstellungen!$A$23:$A$34,"<="&($A84+4),Einstellungen!$B$23:$B$34,">="&($A84+4))>0,"Ferien",IF(COUNTIFS(Einstellungen!$A$38:$A$43,"<="&($A84+4),Einstellungen!$B$38:$B$43,">="&($A84+4))>0,"Sperre",IF(COUNTIF(Einstellungen!$A$47:$A$50,($A84+4))>0,"Nachschr.",""))))) | H84: =IF($A84="","",IF(COUNTIF($A$8:$A$67,($A84+5))>0,IF(INDEX($C$8:$C$67,MATCH(($A84+5),$A$8:$A$67,0))="","?",INDEX($C$8:$C$67,MATCH(($A84+5),$A$8:$A$67,0)))&IF(COUNTIF($A$8:$A$67,($A84+5))>1," +"&(COUNTIF($A$8:$A$67,($A84+5))-1),""),IF(COUNTIFS(Einstellungen!$A$23:$A$34,"<="&($A84+5),Einstellungen!$B$23:$B$34,">="&($A84+5))>0,"Ferien",IF(COUNTIFS(Einstellungen!$A$38:$A$43,"<="&($A84+5),Einstellungen!$B$38:$B$43,">="&($A84+5))>0,"Sperre",IF(COUNTIF(Einstellungen!$A$47:$A$50,($A84+5))>0,"Nachschr.",""))))) | I84: =IF(A84="","",COUNTIFS($I$8:$I$67,A84,$D$8:$D$67,"Klassenarbeit")) | J84: =IF(A84="","",IF(A84<=Einstellungen!$C$6,1,2))
... A123: =IF(A122="","",IF(A122+7>Einstellungen!$C$7,"",A122+7)) | B123: =IF(A123="","",WEEKNUM(A123,21)) | C123: =IF($A123="","",IF(COUNTIF($A$8:$A$67,($A123+0))>0,IF(INDEX($C$8:$C$67,MATCH(($A123+0),$A$8:$A$67,0))="","?",INDEX($C$8:$C$67,MATCH(($A123+0),$A$8:$A$67,0)))&IF(COUNTIF($A$8:$A$67,($A123+0))>1," +"&(COUNTIF($A$8:$A$67,($A123+0))-1),""),IF(COUNTIFS(Einstellungen!$A$23:$A$34,"<="&($A123+0),Einstellungen!$B$23:$B$34,">="&($A123+0))>0,"Ferien",IF(COUNTIFS(Einstellungen!$A$38:$A$43,"<="&($A123+0),Einstellungen!$B$38:$B$43,">="&($A123+0))>0,"Sperre",IF(COUNTIF(Einstellungen!$A$47:$A$50,($A123+0))>0,"Nachschr.",""))))) | D123: =IF($A123="","",IF(COUNTIF($A$8:$A$67,($A123+1))>0,IF(INDEX($C$8:$C$67,MATCH(($A123+1),$A$8:$A$67,0))="","?",INDEX($C$8:$C$67,MATCH(($A123+1),$A$8:$A$67,0)))&IF(COUNTIF($A$8:$A$67,($A123+1))>1," +"&(COUNTIF($A$8:$A$67,($A123+1))-1),""),IF(COUNTIFS(Einstellungen!$A$23:$A$34,"<="&($A123+1),Einstellungen!$B$23:$B$34,">="&($A123+1))>0,"Ferien",IF(COUNTIFS(Einstellungen!$A$38:$A$43,"<="&($A123+1),Einstellungen!$B$38:$B$43,">="&($A123+1))>0,"Sperre",IF(COUNTIF(Einstellungen!$A$47:$A$50,($A123+1))>0,"Nachschr.",""))))) | E123: =IF($A123="","",IF(COUNTIF($A$8:$A$67,($A123+2))>0,IF(INDEX($C$8:$C$67,MATCH(($A123+2),$A$8:$A$67,0))="","?",INDEX($C$8:$C$67,MATCH(($A123+2),$A$8:$A$67,0)))&IF(COUNTIF($A$8:$A$67,($A123+2))>1," +"&(COUNTIF($A$8:$A$67,($A123+2))-1),""),IF(COUNTIFS(Einstellungen!$A$23:$A$34,"<="&($A123+2),Einstellungen!$B$23:$B$34,">="&($A123+2))>0,"Ferien",IF(COUNTIFS(Einstellungen!$A$38:$A$43,"<="&($A123+2),Einstellungen!$B$38:$B$43,">="&($A123+2))>0,"Sperre",IF(COUNTIF(Einstellungen!$A$47:$A$50,($A123+2))>0,"Nachschr.",""))))) | F123: =IF($A123="","",IF(COUNTIF($A$8:$A$67,($A123+3))>0,IF(INDEX($C$8:$C$67,MATCH(($A123+3),$A$8:$A$67,0))="","?",INDEX($C$8:$C$67,MATCH(($A123+3),$A$8:$A$67,0)))&IF(COUNTIF($A$8:$A$67,($A123+3))>1," +"&(COUNTIF($A$8:$A$67,($A123+3))-1),""),IF(COUNTIFS(Einstellungen!$A$23:$A$34,"<="&($A123+3),Einstellungen!$B$23:$B$34,">="&($A123+3))>0,"Ferien",IF(COUNTIFS(Einstellungen!$A$38:$A$43,"<="&($A123+3),Einstellungen!$B$38:$B$43,">="&($A123+3))>0,"Sperre",IF(COUNTIF(Einstellungen!$A$47:$A$50,($A123+3))>0,"Nachschr.",""))))) | G123: =IF($A123="","",IF(COUNTIF($A$8:$A$67,($A123+4))>0,IF(INDEX($C$8:$C$67,MATCH(($A123+4),$A$8:$A$67,0))="","?",INDEX($C$8:$C$67,MATCH(($A123+4),$A$8:$A$67,0)))&IF(COUNTIF($A$8:$A$67,($A123+4))>1," +"&(COUNTIF($A$8:$A$67,($A123+4))-1),""),IF(COUNTIFS(Einstellungen!$A$23:$A$34,"<="&($A123+4),Einstellungen!$B$23:$B$34,">="&($A123+4))>0,"Ferien",IF(COUNTIFS(Einstellungen!$A$38:$A$43,"<="&($A123+4),Einstellungen!$B$38:$B$43,">="&($A123+4))>0,"Sperre",IF(COUNTIF(Einstellungen!$A$47:$A$50,($A123+4))>0,"Nachschr.",""))))) | H123: =IF($A123="","",IF(COUNTIF($A$8:$A$67,($A123+5))>0,IF(INDEX($C$8:$C$67,MATCH(($A123+5),$A$8:$A$67,0))="","?",INDEX($C$8:$C$67,MATCH(($A123+5),$A$8:$A$67,0)))&IF(COUNTIF($A$8:$A$67,($A123+5))>1," +"&(COUNTIF($A$8:$A$67,($A123+5))-1),""),IF(COUNTIFS(Einstellungen!$A$23:$A$34,"<="&($A123+5),Einstellungen!$B$23:$B$34,">="&($A123+5))>0,"Ferien",IF(COUNTIFS(Einstellungen!$A$38:$A$43,"<="&($A123+5),Einstellungen!$B$38:$B$43,">="&($A123+5))>0,"Sperre",IF(COUNTIF(Einstellungen!$A$47:$A$50,($A123+5))>0,"Nachschr.",""))))) | I123: =IF(A123="","",COUNTIFS($I$8:$I$67,A123,$D$8:$D$67,"Klassenarbeit")) | J123: =IF(A123="","",IF(A123<=Einstellungen!$C$6,1,2))
A125: Teil C – Zählung je Fach (berechnet)
A126: Kürzel | B126: Vorgabe je Halbjahr | C126: Fach | E126: Ist 1. Halbjahr | F126: Ist 2. Halbjahr | G126: Prüfung
A127: =IF(Einstellungen!$A$54="","",Einstellungen!$A$54) | B127: =IF(OR(A127="",Einstellungen!$C$54=""),"",Einstellungen!$C$54) | C127: =IF(A127="","",Einstellungen!$B$54) | E127: =IF(A127="","",COUNTIFS($C$8:$C$67,A127,$D$8:$D$67,"Klassenarbeit",$H$8:$H$67,1)) | F127: =IF(A127="","",COUNTIFS($C$8:$C$67,A127,$D$8:$D$67,"Klassenarbeit",$H$8:$H$67,2)) | G127: =IF(OR(A127="",B127=""),"",IF(OR(E127>B127,F127>B127),"über Vorgabe","OK"))
A128: =IF(Einstellungen!$A$55="","",Einstellungen!$A$55) | B128: =IF(OR(A128="",Einstellungen!$C$55=""),"",Einstellungen!$C$55) | C128: =IF(A128="","",Einstellungen!$B$55) | E128: =IF(A128="","",COUNTIFS($C$8:$C$67,A128,$D$8:$D$67,"Klassenarbeit",$H$8:$H$67,1)) | F128: =IF(A128="","",COUNTIFS($C$8:$C$67,A128,$D$8:$D$67,"Klassenarbeit",$H$8:$H$67,2)) | G128: =IF(OR(A128="",B128=""),"",IF(OR(E128>B128,F128>B128),"über Vorgabe","OK"))
A129: =IF(Einstellungen!$A$56="","",Einstellungen!$A$56) | B129: =IF(OR(A129="",Einstellungen!$C$56=""),"",Einstellungen!$C$56) | C129: =IF(A129="","",Einstellungen!$B$56) | E129: =IF(A129="","",COUNTIFS($C$8:$C$67,A129,$D$8:$D$67,"Klassenarbeit",$H$8:$H$67,1)) | F129: =IF(A129="","",COUNTIFS($C$8:$C$67,A129,$D$8:$D$67,"Klassenarbeit",$H$8:$H$67,2)) | G129: =IF(OR(A129="",B129=""),"",IF(OR(E129>B129,F129>B129),"über Vorgabe","OK"))
A130: =IF(Einstellungen!$A$57="","",Einstellungen!$A$57) | B130: =IF(OR(A130="",Einstellungen!$C$57=""),"",Einstellungen!$C$57) | C130: =IF(A130="","",Einstellungen!$B$57) | E130: =IF(A130="","",COUNTIFS($C$8:$C$67,A130,$D$8:$D$67,"Klassenarbeit",$H$8:$H$67,1)) | F130: =IF(A130="","",COUNTIFS($C$8:$C$67,A130,$D$8:$D$67,"Klassenarbeit",$H$8:$H$67,2)) | G130: =IF(OR(A130="",B130=""),"",IF(OR(E130>B130,F130>B130),"über Vorgabe","OK"))
A131: =IF(Einstellungen!$A$58="","",Einstellungen!$A$58) | B131: =IF(OR(A131="",Einstellungen!$C$58=""),"",Einstellungen!$C$58) | C131: =IF(A131="","",Einstellungen!$B$58) | E131: =IF(A131="","",COUNTIFS($C$8:$C$67,A131,$D$8:$D$67,"Klassenarbeit",$H$8:$H$67,1)) | F131: =IF(A131="","",COUNTIFS($C$8:$C$67,A131,$D$8:$D$67,"Klassenarbeit",$H$8:$H$67,2)) | G131: =IF(OR(A131="",B131=""),"",IF(OR(E131>B131,F131>B131),"über Vorgabe","OK"))
A132: =IF(Einstellungen!$A$59="","",Einstellungen!$A$59) | B132: =IF(OR(A132="",Einstellungen!$C$59=""),"",Einstellungen!$C$59) | C132: =IF(A132="","",Einstellungen!$B$59) | E132: =IF(A132="","",COUNTIFS($C$8:$C$67,A132,$D$8:$D$67,"Klassenarbeit",$H$8:$H$67,1)) | F132: =IF(A132="","",COUNTIFS($C$8:$C$67,A132,$D$8:$D$67,"Klassenarbeit",$H$8:$H$67,2)) | G132: =IF(OR(A132="",B132=""),"",IF(OR(E132>B132,F132>B132),"über Vorgabe","OK"))
A133: =IF(Einstellungen!$A$60="","",Einstellungen!$A$60) | B133: =IF(OR(A133="",Einstellungen!$C$60=""),"",Einstellungen!$C$60) | C133: =IF(A133="","",Einstellungen!$B$60) | E133: =IF(A133="","",COUNTIFS($C$8:$C$67,A133,$D$8:$D$67,"Klassenarbeit",$H$8:$H$67,1)) | F133: =IF(A133="","",COUNTIFS($C$8:$C$67,A133,$D$8:$D$67,"Klassenarbeit",$H$8:$H$67,2)) | G133: =IF(OR(A133="",B133=""),"",IF(OR(E133>B133,F133>B133),"über Vorgabe","OK"))
A134: =IF(Einstellungen!$A$61="","",Einstellungen!$A$61) | B134: =IF(OR(A134="",Einstellungen!$C$61=""),"",Einstellungen!$C$61) | C134: =IF(A134="","",Einstellungen!$B$61) | E134: =IF(A134="","",COUNTIFS($C$8:$C$67,A134,$D$8:$D$67,"Klassenarbeit",$H$8:$H$67,1)) | F134: =IF(A134="","",COUNTIFS($C$8:$C$67,A134,$D$8:$D$67,"Klassenarbeit",$H$8:$H$67,2)) | G134: =IF(OR(A134="",B134=""),"",IF(OR(E134>B134,F134>B134),"über Vorgabe","OK"))
A135: =IF(Einstellungen!$A$62="","",Einstellungen!$A$62) | B135: =IF(OR(A135="",Einstellungen!$C$62=""),"",Einstellungen!$C$62) | C135: =IF(A135="","",Einstellungen!$B$62) | E135: =IF(A135="","",COUNTIFS($C$8:$C$67,A135,$D$8:$D$67,"Klassenarbeit",$H$8:$H$67,1)) | F135: =IF(A135="","",COUNTIFS($C$8:$C$67,A135,$D$8:$D$67,"Klassenarbeit",$H$8:$H$67,2)) | G135: =IF(OR(A135="",B135=""),"",IF(OR(E135>B135,F135>B135),"über Vorgabe","OK"))
A136: =IF(Einstellungen!$A$63="","",Einstellungen!$A$63) | B136: =IF(OR(A136="",Einstellungen!$C$63=""),"",Einstellungen!$C$63) | C136: =IF(A136="","",Einstellungen!$B$63) | E136: =IF(A136="","",COUNTIFS($C$8:$C$67,A136,$D$8:$D$67,"Klassenarbeit",$H$8:$H$67,1)) | F136: =IF(A136="","",COUNTIFS($C$8:$C$67,A136,$D$8:$D$67,"Klassenarbeit",$H$8:$H$67,2)) | G136: =IF(OR(A136="",B136=""),"",IF(OR(E136>B136,F136>B136),"über Vorgabe","OK"))
A137: =IF(Einstellungen!$A$64="","",Einstellungen!$A$64) | B137: =IF(OR(A137="",Einstellungen!$C$64=""),"",Einstellungen!$C$64) | C137: =IF(A137="","",Einstellungen!$B$64) | E137: =IF(A137="","",COUNTIFS($C$8:$C$67,A137,$D$8:$D$67,"Klassenarbeit",$H$8:$H$67,1)) | F137: =IF(A137="","",COUNTIFS($C$8:$C$67,A137,$D$8:$D$67,"Klassenarbeit",$H$8:$H$67,2)) | G137: =IF(OR(A137="",B137=""),"",IF(OR(E137>B137,F137>B137),"über Vorgabe","OK"))
A138: =IF(Einstellungen!$A$65="","",Einstellungen!$A$65) | B138: =IF(OR(A138="",Einstellungen!$C$65=""),"",Einstellungen!$C$65) | C138: =IF(A138="","",Einstellungen!$B$65) | E138: =IF(A138="","",COUNTIFS($C$8:$C$67,A138,$D$8:$D$67,"Klassenarbeit",$H$8:$H$67,1)) | F138: =IF(A138="","",COUNTIFS($C$8:$C$67,A138,$D$8:$D$67,"Klassenarbeit",$H$8:$H$67,2)) | G138: =IF(OR(A138="",B138=""),"",IF(OR(E138>B138,F138>B138),"über Vorgabe","OK"))
A139: =IF(Einstellungen!$A$66="","",Einstellungen!$A$66) | B139: =IF(OR(A139="",Einstellungen!$C$66=""),"",Einstellungen!$C$66) | C139: =IF(A139="","",Einstellungen!$B$66) | E139: =IF(A139="","",COUNTIFS($C$8:$C$67,A139,$D$8:$D$67,"Klassenarbeit",$H$8:$H$67,1)) | F139: =IF(A139="","",COUNTIFS($C$8:$C$67,A139,$D$8:$D$67,"Klassenarbeit",$H$8:$H$67,2)) | G139: =IF(OR(A139="",B139=""),"",IF(OR(E139>B139,F139>B139),"über Vorgabe","OK"))
A140: =IF(Einstellungen!$A$67="","",Einstellungen!$A$67) | B140: =IF(OR(A140="",Einstellungen!$C$67=""),"",Einstellungen!$C$67) | C140: =IF(A140="","",Einstellungen!$B$67) | E140: =IF(A140="","",COUNTIFS($C$8:$C$67,A140,$D$8:$D$67,"Klassenarbeit",$H$8:$H$67,1)) | F140: =IF(A140="","",COUNTIFS($C$8:$C$67,A140,$D$8:$D$67,"Klassenarbeit",$H$8:$H$67,2)) | G140: =IF(OR(A140="",B140=""),"",IF(OR(E140>B140,F140>B140),"über Vorgabe","OK"))
A141: =IF(Einstellungen!$A$68="","",Einstellungen!$A$68) | B141: =IF(OR(A141="",Einstellungen!$C$68=""),"",Einstellungen!$C$68) | C141: =IF(A141="","",Einstellungen!$B$68) | E141: =IF(A141="","",COUNTIFS($C$8:$C$67,A141,$D$8:$D$67,"Klassenarbeit",$H$8:$H$67,1)) | F141: =IF(A141="","",COUNTIFS($C$8:$C$67,A141,$D$8:$D$67,"Klassenarbeit",$H$8:$H$67,2)) | G141: =IF(OR(A141="",B141=""),"",IF(OR(E141>B141,F141>B141),"über Vorgabe","OK"))

Sheet Klasse C
A1: ="Klassenarbeits-Kalender · "&IF(Einstellungen!$B$18="","[Klassenname in Einstellungen eintragen]",Einstellungen!$B$18)
A2: =IF(Einstellungen!$B$2="","[Schule]",Einstellungen!$B$2)&" · Schuljahr "&IF(Einstellungen!$B$3="","[JJJJ/JJ]",Einstellungen!$B$3)
A3: Klassenleitung | G3: Gelb = Eingabe · Grau = Formel (geschützt, ohne Passwort, siehe Anleitung)
A6: Teil A – Terminliste (Eingabe)
A7: Datum | B7: Tag | C7: Fach | D7: Art | E7: Lehrkraft | F7: Stunde | G7: Status | H7: Halbjahr | I7: Wochenbeginn | J7: Prüfung | K7: Bemerkung
B8: =IF(A8="","",CHOOSE(WEEKDAY(A8,2),"Mo","Di","Mi","Do","Fr","Sa","So")) | H8: =IF(A8="","",IF(OR(A8<Einstellungen!$B$6,A8>Einstellungen!$C$7),"außerhalb",IF(A8<=Einstellungen!$C$6,1,2))) | I8: =IF(A8="","",A8-WEEKDAY(A8,2)+1) | J8: =IF(A8="","",IF(AND(WEEKDAY(A8,2)>5,D8<>"Nachschreibtermin"),"Wochenende",IF(COUNTIFS(Einstellungen!$A$23:$A$34,"<="&A8,Einstellungen!$B$23:$B$34,">="&A8)>0,"Ferien/Feiertag",IF(COUNTIFS(Einstellungen!$A$38:$A$43,"<="&A8,Einstellungen!$B$38:$B$43,">="&A8)>0,"Sperrzeit",IF(AND(Einstellungen!$B$10<>"",D8="Klassenarbeit",COUNTIFS($A$8:$A$67,A8,$D$8:$D$67,"Klassenarbeit")>Einstellungen!$B$10),"Tag überschritten",IF(AND(Einstellungen!$B$11<>"",D8="Klassenarbeit",COUNTIFS($I$8:$I$67,I8,$D$8:$D$67,"Klassenarbeit")>Einstellungen!$B$11),"Woche überschritten",IF(OR(C8="",D8=""),"Fach/Art fehlt","OK")))))))
B9: =IF(A9="","",CHOOSE(WEEKDAY(A9,2),"Mo","Di","Mi","Do","Fr","Sa","So")) | H9: =IF(A9="","",IF(OR(A9<Einstellungen!$B$6,A9>Einstellungen!$C$7),"außerhalb",IF(A9<=Einstellungen!$C$6,1,2))) | I9: =IF(A9="","",A9-WEEKDAY(A9,2)+1) | J9: =IF(A9="","",IF(AND(WEEKDAY(A9,2)>5,D9<>"Nachschreibtermin"),"Wochenende",IF(COUNTIFS(Einstellungen!$A$23:$A$34,"<="&A9,Einstellungen!$B$23:$B$34,">="&A9)>0,"Ferien/Feiertag",IF(COUNTIFS(Einstellungen!$A$38:$A$43,"<="&A9,Einstellungen!$B$38:$B$43,">="&A9)>0,"Sperrzeit",IF(AND(Einstellungen!$B$10<>"",D9="Klassenarbeit",COUNTIFS($A$8:$A$67,A9,$D$8:$D$67,"Klassenarbeit")>Einstellungen!$B$10),"Tag überschritten",IF(AND(Einstellungen!$B$11<>"",D9="Klassenarbeit",COUNTIFS($I$8:$I$67,I9,$D$8:$D$67,"Klassenarbeit")>Einstellungen!$B$11),"Woche überschritten",IF(OR(C9="",D9=""),"Fach/Art fehlt","OK")))))))
B10: =IF(A10="","",CHOOSE(WEEKDAY(A10,2),"Mo","Di","Mi","Do","Fr","Sa","So")) | H10: =IF(A10="","",IF(OR(A10<Einstellungen!$B$6,A10>Einstellungen!$C$7),"außerhalb",IF(A10<=Einstellungen!$C$6,1,2))) | I10: =IF(A10="","",A10-WEEKDAY(A10,2)+1) | J10: =IF(A10="","",IF(AND(WEEKDAY(A10,2)>5,D10<>"Nachschreibtermin"),"Wochenende",IF(COUNTIFS(Einstellungen!$A$23:$A$34,"<="&A10,Einstellungen!$B$23:$B$34,">="&A10)>0,"Ferien/Feiertag",IF(COUNTIFS(Einstellungen!$A$38:$A$43,"<="&A10,Einstellungen!$B$38:$B$43,">="&A10)>0,"Sperrzeit",IF(AND(Einstellungen!$B$10<>"",D10="Klassenarbeit",COUNTIFS($A$8:$A$67,A10,$D$8:$D$67,"Klassenarbeit")>Einstellungen!$B$10),"Tag überschritten",IF(AND(Einstellungen!$B$11<>"",D10="Klassenarbeit",COUNTIFS($I$8:$I$67,I10,$D$8:$D$67,"Klassenarbeit")>Einstellungen!$B$11),"Woche überschritten",IF(OR(C10="",D10=""),"Fach/Art fehlt","OK")))))))
B11: =IF(A11="","",CHOOSE(WEEKDAY(A11,2),"Mo","Di","Mi","Do","Fr","Sa","So")) | H11: =IF(A11="","",IF(OR(A11<Einstellungen!$B$6,A11>Einstellungen!$C$7),"außerhalb",IF(A11<=Einstellungen!$C$6,1,2))) | I11: =IF(A11="","",A11-WEEKDAY(A11,2)+1) | J11: =IF(A11="","",IF(AND(WEEKDAY(A11,2)>5,D11<>"Nachschreibtermin"),"Wochenende",IF(COUNTIFS(Einstellungen!$A$23:$A$34,"<="&A11,Einstellungen!$B$23:$B$34,">="&A11)>0,"Ferien/Feiertag",IF(COUNTIFS(Einstellungen!$A$38:$A$43,"<="&A11,Einstellungen!$B$38:$B$43,">="&A11)>0,"Sperrzeit",IF(AND(Einstellungen!$B$10<>"",D11="Klassenarbeit",COUNTIFS($A$8:$A$67,A11,$D$8:$D$67,"Klassenarbeit")>Einstellungen!$B$10),"Tag überschritten",IF(AND(Einstellungen!$B$11<>"",D11="Klassenarbeit",COUNTIFS($I$8:$I$67,I11,$D$8:$D$67,"Klassenarbeit")>Einstellungen!$B$11),"Woche überschritten",IF(OR(C11="",D11=""),"Fach/Art fehlt","OK")))))))
B12: =IF(A12="","",CHOOSE(WEEKDAY(A12,2),"Mo","Di","Mi","Do","Fr","Sa","So")) | H12: =IF(A12="","",IF(OR(A12<Einstellungen!$B$6,A12>Einstellungen!$C$7),"außerhalb",IF(A12<=Einstellungen!$C$6,1,2))) | I12: =IF(A12="","",A12-WEEKDAY(A12,2)+1) | J12: =IF(A12="","",IF(AND(WEEKDAY(A12,2)>5,D12<>"Nachschreibtermin"),"Wochenende",IF(COUNTIFS(Einstellungen!$A$23:$A$34,"<="&A12,Einstellungen!$B$23:$B$34,">="&A12)>0,"Ferien/Feiertag",IF(COUNTIFS(Einstellungen!$A$38:$A$43,"<="&A12,Einstellungen!$B$38:$B$43,">="&A12)>0,"Sperrzeit",IF(AND(Einstellungen!$B$10<>"",D12="Klassenarbeit",COUNTIFS($A$8:$A$67,A12,$D$8:$D$67,"Klassenarbeit")>Einstellungen!$B$10),"Tag überschritten",IF(AND(Einstellungen!$B$11<>"",D12="Klassenarbeit",COUNTIFS($I$8:$I$67,I12,$D$8:$D$67,"Klassenarbeit")>Einstellungen!$B$11),"Woche überschritten",IF(OR(C12="",D12=""),"Fach/Art fehlt","OK")))))))
B13: =IF(A13="","",CHOOSE(WEEKDAY(A13,2),"Mo","Di","Mi","Do","Fr","Sa","So")) | H13: =IF(A13="","",IF(OR(A13<Einstellungen!$B$6,A13>Einstellungen!$C$7),"außerhalb",IF(A13<=Einstellungen!$C$6,1,2))) | I13: =IF(A13="","",A13-WEEKDAY(A13,2)+1) | J13: =IF(A13="","",IF(AND(WEEKDAY(A13,2)>5,D13<>"Nachschreibtermin"),"Wochenende",IF(COUNTIFS(Einstellungen!$A$23:$A$34,"<="&A13,Einstellungen!$B$23:$B$34,">="&A13)>0,"Ferien/Feiertag",IF(COUNTIFS(Einstellungen!$A$38:$A$43,"<="&A13,Einstellungen!$B$38:$B$43,">="&A13)>0,"Sperrzeit",IF(AND(Einstellungen!$B$10<>"",D13="Klassenarbeit",COUNTIFS($A$8:$A$67,A13,$D$8:$D$67,"Klassenarbeit")>Einstellungen!$B$10),"Tag überschritten",IF(AND(Einstellungen!$B$11<>"",D13="Klassenarbeit",COUNTIFS($I$8:$I$67,I13,$D$8:$D$67,"Klassenarbeit")>Einstellungen!$B$11),"Woche überschritten",IF(OR(C13="",D13=""),"Fach/Art fehlt","OK")))))))
B14: =IF(A14="","",CHOOSE(WEEKDAY(A14,2),"Mo","Di","Mi","Do","Fr","Sa","So")) | H14: =IF(A14="","",IF(OR(A14<Einstellungen!$B$6,A14>Einstellungen!$C$7),"außerhalb",IF(A14<=Einstellungen!$C$6,1,2))) | I14: =IF(A14="","",A14-WEEKDAY(A14,2)+1) | J14: =IF(A14="","",IF(AND(WEEKDAY(A14,2)>5,D14<>"Nachschreibtermin"),"Wochenende",IF(COUNTIFS(Einstellungen!$A$23:$A$34,"<="&A14,Einstellungen!$B$23:$B$34,">="&A14)>0,"Ferien/Feiertag",IF(COUNTIFS(Einstellungen!$A$38:$A$43,"<="&A14,Einstellungen!$B$38:$B$43,">="&A14)>0,"Sperrzeit",IF(AND(Einstellungen!$B$10<>"",D14="Klassenarbeit",COUNTIFS($A$8:$A$67,A14,$D$8:$D$67,"Klassenarbeit")>Einstellungen!$B$10),"Tag überschritten",IF(AND(Einstellungen!$B$11<>"",D14="Klassenarbeit",COUNTIFS($I$8:$I$67,I14,$D$8:$D$67,"Klassenarbeit")>Einstellungen!$B$11),"Woche überschritten",IF(OR(C14="",D14=""),"Fach/Art fehlt","OK")))))))
B15: =IF(A15="","",CHOOSE(WEEKDAY(A15,2),"Mo","Di","Mi","Do","Fr","Sa","So")) | H15: =IF(A15="","",IF(OR(A15<Einstellungen!$B$6,A15>Einstellungen!$C$7),"außerhalb",IF(A15<=Einstellungen!$C$6,1,2))) | I15: =IF(A15="","",A15-WEEKDAY(A15,2)+1) | J15: =IF(A15="","",IF(AND(WEEKDAY(A15,2)>5,D15<>"Nachschreibtermin"),"Wochenende",IF(COUNTIFS(Einstellungen!$A$23:$A$34,"<="&A15,Einstellungen!$B$23:$B$34,">="&A15)>0,"Ferien/Feiertag",IF(COUNTIFS(Einstellungen!$A$38:$A$43,"<="&A15,Einstellungen!$B$38:$B$43,">="&A15)>0,"Sperrzeit",IF(AND(Einstellungen!$B$10<>"",D15="Klassenarbeit",COUNTIFS($A$8:$A$67,A15,$D$8:$D$67,"Klassenarbeit")>Einstellungen!$B$10),"Tag überschritten",IF(AND(Einstellungen!$B$11<>"",D15="Klassenarbeit",COUNTIFS($I$8:$I$67,I15,$D$8:$D$67,"Klassenarbeit")>Einstellungen!$B$11),"Woche überschritten",IF(OR(C15="",D15=""),"Fach/Art fehlt","OK")))))))
B16: =IF(A16="","",CHOOSE(WEEKDAY(A16,2),"Mo","Di","Mi","Do","Fr","Sa","So")) | H16: =IF(A16="","",IF(OR(A16<Einstellungen!$B$6,A16>Einstellungen!$C$7),"außerhalb",IF(A16<=Einstellungen!$C$6,1,2))) | I16: =IF(A16="","",A16-WEEKDAY(A16,2)+1) | J16: =IF(A16="","",IF(AND(WEEKDAY(A16,2)>5,D16<>"Nachschreibtermin"),"Wochenende",IF(COUNTIFS(Einstellungen!$A$23:$A$34,"<="&A16,Einstellungen!$B$23:$B$34,">="&A16)>0,"Ferien/Feiertag",IF(COUNTIFS(Einstellungen!$A$38:$A$43,"<="&A16,Einstellungen!$B$38:$B$43,">="&A16)>0,"Sperrzeit",IF(AND(Einstellungen!$B$10<>"",D16="Klassenarbeit",COUNTIFS($A$8:$A$67,A16,$D$8:$D$67,"Klassenarbeit")>Einstellungen!$B$10),"Tag überschritten",IF(AND(Einstellungen!$B$11<>"",D16="Klassenarbeit",COUNTIFS($I$8:$I$67,I16,$D$8:$D$67,"Klassenarbeit")>Einstellungen!$B$11),"Woche überschritten",IF(OR(C16="",D16=""),"Fach/Art fehlt","OK")))))))
B17: =IF(A17="","",CHOOSE(WEEKDAY(A17,2),"Mo","Di","Mi","Do","Fr","Sa","So")) | H17: =IF(A17="","",IF(OR(A17<Einstellungen!$B$6,A17>Einstellungen!$C$7),"außerhalb",IF(A17<=Einstellungen!$C$6,1,2))) | I17: =IF(A17="","",A17-WEEKDAY(A17,2)+1) | J17: =IF(A17="","",IF(AND(WEEKDAY(A17,2)>5,D17<>"Nachschreibtermin"),"Wochenende",IF(COUNTIFS(Einstellungen!$A$23:$A$34,"<="&A17,Einstellungen!$B$23:$B$34,">="&A17)>0,"Ferien/Feiertag",IF(COUNTIFS(Einstellungen!$A$38:$A$43,"<="&A17,Einstellungen!$B$38:$B$43,">="&A17)>0,"Sperrzeit",IF(AND(Einstellungen!$B$10<>"",D17="Klassenarbeit",COUNTIFS($A$8:$A$67,A17,$D$8:$D$67,"Klassenarbeit")>Einstellungen!$B$10),"Tag überschritten",IF(AND(Einstellungen!$B$11<>"",D17="Klassenarbeit",COUNTIFS($I$8:$I$67,I17,$D$8:$D$67,"Klassenarbeit")>Einstellungen!$B$11),"Woche überschritten",IF(OR(C17="",D17=""),"Fach/Art fehlt","OK")))))))
B18: =IF(A18="","",CHOOSE(WEEKDAY(A18,2),"Mo","Di","Mi","Do","Fr","Sa","So")) | H18: =IF(A18="","",IF(OR(A18<Einstellungen!$B$6,A18>Einstellungen!$C$7),"außerhalb",IF(A18<=Einstellungen!$C$6,1,2))) | I18: =IF(A18="","",A18-WEEKDAY(A18,2)+1) | J18: =IF(A18="","",IF(AND(WEEKDAY(A18,2)>5,D18<>"Nachschreibtermin"),"Wochenende",IF(COUNTIFS(Einstellungen!$A$23:$A$34,"<="&A18,Einstellungen!$B$23:$B$34,">="&A18)>0,"Ferien/Feiertag",IF(COUNTIFS(Einstellungen!$A$38:$A$43,"<="&A18,Einstellungen!$B$38:$B$43,">="&A18)>0,"Sperrzeit",IF(AND(Einstellungen!$B$10<>"",D18="Klassenarbeit",COUNTIFS($A$8:$A$67,A18,$D$8:$D$67,"Klassenarbeit")>Einstellungen!$B$10),"Tag überschritten",IF(AND(Einstellungen!$B$11<>"",D18="Klassenarbeit",COUNTIFS($I$8:$I$67,I18,$D$8:$D$67,"Klassenarbeit")>Einstellungen!$B$11),"Woche überschritten",IF(OR(C18="",D18=""),"Fach/Art fehlt","OK")))))))
B19: =IF(A19="","",CHOOSE(WEEKDAY(A19,2),"Mo","Di","Mi","Do","Fr","Sa","So")) | H19: =IF(A19="","",IF(OR(A19<Einstellungen!$B$6,A19>Einstellungen!$C$7),"außerhalb",IF(A19<=Einstellungen!$C$6,1,2))) | I19: =IF(A19="","",A19-WEEKDAY(A19,2)+1) | J19: =IF(A19="","",IF(AND(WEEKDAY(A19,2)>5,D19<>"Nachschreibtermin"),"Wochenende",IF(COUNTIFS(Einstellungen!$A$23:$A$34,"<="&A19,Einstellungen!$B$23:$B$34,">="&A19)>0,"Ferien/Feiertag",IF(COUNTIFS(Einstellungen!$A$38:$A$43,"<="&A19,Einstellungen!$B$38:$B$43,">="&A19)>0,"Sperrzeit",IF(AND(Einstellungen!$B$10<>"",D19="Klassenarbeit",COUNTIFS($A$8:$A$67,A19,$D$8:$D$67,"Klassenarbeit")>Einstellungen!$B$10),"Tag überschritten",IF(AND(Einstellungen!$B$11<>"",D19="Klassenarbeit",COUNTIFS($I$8:$I$67,I19,$D$8:$D$67,"Klassenarbeit")>Einstellungen!$B$11),"Woche überschritten",IF(OR(C19="",D19=""),"Fach/Art fehlt","OK")))))))
... B67: =IF(A67="","",CHOOSE(WEEKDAY(A67,2),"Mo","Di","Mi","Do","Fr","Sa","So")) | H67: =IF(A67="","",IF(OR(A67<Einstellungen!$B$6,A67>Einstellungen!$C$7),"außerhalb",IF(A67<=Einstellungen!$C$6,1,2))) | I67: =IF(A67="","",A67-WEEKDAY(A67,2)+1) | J67: =IF(A67="","",IF(AND(WEEKDAY(A67,2)>5,D67<>"Nachschreibtermin"),"Wochenende",IF(COUNTIFS(Einstellungen!$A$23:$A$34,"<="&A67,Einstellungen!$B$23:$B$34,">="&A67)>0,"Ferien/Feiertag",IF(COUNTIFS(Einstellungen!$A$38:$A$43,"<="&A67,Einstellungen!$B$38:$B$43,">="&A67)>0,"Sperrzeit",IF(AND(Einstellungen!$B$10<>"",D67="Klassenarbeit",COUNTIFS($A$8:$A$67,A67,$D$8:$D$67,"Klassenarbeit")>Einstellungen!$B$10),"Tag überschritten",IF(AND(Einstellungen!$B$11<>"",D67="Klassenarbeit",COUNTIFS($I$8:$I$67,I67,$D$8:$D$67,"Klassenarbeit")>Einstellungen!$B$11),"Woche überschritten",IF(OR(C67="",D67=""),"Fach/Art fehlt","OK")))))))
A69: Teil B – Wochenraster (berechnet)
A70: Fach-Kürzel der eingetragenen Termine · Ferien, Sperrzeiten und zentrale Nachschreibtermine aus „Einstellungen“ · Spalte „Arbeiten“ = Klassenarbeiten in der Woche
A71: Wochenbeginn | B71: KW | C71: Mo | D71: Di | E71: Mi | F71: Do | G71: Fr | H71: Sa | I71: Arbeiten | J71: Halbjahr
A72: =IF(Einstellungen!$B$6="","",Einstellungen!$B$6-WEEKDAY(Einstellungen!$B$6,2)+1) | B72: =IF(A72="","",WEEKNUM(A72,21)) | C72: =IF($A72="","",IF(COUNTIF($A$8:$A$67,($A72+0))>0,IF(INDEX($C$8:$C$67,MATCH(($A72+0),$A$8:$A$67,0))="","?",INDEX($C$8:$C$67,MATCH(($A72+0),$A$8:$A$67,0)))&IF(COUNTIF($A$8:$A$67,($A72+0))>1," +"&(COUNTIF($A$8:$A$67,($A72+0))-1),""),IF(COUNTIFS(Einstellungen!$A$23:$A$34,"<="&($A72+0),Einstellungen!$B$23:$B$34,">="&($A72+0))>0,"Ferien",IF(COUNTIFS(Einstellungen!$A$38:$A$43,"<="&($A72+0),Einstellungen!$B$38:$B$43,">="&($A72+0))>0,"Sperre",IF(COUNTIF(Einstellungen!$A$47:$A$50,($A72+0))>0,"Nachschr.",""))))) | D72: =IF($A72="","",IF(COUNTIF($A$8:$A$67,($A72+1))>0,IF(INDEX($C$8:$C$67,MATCH(($A72+1),$A$8:$A$67,0))="","?",INDEX($C$8:$C$67,MATCH(($A72+1),$A$8:$A$67,0)))&IF(COUNTIF($A$8:$A$67,($A72+1))>1," +"&(COUNTIF($A$8:$A$67,($A72+1))-1),""),IF(COUNTIFS(Einstellungen!$A$23:$A$34,"<="&($A72+1),Einstellungen!$B$23:$B$34,">="&($A72+1))>0,"Ferien",IF(COUNTIFS(Einstellungen!$A$38:$A$43,"<="&($A72+1),Einstellungen!$B$38:$B$43,">="&($A72+1))>0,"Sperre",IF(COUNTIF(Einstellungen!$A$47:$A$50,($A72+1))>0,"Nachschr.",""))))) | E72: =IF($A72="","",IF(COUNTIF($A$8:$A$67,($A72+2))>0,IF(INDEX($C$8:$C$67,MATCH(($A72+2),$A$8:$A$67,0))="","?",INDEX($C$8:$C$67,MATCH(($A72+2),$A$8:$A$67,0)))&IF(COUNTIF($A$8:$A$67,($A72+2))>1," +"&(COUNTIF($A$8:$A$67,($A72+2))-1),""),IF(COUNTIFS(Einstellungen!$A$23:$A$34,"<="&($A72+2),Einstellungen!$B$23:$B$34,">="&($A72+2))>0,"Ferien",IF(COUNTIFS(Einstellungen!$A$38:$A$43,"<="&($A72+2),Einstellungen!$B$38:$B$43,">="&($A72+2))>0,"Sperre",IF(COUNTIF(Einstellungen!$A$47:$A$50,($A72+2))>0,"Nachschr.",""))))) | F72: =IF($A72="","",IF(COUNTIF($A$8:$A$67,($A72+3))>0,IF(INDEX($C$8:$C$67,MATCH(($A72+3),$A$8:$A$67,0))="","?",INDEX($C$8:$C$67,MATCH(($A72+3),$A$8:$A$67,0)))&IF(COUNTIF($A$8:$A$67,($A72+3))>1," +"&(COUNTIF($A$8:$A$67,($A72+3))-1),""),IF(COUNTIFS(Einstellungen!$A$23:$A$34,"<="&($A72+3),Einstellungen!$B$23:$B$34,">="&($A72+3))>0,"Ferien",IF(COUNTIFS(Einstellungen!$A$38:$A$43,"<="&($A72+3),Einstellungen!$B$38:$B$43,">="&($A72+3))>0,"Sperre",IF(COUNTIF(Einstellungen!$A$47:$A$50,($A72+3))>0,"Nachschr.",""))))) | G72: =IF($A72="","",IF(COUNTIF($A$8:$A$67,($A72+4))>0,IF(INDEX($C$8:$C$67,MATCH(($A72+4),$A$8:$A$67,0))="","?",INDEX($C$8:$C$67,MATCH(($A72+4),$A$8:$A$67,0)))&IF(COUNTIF($A$8:$A$67,($A72+4))>1," +"&(COUNTIF($A$8:$A$67,($A72+4))-1),""),IF(COUNTIFS(Einstellungen!$A$23:$A$34,"<="&($A72+4),Einstellungen!$B$23:$B$34,">="&($A72+4))>0,"Ferien",IF(COUNTIFS(Einstellungen!$A$38:$A$43,"<="&($A72+4),Einstellungen!$B$38:$B$43,">="&($A72+4))>0,"Sperre",IF(COUNTIF(Einstellungen!$A$47:$A$50,($A72+4))>0,"Nachschr.",""))))) | H72: =IF($A72="","",IF(COUNTIF($A$8:$A$67,($A72+5))>0,IF(INDEX($C$8:$C$67,MATCH(($A72+5),$A$8:$A$67,0))="","?",INDEX($C$8:$C$67,MATCH(($A72+5),$A$8:$A$67,0)))&IF(COUNTIF($A$8:$A$67,($A72+5))>1," +"&(COUNTIF($A$8:$A$67,($A72+5))-1),""),IF(COUNTIFS(Einstellungen!$A$23:$A$34,"<="&($A72+5),Einstellungen!$B$23:$B$34,">="&($A72+5))>0,"Ferien",IF(COUNTIFS(Einstellungen!$A$38:$A$43,"<="&($A72+5),Einstellungen!$B$38:$B$43,">="&($A72+5))>0,"Sperre",IF(COUNTIF(Einstellungen!$A$47:$A$50,($A72+5))>0,"Nachschr.",""))))) | I72: =IF(A72="","",COUNTIFS($I$8:$I$67,A72,$D$8:$D$67,"Klassenarbeit")) | J72: =IF(A72="","",IF(A72<=Einstellungen!$C$6,1,2))
A73: =IF(A72="","",IF(A72+7>Einstellungen!$C$7,"",A72+7)) | B73: =IF(A73="","",WEEKNUM(A73,21)) | C73: =IF($A73="","",IF(COUNTIF($A$8:$A$67,($A73+0))>0,IF(INDEX($C$8:$C$67,MATCH(($A73+0),$A$8:$A$67,0))="","?",INDEX($C$8:$C$67,MATCH(($A73+0),$A$8:$A$67,0)))&IF(COUNTIF($A$8:$A$67,($A73+0))>1," +"&(COUNTIF($A$8:$A$67,($A73+0))-1),""),IF(COUNTIFS(Einstellungen!$A$23:$A$34,"<="&($A73+0),Einstellungen!$B$23:$B$34,">="&($A73+0))>0,"Ferien",IF(COUNTIFS(Einstellungen!$A$38:$A$43,"<="&($A73+0),Einstellungen!$B$38:$B$43,">="&($A73+0))>0,"Sperre",IF(COUNTIF(Einstellungen!$A$47:$A$50,($A73+0))>0,"Nachschr.",""))))) | D73: =IF($A73="","",IF(COUNTIF($A$8:$A$67,($A73+1))>0,IF(INDEX($C$8:$C$67,MATCH(($A73+1),$A$8:$A$67,0))="","?",INDEX($C$8:$C$67,MATCH(($A73+1),$A$8:$A$67,0)))&IF(COUNTIF($A$8:$A$67,($A73+1))>1," +"&(COUNTIF($A$8:$A$67,($A73+1))-1),""),IF(COUNTIFS(Einstellungen!$A$23:$A$34,"<="&($A73+1),Einstellungen!$B$23:$B$34,">="&($A73+1))>0,"Ferien",IF(COUNTIFS(Einstellungen!$A$38:$A$43,"<="&($A73+1),Einstellungen!$B$38:$B$43,">="&($A73+1))>0,"Sperre",IF(COUNTIF(Einstellungen!$A$47:$A$50,($A73+1))>0,"Nachschr.",""))))) | E73: =IF($A73="","",IF(COUNTIF($A$8:$A$67,($A73+2))>0,IF(INDEX($C$8:$C$67,MATCH(($A73+2),$A$8:$A$67,0))="","?",INDEX($C$8:$C$67,MATCH(($A73+2),$A$8:$A$67,0)))&IF(COUNTIF($A$8:$A$67,($A73+2))>1," +"&(COUNTIF($A$8:$A$67,($A73+2))-1),""),IF(COUNTIFS(Einstellungen!$A$23:$A$34,"<="&($A73+2),Einstellungen!$B$23:$B$34,">="&($A73+2))>0,"Ferien",IF(COUNTIFS(Einstellungen!$A$38:$A$43,"<="&($A73+2),Einstellungen!$B$38:$B$43,">="&($A73+2))>0,"Sperre",IF(COUNTIF(Einstellungen!$A$47:$A$50,($A73+2))>0,"Nachschr.",""))))) | F73: =IF($A73="","",IF(COUNTIF($A$8:$A$67,($A73+3))>0,IF(INDEX($C$8:$C$67,MATCH(($A73+3),$A$8:$A$67,0))="","?",INDEX($C$8:$C$67,MATCH(($A73+3),$A$8:$A$67,0)))&IF(COUNTIF($A$8:$A$67,($A73+3))>1," +"&(COUNTIF($A$8:$A$67,($A73+3))-1),""),IF(COUNTIFS(Einstellungen!$A$23:$A$34,"<="&($A73+3),Einstellungen!$B$23:$B$34,">="&($A73+3))>0,"Ferien",IF(COUNTIFS(Einstellungen!$A$38:$A$43,"<="&($A73+3),Einstellungen!$B$38:$B$43,">="&($A73+3))>0,"Sperre",IF(COUNTIF(Einstellungen!$A$47:$A$50,($A73+3))>0,"Nachschr.",""))))) | G73: =IF($A73="","",IF(COUNTIF($A$8:$A$67,($A73+4))>0,IF(INDEX($C$8:$C$67,MATCH(($A73+4),$A$8:$A$67,0))="","?",INDEX($C$8:$C$67,MATCH(($A73+4),$A$8:$A$67,0)))&IF(COUNTIF($A$8:$A$67,($A73+4))>1," +"&(COUNTIF($A$8:$A$67,($A73+4))-1),""),IF(COUNTIFS(Einstellungen!$A$23:$A$34,"<="&($A73+4),Einstellungen!$B$23:$B$34,">="&($A73+4))>0,"Ferien",IF(COUNTIFS(Einstellungen!$A$38:$A$43,"<="&($A73+4),Einstellungen!$B$38:$B$43,">="&($A73+4))>0,"Sperre",IF(COUNTIF(Einstellungen!$A$47:$A$50,($A73+4))>0,"Nachschr.",""))))) | H73: =IF($A73="","",IF(COUNTIF($A$8:$A$67,($A73+5))>0,IF(INDEX($C$8:$C$67,MATCH(($A73+5),$A$8:$A$67,0))="","?",INDEX($C$8:$C$67,MATCH(($A73+5),$A$8:$A$67,0)))&IF(COUNTIF($A$8:$A$67,($A73+5))>1," +"&(COUNTIF($A$8:$A$67,($A73+5))-1),""),IF(COUNTIFS(Einstellungen!$A$23:$A$34,"<="&($A73+5),Einstellungen!$B$23:$B$34,">="&($A73+5))>0,"Ferien",IF(COUNTIFS(Einstellungen!$A$38:$A$43,"<="&($A73+5),Einstellungen!$B$38:$B$43,">="&($A73+5))>0,"Sperre",IF(COUNTIF(Einstellungen!$A$47:$A$50,($A73+5))>0,"Nachschr.",""))))) | I73: =IF(A73="","",COUNTIFS($I$8:$I$67,A73,$D$8:$D$67,"Klassenarbeit")) | J73: =IF(A73="","",IF(A73<=Einstellungen!$C$6,1,2))
A74: =IF(A73="","",IF(A73+7>Einstellungen!$C$7,"",A73+7)) | B74: =IF(A74="","",WEEKNUM(A74,21)) | C74: =IF($A74="","",IF(COUNTIF($A$8:$A$67,($A74+0))>0,IF(INDEX($C$8:$C$67,MATCH(($A74+0),$A$8:$A$67,0))="","?",INDEX($C$8:$C$67,MATCH(($A74+0),$A$8:$A$67,0)))&IF(COUNTIF($A$8:$A$67,($A74+0))>1," +"&(COUNTIF($A$8:$A$67,($A74+0))-1),""),IF(COUNTIFS(Einstellungen!$A$23:$A$34,"<="&($A74+0),Einstellungen!$B$23:$B$34,">="&($A74+0))>0,"Ferien",IF(COUNTIFS(Einstellungen!$A$38:$A$43,"<="&($A74+0),Einstellungen!$B$38:$B$43,">="&($A74+0))>0,"Sperre",IF(COUNTIF(Einstellungen!$A$47:$A$50,($A74+0))>0,"Nachschr.",""))))) | D74: =IF($A74="","",IF(COUNTIF($A$8:$A$67,($A74+1))>0,IF(INDEX($C$8:$C$67,MATCH(($A74+1),$A$8:$A$67,0))="","?",INDEX($C$8:$C$67,MATCH(($A74+1),$A$8:$A$67,0)))&IF(COUNTIF($A$8:$A$67,($A74+1))>1," +"&(COUNTIF($A$8:$A$67,($A74+1))-1),""),IF(COUNTIFS(Einstellungen!$A$23:$A$34,"<="&($A74+1),Einstellungen!$B$23:$B$34,">="&($A74+1))>0,"Ferien",IF(COUNTIFS(Einstellungen!$A$38:$A$43,"<="&($A74+1),Einstellungen!$B$38:$B$43,">="&($A74+1))>0,"Sperre",IF(COUNTIF(Einstellungen!$A$47:$A$50,($A74+1))>0,"Nachschr.",""))))) | E74: =IF($A74="","",IF(COUNTIF($A$8:$A$67,($A74+2))>0,IF(INDEX($C$8:$C$67,MATCH(($A74+2),$A$8:$A$67,0))="","?",INDEX($C$8:$C$67,MATCH(($A74+2),$A$8:$A$67,0)))&IF(COUNTIF($A$8:$A$67,($A74+2))>1," +"&(COUNTIF($A$8:$A$67,($A74+2))-1),""),IF(COUNTIFS(Einstellungen!$A$23:$A$34,"<="&($A74+2),Einstellungen!$B$23:$B$34,">="&($A74+2))>0,"Ferien",IF(COUNTIFS(Einstellungen!$A$38:$A$43,"<="&($A74+2),Einstellungen!$B$38:$B$43,">="&($A74+2))>0,"Sperre",IF(COUNTIF(Einstellungen!$A$47:$A$50,($A74+2))>0,"Nachschr.",""))))) | F74: =IF($A74="","",IF(COUNTIF($A$8:$A$67,($A74+3))>0,IF(INDEX($C$8:$C$67,MATCH(($A74+3),$A$8:$A$67,0))="","?",INDEX($C$8:$C$67,MATCH(($A74+3),$A$8:$A$67,0)))&IF(COUNTIF($A$8:$A$67,($A74+3))>1," +"&(COUNTIF($A$8:$A$67,($A74+3))-1),""),IF(COUNTIFS(Einstellungen!$A$23:$A$34,"<="&($A74+3),Einstellungen!$B$23:$B$34,">="&($A74+3))>0,"Ferien",IF(COUNTIFS(Einstellungen!$A$38:$A$43,"<="&($A74+3),Einstellungen!$B$38:$B$43,">="&($A74+3))>0,"Sperre",IF(COUNTIF(Einstellungen!$A$47:$A$50,($A74+3))>0,"Nachschr.",""))))) | G74: =IF($A74="","",IF(COUNTIF($A$8:$A$67,($A74+4))>0,IF(INDEX($C$8:$C$67,MATCH(($A74+4),$A$8:$A$67,0))="","?",INDEX($C$8:$C$67,MATCH(($A74+4),$A$8:$A$67,0)))&IF(COUNTIF($A$8:$A$67,($A74+4))>1," +"&(COUNTIF($A$8:$A$67,($A74+4))-1),""),IF(COUNTIFS(Einstellungen!$A$23:$A$34,"<="&($A74+4),Einstellungen!$B$23:$B$34,">="&($A74+4))>0,"Ferien",IF(COUNTIFS(Einstellungen!$A$38:$A$43,"<="&($A74+4),Einstellungen!$B$38:$B$43,">="&($A74+4))>0,"Sperre",IF(COUNTIF(Einstellungen!$A$47:$A$50,($A74+4))>0,"Nachschr.",""))))) | H74: =IF($A74="","",IF(COUNTIF($A$8:$A$67,($A74+5))>0,IF(INDEX($C$8:$C$67,MATCH(($A74+5),$A$8:$A$67,0))="","?",INDEX($C$8:$C$67,MATCH(($A74+5),$A$8:$A$67,0)))&IF(COUNTIF($A$8:$A$67,($A74+5))>1," +"&(COUNTIF($A$8:$A$67,($A74+5))-1),""),IF(COUNTIFS(Einstellungen!$A$23:$A$34,"<="&($A74+5),Einstellungen!$B$23:$B$34,">="&($A74+5))>0,"Ferien",IF(COUNTIFS(Einstellungen!$A$38:$A$43,"<="&($A74+5),Einstellungen!$B$38:$B$43,">="&($A74+5))>0,"Sperre",IF(COUNTIF(Einstellungen!$A$47:$A$50,($A74+5))>0,"Nachschr.",""))))) | I74: =IF(A74="","",COUNTIFS($I$8:$I$67,A74,$D$8:$D$67,"Klassenarbeit")) | J74: =IF(A74="","",IF(A74<=Einstellungen!$C$6,1,2))
A75: =IF(A74="","",IF(A74+7>Einstellungen!$C$7,"",A74+7)) | B75: =IF(A75="","",WEEKNUM(A75,21)) | C75: =IF($A75="","",IF(COUNTIF($A$8:$A$67,($A75+0))>0,IF(INDEX($C$8:$C$67,MATCH(($A75+0),$A$8:$A$67,0))="","?",INDEX($C$8:$C$67,MATCH(($A75+0),$A$8:$A$67,0)))&IF(COUNTIF($A$8:$A$67,($A75+0))>1," +"&(COUNTIF($A$8:$A$67,($A75+0))-1),""),IF(COUNTIFS(Einstellungen!$A$23:$A$34,"<="&($A75+0),Einstellungen!$B$23:$B$34,">="&($A75+0))>0,"Ferien",IF(COUNTIFS(Einstellungen!$A$38:$A$43,"<="&($A75+0),Einstellungen!$B$38:$B$43,">="&($A75+0))>0,"Sperre",IF(COUNTIF(Einstellungen!$A$47:$A$50,($A75+0))>0,"Nachschr.",""))))) | D75: =IF($A75="","",IF(COUNTIF($A$8:$A$67,($A75+1))>0,IF(INDEX($C$8:$C$67,MATCH(($A75+1),$A$8:$A$67,0))="","?",INDEX($C$8:$C$67,MATCH(($A75+1),$A$8:$A$67,0)))&IF(COUNTIF($A$8:$A$67,($A75+1))>1," +"&(COUNTIF($A$8:$A$67,($A75+1))-1),""),IF(COUNTIFS(Einstellungen!$A$23:$A$34,"<="&($A75+1),Einstellungen!$B$23:$B$34,">="&($A75+1))>0,"Ferien",IF(COUNTIFS(Einstellungen!$A$38:$A$43,"<="&($A75+1),Einstellungen!$B$38:$B$43,">="&($A75+1))>0,"Sperre",IF(COUNTIF(Einstellungen!$A$47:$A$50,($A75+1))>0,"Nachschr.",""))))) | E75: =IF($A75="","",IF(COUNTIF($A$8:$A$67,($A75+2))>0,IF(INDEX($C$8:$C$67,MATCH(($A75+2),$A$8:$A$67,0))="","?",INDEX($C$8:$C$67,MATCH(($A75+2),$A$8:$A$67,0)))&IF(COUNTIF($A$8:$A$67,($A75+2))>1," +"&(COUNTIF($A$8:$A$67,($A75+2))-1),""),IF(COUNTIFS(Einstellungen!$A$23:$A$34,"<="&($A75+2),Einstellungen!$B$23:$B$34,">="&($A75+2))>0,"Ferien",IF(COUNTIFS(Einstellungen!$A$38:$A$43,"<="&($A75+2),Einstellungen!$B$38:$B$43,">="&($A75+2))>0,"Sperre",IF(COUNTIF(Einstellungen!$A$47:$A$50,($A75+2))>0,"Nachschr.",""))))) | F75: =IF($A75="","",IF(COUNTIF($A$8:$A$67,($A75+3))>0,IF(INDEX($C$8:$C$67,MATCH(($A75+3),$A$8:$A$67,0))="","?",INDEX($C$8:$C$67,MATCH(($A75+3),$A$8:$A$67,0)))&IF(COUNTIF($A$8:$A$67,($A75+3))>1," +"&(COUNTIF($A$8:$A$67,($A75+3))-1),""),IF(COUNTIFS(Einstellungen!$A$23:$A$34,"<="&($A75+3),Einstellungen!$B$23:$B$34,">="&($A75+3))>0,"Ferien",IF(COUNTIFS(Einstellungen!$A$38:$A$43,"<="&($A75+3),Einstellungen!$B$38:$B$43,">="&($A75+3))>0,"Sperre",IF(COUNTIF(Einstellungen!$A$47:$A$50,($A75+3))>0,"Nachschr.",""))))) | G75: =IF($A75="","",IF(COUNTIF($A$8:$A$67,($A75+4))>0,IF(INDEX($C$8:$C$67,MATCH(($A75+4),$A$8:$A$67,0))="","?",INDEX($C$8:$C$67,MATCH(($A75+4),$A$8:$A$67,0)))&IF(COUNTIF($A$8:$A$67,($A75+4))>1," +"&(COUNTIF($A$8:$A$67,($A75+4))-1),""),IF(COUNTIFS(Einstellungen!$A$23:$A$34,"<="&($A75+4),Einstellungen!$B$23:$B$34,">="&($A75+4))>0,"Ferien",IF(COUNTIFS(Einstellungen!$A$38:$A$43,"<="&($A75+4),Einstellungen!$B$38:$B$43,">="&($A75+4))>0,"Sperre",IF(COUNTIF(Einstellungen!$A$47:$A$50,($A75+4))>0,"Nachschr.",""))))) | H75: =IF($A75="","",IF(COUNTIF($A$8:$A$67,($A75+5))>0,IF(INDEX($C$8:$C$67,MATCH(($A75+5),$A$8:$A$67,0))="","?",INDEX($C$8:$C$67,MATCH(($A75+5),$A$8:$A$67,0)))&IF(COUNTIF($A$8:$A$67,($A75+5))>1," +"&(COUNTIF($A$8:$A$67,($A75+5))-1),""),IF(COUNTIFS(Einstellungen!$A$23:$A$34,"<="&($A75+5),Einstellungen!$B$23:$B$34,">="&($A75+5))>0,"Ferien",IF(COUNTIFS(Einstellungen!$A$38:$A$43,"<="&($A75+5),Einstellungen!$B$38:$B$43,">="&($A75+5))>0,"Sperre",IF(COUNTIF(Einstellungen!$A$47:$A$50,($A75+5))>0,"Nachschr.",""))))) | I75: =IF(A75="","",COUNTIFS($I$8:$I$67,A75,$D$8:$D$67,"Klassenarbeit")) | J75: =IF(A75="","",IF(A75<=Einstellungen!$C$6,1,2))
A76: =IF(A75="","",IF(A75+7>Einstellungen!$C$7,"",A75+7)) | B76: =IF(A76="","",WEEKNUM(A76,21)) | C76: =IF($A76="","",IF(COUNTIF($A$8:$A$67,($A76+0))>0,IF(INDEX($C$8:$C$67,MATCH(($A76+0),$A$8:$A$67,0))="","?",INDEX($C$8:$C$67,MATCH(($A76+0),$A$8:$A$67,0)))&IF(COUNTIF($A$8:$A$67,($A76+0))>1," +"&(COUNTIF($A$8:$A$67,($A76+0))-1),""),IF(COUNTIFS(Einstellungen!$A$23:$A$34,"<="&($A76+0),Einstellungen!$B$23:$B$34,">="&($A76+0))>0,"Ferien",IF(COUNTIFS(Einstellungen!$A$38:$A$43,"<="&($A76+0),Einstellungen!$B$38:$B$43,">="&($A76+0))>0,"Sperre",IF(COUNTIF(Einstellungen!$A$47:$A$50,($A76+0))>0,"Nachschr.",""))))) | D76: =IF($A76="","",IF(COUNTIF($A$8:$A$67,($A76+1))>0,IF(INDEX($C$8:$C$67,MATCH(($A76+1),$A$8:$A$67,0))="","?",INDEX($C$8:$C$67,MATCH(($A76+1),$A$8:$A$67,0)))&IF(COUNTIF($A$8:$A$67,($A76+1))>1," +"&(COUNTIF($A$8:$A$67,($A76+1))-1),""),IF(COUNTIFS(Einstellungen!$A$23:$A$34,"<="&($A76+1),Einstellungen!$B$23:$B$34,">="&($A76+1))>0,"Ferien",IF(COUNTIFS(Einstellungen!$A$38:$A$43,"<="&($A76+1),Einstellungen!$B$38:$B$43,">="&($A76+1))>0,"Sperre",IF(COUNTIF(Einstellungen!$A$47:$A$50,($A76+1))>0,"Nachschr.",""))))) | E76: =IF($A76="","",IF(COUNTIF($A$8:$A$67,($A76+2))>0,IF(INDEX($C$8:$C$67,MATCH(($A76+2),$A$8:$A$67,0))="","?",INDEX($C$8:$C$67,MATCH(($A76+2),$A$8:$A$67,0)))&IF(COUNTIF($A$8:$A$67,($A76+2))>1," +"&(COUNTIF($A$8:$A$67,($A76+2))-1),""),IF(COUNTIFS(Einstellungen!$A$23:$A$34,"<="&($A76+2),Einstellungen!$B$23:$B$34,">="&($A76+2))>0,"Ferien",IF(COUNTIFS(Einstellungen!$A$38:$A$43,"<="&($A76+2),Einstellungen!$B$38:$B$43,">="&($A76+2))>0,"Sperre",IF(COUNTIF(Einstellungen!$A$47:$A$50,($A76+2))>0,"Nachschr.",""))))) | F76: =IF($A76="","",IF(COUNTIF($A$8:$A$67,($A76+3))>0,IF(INDEX($C$8:$C$67,MATCH(($A76+3),$A$8:$A$67,0))="","?",INDEX($C$8:$C$67,MATCH(($A76+3),$A$8:$A$67,0)))&IF(COUNTIF($A$8:$A$67,($A76+3))>1," +"&(COUNTIF($A$8:$A$67,($A76+3))-1),""),IF(COUNTIFS(Einstellungen!$A$23:$A$34,"<="&($A76+3),Einstellungen!$B$23:$B$34,">="&($A76+3))>0,"Ferien",IF(COUNTIFS(Einstellungen!$A$38:$A$43,"<="&($A76+3),Einstellungen!$B$38:$B$43,">="&($A76+3))>0,"Sperre",IF(COUNTIF(Einstellungen!$A$47:$A$50,($A76+3))>0,"Nachschr.",""))))) | G76: =IF($A76="","",IF(COUNTIF($A$8:$A$67,($A76+4))>0,IF(INDEX($C$8:$C$67,MATCH(($A76+4),$A$8:$A$67,0))="","?",INDEX($C$8:$C$67,MATCH(($A76+4),$A$8:$A$67,0)))&IF(COUNTIF($A$8:$A$67,($A76+4))>1," +"&(COUNTIF($A$8:$A$67,($A76+4))-1),""),IF(COUNTIFS(Einstellungen!$A$23:$A$34,"<="&($A76+4),Einstellungen!$B$23:$B$34,">="&($A76+4))>0,"Ferien",IF(COUNTIFS(Einstellungen!$A$38:$A$43,"<="&($A76+4),Einstellungen!$B$38:$B$43,">="&($A76+4))>0,"Sperre",IF(COUNTIF(Einstellungen!$A$47:$A$50,($A76+4))>0,"Nachschr.",""))))) | H76: =IF($A76="","",IF(COUNTIF($A$8:$A$67,($A76+5))>0,IF(INDEX($C$8:$C$67,MATCH(($A76+5),$A$8:$A$67,0))="","?",INDEX($C$8:$C$67,MATCH(($A76+5),$A$8:$A$67,0)))&IF(COUNTIF($A$8:$A$67,($A76+5))>1," +"&(COUNTIF($A$8:$A$67,($A76+5))-1),""),IF(COUNTIFS(Einstellungen!$A$23:$A$34,"<="&($A76+5),Einstellungen!$B$23:$B$34,">="&($A76+5))>0,"Ferien",IF(COUNTIFS(Einstellungen!$A$38:$A$43,"<="&($A76+5),Einstellungen!$B$38:$B$43,">="&($A76+5))>0,"Sperre",IF(COUNTIF(Einstellungen!$A$47:$A$50,($A76+5))>0,"Nachschr.",""))))) | I76: =IF(A76="","",COUNTIFS($I$8:$I$67,A76,$D$8:$D$67,"Klassenarbeit")) | J76: =IF(A76="","",IF(A76<=Einstellungen!$C$6,1,2))
A77: =IF(A76="","",IF(A76+7>Einstellungen!$C$7,"",A76+7)) | B77: =IF(A77="","",WEEKNUM(A77,21)) | C77: =IF($A77="","",IF(COUNTIF($A$8:$A$67,($A77+0))>0,IF(INDEX($C$8:$C$67,MATCH(($A77+0),$A$8:$A$67,0))="","?",INDEX($C$8:$C$67,MATCH(($A77+0),$A$8:$A$67,0)))&IF(COUNTIF($A$8:$A$67,($A77+0))>1," +"&(COUNTIF($A$8:$A$67,($A77+0))-1),""),IF(COUNTIFS(Einstellungen!$A$23:$A$34,"<="&($A77+0),Einstellungen!$B$23:$B$34,">="&($A77+0))>0,"Ferien",IF(COUNTIFS(Einstellungen!$A$38:$A$43,"<="&($A77+0),Einstellungen!$B$38:$B$43,">="&($A77+0))>0,"Sperre",IF(COUNTIF(Einstellungen!$A$47:$A$50,($A77+0))>0,"Nachschr.",""))))) | D77: =IF($A77="","",IF(COUNTIF($A$8:$A$67,($A77+1))>0,IF(INDEX($C$8:$C$67,MATCH(($A77+1),$A$8:$A$67,0))="","?",INDEX($C$8:$C$67,MATCH(($A77+1),$A$8:$A$67,0)))&IF(COUNTIF($A$8:$A$67,($A77+1))>1," +"&(COUNTIF($A$8:$A$67,($A77+1))-1),""),IF(COUNTIFS(Einstellungen!$A$23:$A$34,"<="&($A77+1),Einstellungen!$B$23:$B$34,">="&($A77+1))>0,"Ferien",IF(COUNTIFS(Einstellungen!$A$38:$A$43,"<="&($A77+1),Einstellungen!$B$38:$B$43,">="&($A77+1))>0,"Sperre",IF(COUNTIF(Einstellungen!$A$47:$A$50,($A77+1))>0,"Nachschr.",""))))) | E77: =IF($A77="","",IF(COUNTIF($A$8:$A$67,($A77+2))>0,IF(INDEX($C$8:$C$67,MATCH(($A77+2),$A$8:$A$67,0))="","?",INDEX($C$8:$C$67,MATCH(($A77+2),$A$8:$A$67,0)))&IF(COUNTIF($A$8:$A$67,($A77+2))>1," +"&(COUNTIF($A$8:$A$67,($A77+2))-1),""),IF(COUNTIFS(Einstellungen!$A$23:$A$34,"<="&($A77+2),Einstellungen!$B$23:$B$34,">="&($A77+2))>0,"Ferien",IF(COUNTIFS(Einstellungen!$A$38:$A$43,"<="&($A77+2),Einstellungen!$B$38:$B$43,">="&($A77+2))>0,"Sperre",IF(COUNTIF(Einstellungen!$A$47:$A$50,($A77+2))>0,"Nachschr.",""))))) | F77: =IF($A77="","",IF(COUNTIF($A$8:$A$67,($A77+3))>0,IF(INDEX($C$8:$C$67,MATCH(($A77+3),$A$8:$A$67,0))="","?",INDEX($C$8:$C$67,MATCH(($A77+3),$A$8:$A$67,0)))&IF(COUNTIF($A$8:$A$67,($A77+3))>1," +"&(COUNTIF($A$8:$A$67,($A77+3))-1),""),IF(COUNTIFS(Einstellungen!$A$23:$A$34,"<="&($A77+3),Einstellungen!$B$23:$B$34,">="&($A77+3))>0,"Ferien",IF(COUNTIFS(Einstellungen!$A$38:$A$43,"<="&($A77+3),Einstellungen!$B$38:$B$43,">="&($A77+3))>0,"Sperre",IF(COUNTIF(Einstellungen!$A$47:$A$50,($A77+3))>0,"Nachschr.",""))))) | G77: =IF($A77="","",IF(COUNTIF($A$8:$A$67,($A77+4))>0,IF(INDEX($C$8:$C$67,MATCH(($A77+4),$A$8:$A$67,0))="","?",INDEX($C$8:$C$67,MATCH(($A77+4),$A$8:$A$67,0)))&IF(COUNTIF($A$8:$A$67,($A77+4))>1," +"&(COUNTIF($A$8:$A$67,($A77+4))-1),""),IF(COUNTIFS(Einstellungen!$A$23:$A$34,"<="&($A77+4),Einstellungen!$B$23:$B$34,">="&($A77+4))>0,"Ferien",IF(COUNTIFS(Einstellungen!$A$38:$A$43,"<="&($A77+4),Einstellungen!$B$38:$B$43,">="&($A77+4))>0,"Sperre",IF(COUNTIF(Einstellungen!$A$47:$A$50,($A77+4))>0,"Nachschr.",""))))) | H77: =IF($A77="","",IF(COUNTIF($A$8:$A$67,($A77+5))>0,IF(INDEX($C$8:$C$67,MATCH(($A77+5),$A$8:$A$67,0))="","?",INDEX($C$8:$C$67,MATCH(($A77+5),$A$8:$A$67,0)))&IF(COUNTIF($A$8:$A$67,($A77+5))>1," +"&(COUNTIF($A$8:$A$67,($A77+5))-1),""),IF(COUNTIFS(Einstellungen!$A$23:$A$34,"<="&($A77+5),Einstellungen!$B$23:$B$34,">="&($A77+5))>0,"Ferien",IF(COUNTIFS(Einstellungen!$A$38:$A$43,"<="&($A77+5),Einstellungen!$B$38:$B$43,">="&($A77+5))>0,"Sperre",IF(COUNTIF(Einstellungen!$A$47:$A$50,($A77+5))>0,"Nachschr.",""))))) | I77: =IF(A77="","",COUNTIFS($I$8:$I$67,A77,$D$8:$D$67,"Klassenarbeit")) | J77: =IF(A77="","",IF(A77<=Einstellungen!$C$6,1,2))
A78: =IF(A77="","",IF(A77+7>Einstellungen!$C$7,"",A77+7)) | B78: =IF(A78="","",WEEKNUM(A78,21)) | C78: =IF($A78="","",IF(COUNTIF($A$8:$A$67,($A78+0))>0,IF(INDEX($C$8:$C$67,MATCH(($A78+0),$A$8:$A$67,0))="","?",INDEX($C$8:$C$67,MATCH(($A78+0),$A$8:$A$67,0)))&IF(COUNTIF($A$8:$A$67,($A78+0))>1," +"&(COUNTIF($A$8:$A$67,($A78+0))-1),""),IF(COUNTIFS(Einstellungen!$A$23:$A$34,"<="&($A78+0),Einstellungen!$B$23:$B$34,">="&($A78+0))>0,"Ferien",IF(COUNTIFS(Einstellungen!$A$38:$A$43,"<="&($A78+0),Einstellungen!$B$38:$B$43,">="&($A78+0))>0,"Sperre",IF(COUNTIF(Einstellungen!$A$47:$A$50,($A78+0))>0,"Nachschr.",""))))) | D78: =IF($A78="","",IF(COUNTIF($A$8:$A$67,($A78+1))>0,IF(INDEX($C$8:$C$67,MATCH(($A78+1),$A$8:$A$67,0))="","?",INDEX($C$8:$C$67,MATCH(($A78+1),$A$8:$A$67,0)))&IF(COUNTIF($A$8:$A$67,($A78+1))>1," +"&(COUNTIF($A$8:$A$67,($A78+1))-1),""),IF(COUNTIFS(Einstellungen!$A$23:$A$34,"<="&($A78+1),Einstellungen!$B$23:$B$34,">="&($A78+1))>0,"Ferien",IF(COUNTIFS(Einstellungen!$A$38:$A$43,"<="&($A78+1),Einstellungen!$B$38:$B$43,">="&($A78+1))>0,"Sperre",IF(COUNTIF(Einstellungen!$A$47:$A$50,($A78+1))>0,"Nachschr.",""))))) | E78: =IF($A78="","",IF(COUNTIF($A$8:$A$67,($A78+2))>0,IF(INDEX($C$8:$C$67,MATCH(($A78+2),$A$8:$A$67,0))="","?",INDEX($C$8:$C$67,MATCH(($A78+2),$A$8:$A$67,0)))&IF(COUNTIF($A$8:$A$67,($A78+2))>1," +"&(COUNTIF($A$8:$A$67,($A78+2))-1),""),IF(COUNTIFS(Einstellungen!$A$23:$A$34,"<="&($A78+2),Einstellungen!$B$23:$B$34,">="&($A78+2))>0,"Ferien",IF(COUNTIFS(Einstellungen!$A$38:$A$43,"<="&($A78+2),Einstellungen!$B$38:$B$43,">="&($A78+2))>0,"Sperre",IF(COUNTIF(Einstellungen!$A$47:$A$50,($A78+2))>0,"Nachschr.",""))))) | F78: =IF($A78="","",IF(COUNTIF($A$8:$A$67,($A78+3))>0,IF(INDEX($C$8:$C$67,MATCH(($A78+3),$A$8:$A$67,0))="","?",INDEX($C$8:$C$67,MATCH(($A78+3),$A$8:$A$67,0)))&IF(COUNTIF($A$8:$A$67,($A78+3))>1," +"&(COUNTIF($A$8:$A$67,($A78+3))-1),""),IF(COUNTIFS(Einstellungen!$A$23:$A$34,"<="&($A78+3),Einstellungen!$B$23:$B$34,">="&($A78+3))>0,"Ferien",IF(COUNTIFS(Einstellungen!$A$38:$A$43,"<="&($A78+3),Einstellungen!$B$38:$B$43,">="&($A78+3))>0,"Sperre",IF(COUNTIF(Einstellungen!$A$47:$A$50,($A78+3))>0,"Nachschr.",""))))) | G78: =IF($A78="","",IF(COUNTIF($A$8:$A$67,($A78+4))>0,IF(INDEX($C$8:$C$67,MATCH(($A78+4),$A$8:$A$67,0))="","?",INDEX($C$8:$C$67,MATCH(($A78+4),$A$8:$A$67,0)))&IF(COUNTIF($A$8:$A$67,($A78+4))>1," +"&(COUNTIF($A$8:$A$67,($A78+4))-1),""),IF(COUNTIFS(Einstellungen!$A$23:$A$34,"<="&($A78+4),Einstellungen!$B$23:$B$34,">="&($A78+4))>0,"Ferien",IF(COUNTIFS(Einstellungen!$A$38:$A$43,"<="&($A78+4),Einstellungen!$B$38:$B$43,">="&($A78+4))>0,"Sperre",IF(COUNTIF(Einstellungen!$A$47:$A$50,($A78+4))>0,"Nachschr.",""))))) | H78: =IF($A78="","",IF(COUNTIF($A$8:$A$67,($A78+5))>0,IF(INDEX($C$8:$C$67,MATCH(($A78+5),$A$8:$A$67,0))="","?",INDEX($C$8:$C$67,MATCH(($A78+5),$A$8:$A$67,0)))&IF(COUNTIF($A$8:$A$67,($A78+5))>1," +"&(COUNTIF($A$8:$A$67,($A78+5))-1),""),IF(COUNTIFS(Einstellungen!$A$23:$A$34,"<="&($A78+5),Einstellungen!$B$23:$B$34,">="&($A78+5))>0,"Ferien",IF(COUNTIFS(Einstellungen!$A$38:$A$43,"<="&($A78+5),Einstellungen!$B$38:$B$43,">="&($A78+5))>0,"Sperre",IF(COUNTIF(Einstellungen!$A$47:$A$50,($A78+5))>0,"Nachschr.",""))))) | I78: =IF(A78="","",COUNTIFS($I$8:$I$67,A78,$D$8:$D$67,"Klassenarbeit")) | J78: =IF(A78="","",IF(A78<=Einstellungen!$C$6,1,2))
A79: =IF(A78="","",IF(A78+7>Einstellungen!$C$7,"",A78+7)) | B79: =IF(A79="","",WEEKNUM(A79,21)) | C79: =IF($A79="","",IF(COUNTIF($A$8:$A$67,($A79+0))>0,IF(INDEX($C$8:$C$67,MATCH(($A79+0),$A$8:$A$67,0))="","?",INDEX($C$8:$C$67,MATCH(($A79+0),$A$8:$A$67,0)))&IF(COUNTIF($A$8:$A$67,($A79+0))>1," +"&(COUNTIF($A$8:$A$67,($A79+0))-1),""),IF(COUNTIFS(Einstellungen!$A$23:$A$34,"<="&($A79+0),Einstellungen!$B$23:$B$34,">="&($A79+0))>0,"Ferien",IF(COUNTIFS(Einstellungen!$A$38:$A$43,"<="&($A79+0),Einstellungen!$B$38:$B$43,">="&($A79+0))>0,"Sperre",IF(COUNTIF(Einstellungen!$A$47:$A$50,($A79+0))>0,"Nachschr.",""))))) | D79: =IF($A79="","",IF(COUNTIF($A$8:$A$67,($A79+1))>0,IF(INDEX($C$8:$C$67,MATCH(($A79+1),$A$8:$A$67,0))="","?",INDEX($C$8:$C$67,MATCH(($A79+1),$A$8:$A$67,0)))&IF(COUNTIF($A$8:$A$67,($A79+1))>1," +"&(COUNTIF($A$8:$A$67,($A79+1))-1),""),IF(COUNTIFS(Einstellungen!$A$23:$A$34,"<="&($A79+1),Einstellungen!$B$23:$B$34,">="&($A79+1))>0,"Ferien",IF(COUNTIFS(Einstellungen!$A$38:$A$43,"<="&($A79+1),Einstellungen!$B$38:$B$43,">="&($A79+1))>0,"Sperre",IF(COUNTIF(Einstellungen!$A$47:$A$50,($A79+1))>0,"Nachschr.",""))))) | E79: =IF($A79="","",IF(COUNTIF($A$8:$A$67,($A79+2))>0,IF(INDEX($C$8:$C$67,MATCH(($A79+2),$A$8:$A$67,0))="","?",INDEX($C$8:$C$67,MATCH(($A79+2),$A$8:$A$67,0)))&IF(COUNTIF($A$8:$A$67,($A79+2))>1," +"&(COUNTIF($A$8:$A$67,($A79+2))-1),""),IF(COUNTIFS(Einstellungen!$A$23:$A$34,"<="&($A79+2),Einstellungen!$B$23:$B$34,">="&($A79+2))>0,"Ferien",IF(COUNTIFS(Einstellungen!$A$38:$A$43,"<="&($A79+2),Einstellungen!$B$38:$B$43,">="&($A79+2))>0,"Sperre",IF(COUNTIF(Einstellungen!$A$47:$A$50,($A79+2))>0,"Nachschr.",""))))) | F79: =IF($A79="","",IF(COUNTIF($A$8:$A$67,($A79+3))>0,IF(INDEX($C$8:$C$67,MATCH(($A79+3),$A$8:$A$67,0))="","?",INDEX($C$8:$C$67,MATCH(($A79+3),$A$8:$A$67,0)))&IF(COUNTIF($A$8:$A$67,($A79+3))>1," +"&(COUNTIF($A$8:$A$67,($A79+3))-1),""),IF(COUNTIFS(Einstellungen!$A$23:$A$34,"<="&($A79+3),Einstellungen!$B$23:$B$34,">="&($A79+3))>0,"Ferien",IF(COUNTIFS(Einstellungen!$A$38:$A$43,"<="&($A79+3),Einstellungen!$B$38:$B$43,">="&($A79+3))>0,"Sperre",IF(COUNTIF(Einstellungen!$A$47:$A$50,($A79+3))>0,"Nachschr.",""))))) | G79: =IF($A79="","",IF(COUNTIF($A$8:$A$67,($A79+4))>0,IF(INDEX($C$8:$C$67,MATCH(($A79+4),$A$8:$A$67,0))="","?",INDEX($C$8:$C$67,MATCH(($A79+4),$A$8:$A$67,0)))&IF(COUNTIF($A$8:$A$67,($A79+4))>1," +"&(COUNTIF($A$8:$A$67,($A79+4))-1),""),IF(COUNTIFS(Einstellungen!$A$23:$A$34,"<="&($A79+4),Einstellungen!$B$23:$B$34,">="&($A79+4))>0,"Ferien",IF(COUNTIFS(Einstellungen!$A$38:$A$43,"<="&($A79+4),Einstellungen!$B$38:$B$43,">="&($A79+4))>0,"Sperre",IF(COUNTIF(Einstellungen!$A$47:$A$50,($A79+4))>0,"Nachschr.",""))))) | H79: =IF($A79="","",IF(COUNTIF($A$8:$A$67,($A79+5))>0,IF(INDEX($C$8:$C$67,MATCH(($A79+5),$A$8:$A$67,0))="","?",INDEX($C$8:$C$67,MATCH(($A79+5),$A$8:$A$67,0)))&IF(COUNTIF($A$8:$A$67,($A79+5))>1," +"&(COUNTIF($A$8:$A$67,($A79+5))-1),""),IF(COUNTIFS(Einstellungen!$A$23:$A$34,"<="&($A79+5),Einstellungen!$B$23:$B$34,">="&($A79+5))>0,"Ferien",IF(COUNTIFS(Einstellungen!$A$38:$A$43,"<="&($A79+5),Einstellungen!$B$38:$B$43,">="&($A79+5))>0,"Sperre",IF(COUNTIF(Einstellungen!$A$47:$A$50,($A79+5))>0,"Nachschr.",""))))) | I79: =IF(A79="","",COUNTIFS($I$8:$I$67,A79,$D$8:$D$67,"Klassenarbeit")) | J79: =IF(A79="","",IF(A79<=Einstellungen!$C$6,1,2))
A80: =IF(A79="","",IF(A79+7>Einstellungen!$C$7,"",A79+7)) | B80: =IF(A80="","",WEEKNUM(A80,21)) | C80: =IF($A80="","",IF(COUNTIF($A$8:$A$67,($A80+0))>0,IF(INDEX($C$8:$C$67,MATCH(($A80+0),$A$8:$A$67,0))="","?",INDEX($C$8:$C$67,MATCH(($A80+0),$A$8:$A$67,0)))&IF(COUNTIF($A$8:$A$67,($A80+0))>1," +"&(COUNTIF($A$8:$A$67,($A80+0))-1),""),IF(COUNTIFS(Einstellungen!$A$23:$A$34,"<="&($A80+0),Einstellungen!$B$23:$B$34,">="&($A80+0))>0,"Ferien",IF(COUNTIFS(Einstellungen!$A$38:$A$43,"<="&($A80+0),Einstellungen!$B$38:$B$43,">="&($A80+0))>0,"Sperre",IF(COUNTIF(Einstellungen!$A$47:$A$50,($A80+0))>0,"Nachschr.",""))))) | D80: =IF($A80="","",IF(COUNTIF($A$8:$A$67,($A80+1))>0,IF(INDEX($C$8:$C$67,MATCH(($A80+1),$A$8:$A$67,0))="","?",INDEX($C$8:$C$67,MATCH(($A80+1),$A$8:$A$67,0)))&IF(COUNTIF($A$8:$A$67,($A80+1))>1," +"&(COUNTIF($A$8:$A$67,($A80+1))-1),""),IF(COUNTIFS(Einstellungen!$A$23:$A$34,"<="&($A80+1),Einstellungen!$B$23:$B$34,">="&($A80+1))>0,"Ferien",IF(COUNTIFS(Einstellungen!$A$38:$A$43,"<="&($A80+1),Einstellungen!$B$38:$B$43,">="&($A80+1))>0,"Sperre",IF(COUNTIF(Einstellungen!$A$47:$A$50,($A80+1))>0,"Nachschr.",""))))) | E80: =IF($A80="","",IF(COUNTIF($A$8:$A$67,($A80+2))>0,IF(INDEX($C$8:$C$67,MATCH(($A80+2),$A$8:$A$67,0))="","?",INDEX($C$8:$C$67,MATCH(($A80+2),$A$8:$A$67,0)))&IF(COUNTIF($A$8:$A$67,($A80+2))>1," +"&(COUNTIF($A$8:$A$67,($A80+2))-1),""),IF(COUNTIFS(Einstellungen!$A$23:$A$34,"<="&($A80+2),Einstellungen!$B$23:$B$34,">="&($A80+2))>0,"Ferien",IF(COUNTIFS(Einstellungen!$A$38:$A$43,"<="&($A80+2),Einstellungen!$B$38:$B$43,">="&($A80+2))>0,"Sperre",IF(COUNTIF(Einstellungen!$A$47:$A$50,($A80+2))>0,"Nachschr.",""))))) | F80: =IF($A80="","",IF(COUNTIF($A$8:$A$67,($A80+3))>0,IF(INDEX($C$8:$C$67,MATCH(($A80+3),$A$8:$A$67,0))="","?",INDEX($C$8:$C$67,MATCH(($A80+3),$A$8:$A$67,0)))&IF(COUNTIF($A$8:$A$67,($A80+3))>1," +"&(COUNTIF($A$8:$A$67,($A80+3))-1),""),IF(COUNTIFS(Einstellungen!$A$23:$A$34,"<="&($A80+3),Einstellungen!$B$23:$B$34,">="&($A80+3))>0,"Ferien",IF(COUNTIFS(Einstellungen!$A$38:$A$43,"<="&($A80+3),Einstellungen!$B$38:$B$43,">="&($A80+3))>0,"Sperre",IF(COUNTIF(Einstellungen!$A$47:$A$50,($A80+3))>0,"Nachschr.",""))))) | G80: =IF($A80="","",IF(COUNTIF($A$8:$A$67,($A80+4))>0,IF(INDEX($C$8:$C$67,MATCH(($A80+4),$A$8:$A$67,0))="","?",INDEX($C$8:$C$67,MATCH(($A80+4),$A$8:$A$67,0)))&IF(COUNTIF($A$8:$A$67,($A80+4))>1," +"&(COUNTIF($A$8:$A$67,($A80+4))-1),""),IF(COUNTIFS(Einstellungen!$A$23:$A$34,"<="&($A80+4),Einstellungen!$B$23:$B$34,">="&($A80+4))>0,"Ferien",IF(COUNTIFS(Einstellungen!$A$38:$A$43,"<="&($A80+4),Einstellungen!$B$38:$B$43,">="&($A80+4))>0,"Sperre",IF(COUNTIF(Einstellungen!$A$47:$A$50,($A80+4))>0,"Nachschr.",""))))) | H80: =IF($A80="","",IF(COUNTIF($A$8:$A$67,($A80+5))>0,IF(INDEX($C$8:$C$67,MATCH(($A80+5),$A$8:$A$67,0))="","?",INDEX($C$8:$C$67,MATCH(($A80+5),$A$8:$A$67,0)))&IF(COUNTIF($A$8:$A$67,($A80+5))>1," +"&(COUNTIF($A$8:$A$67,($A80+5))-1),""),IF(COUNTIFS(Einstellungen!$A$23:$A$34,"<="&($A80+5),Einstellungen!$B$23:$B$34,">="&($A80+5))>0,"Ferien",IF(COUNTIFS(Einstellungen!$A$38:$A$43,"<="&($A80+5),Einstellungen!$B$38:$B$43,">="&($A80+5))>0,"Sperre",IF(COUNTIF(Einstellungen!$A$47:$A$50,($A80+5))>0,"Nachschr.",""))))) | I80: =IF(A80="","",COUNTIFS($I$8:$I$67,A80,$D$8:$D$67,"Klassenarbeit")) | J80: =IF(A80="","",IF(A80<=Einstellungen!$C$6,1,2))
A81: =IF(A80="","",IF(A80+7>Einstellungen!$C$7,"",A80+7)) | B81: =IF(A81="","",WEEKNUM(A81,21)) | C81: =IF($A81="","",IF(COUNTIF($A$8:$A$67,($A81+0))>0,IF(INDEX($C$8:$C$67,MATCH(($A81+0),$A$8:$A$67,0))="","?",INDEX($C$8:$C$67,MATCH(($A81+0),$A$8:$A$67,0)))&IF(COUNTIF($A$8:$A$67,($A81+0))>1," +"&(COUNTIF($A$8:$A$67,($A81+0))-1),""),IF(COUNTIFS(Einstellungen!$A$23:$A$34,"<="&($A81+0),Einstellungen!$B$23:$B$34,">="&($A81+0))>0,"Ferien",IF(COUNTIFS(Einstellungen!$A$38:$A$43,"<="&($A81+0),Einstellungen!$B$38:$B$43,">="&($A81+0))>0,"Sperre",IF(COUNTIF(Einstellungen!$A$47:$A$50,($A81+0))>0,"Nachschr.",""))))) | D81: =IF($A81="","",IF(COUNTIF($A$8:$A$67,($A81+1))>0,IF(INDEX($C$8:$C$67,MATCH(($A81+1),$A$8:$A$67,0))="","?",INDEX($C$8:$C$67,MATCH(($A81+1),$A$8:$A$67,0)))&IF(COUNTIF($A$8:$A$67,($A81+1))>1," +"&(COUNTIF($A$8:$A$67,($A81+1))-1),""),IF(COUNTIFS(Einstellungen!$A$23:$A$34,"<="&($A81+1),Einstellungen!$B$23:$B$34,">="&($A81+1))>0,"Ferien",IF(COUNTIFS(Einstellungen!$A$38:$A$43,"<="&($A81+1),Einstellungen!$B$38:$B$43,">="&($A81+1))>0,"Sperre",IF(COUNTIF(Einstellungen!$A$47:$A$50,($A81+1))>0,"Nachschr.",""))))) | E81: =IF($A81="","",IF(COUNTIF($A$8:$A$67,($A81+2))>0,IF(INDEX($C$8:$C$67,MATCH(($A81+2),$A$8:$A$67,0))="","?",INDEX($C$8:$C$67,MATCH(($A81+2),$A$8:$A$67,0)))&IF(COUNTIF($A$8:$A$67,($A81+2))>1," +"&(COUNTIF($A$8:$A$67,($A81+2))-1),""),IF(COUNTIFS(Einstellungen!$A$23:$A$34,"<="&($A81+2),Einstellungen!$B$23:$B$34,">="&($A81+2))>0,"Ferien",IF(COUNTIFS(Einstellungen!$A$38:$A$43,"<="&($A81+2),Einstellungen!$B$38:$B$43,">="&($A81+2))>0,"Sperre",IF(COUNTIF(Einstellungen!$A$47:$A$50,($A81+2))>0,"Nachschr.",""))))) | F81: =IF($A81="","",IF(COUNTIF($A$8:$A$67,($A81+3))>0,IF(INDEX($C$8:$C$67,MATCH(($A81+3),$A$8:$A$67,0))="","?",INDEX($C$8:$C$67,MATCH(($A81+3),$A$8:$A$67,0)))&IF(COUNTIF($A$8:$A$67,($A81+3))>1," +"&(COUNTIF($A$8:$A$67,($A81+3))-1),""),IF(COUNTIFS(Einstellungen!$A$23:$A$34,"<="&($A81+3),Einstellungen!$B$23:$B$34,">="&($A81+3))>0,"Ferien",IF(COUNTIFS(Einstellungen!$A$38:$A$43,"<="&($A81+3),Einstellungen!$B$38:$B$43,">="&($A81+3))>0,"Sperre",IF(COUNTIF(Einstellungen!$A$47:$A$50,($A81+3))>0,"Nachschr.",""))))) | G81: =IF($A81="","",IF(COUNTIF($A$8:$A$67,($A81+4))>0,IF(INDEX($C$8:$C$67,MATCH(($A81+4),$A$8:$A$67,0))="","?",INDEX($C$8:$C$67,MATCH(($A81+4),$A$8:$A$67,0)))&IF(COUNTIF($A$8:$A$67,($A81+4))>1," +"&(COUNTIF($A$8:$A$67,($A81+4))-1),""),IF(COUNTIFS(Einstellungen!$A$23:$A$34,"<="&($A81+4),Einstellungen!$B$23:$B$34,">="&($A81+4))>0,"Ferien",IF(COUNTIFS(Einstellungen!$A$38:$A$43,"<="&($A81+4),Einstellungen!$B$38:$B$43,">="&($A81+4))>0,"Sperre",IF(COUNTIF(Einstellungen!$A$47:$A$50,($A81+4))>0,"Nachschr.",""))))) | H81: =IF($A81="","",IF(COUNTIF($A$8:$A$67,($A81+5))>0,IF(INDEX($C$8:$C$67,MATCH(($A81+5),$A$8:$A$67,0))="","?",INDEX($C$8:$C$67,MATCH(($A81+5),$A$8:$A$67,0)))&IF(COUNTIF($A$8:$A$67,($A81+5))>1," +"&(COUNTIF($A$8:$A$67,($A81+5))-1),""),IF(COUNTIFS(Einstellungen!$A$23:$A$34,"<="&($A81+5),Einstellungen!$B$23:$B$34,">="&($A81+5))>0,"Ferien",IF(COUNTIFS(Einstellungen!$A$38:$A$43,"<="&($A81+5),Einstellungen!$B$38:$B$43,">="&($A81+5))>0,"Sperre",IF(COUNTIF(Einstellungen!$A$47:$A$50,($A81+5))>0,"Nachschr.",""))))) | I81: =IF(A81="","",COUNTIFS($I$8:$I$67,A81,$D$8:$D$67,"Klassenarbeit")) | J81: =IF(A81="","",IF(A81<=Einstellungen!$C$6,1,2))
A82: =IF(A81="","",IF(A81+7>Einstellungen!$C$7,"",A81+7)) | B82: =IF(A82="","",WEEKNUM(A82,21)) | C82: =IF($A82="","",IF(COUNTIF($A$8:$A$67,($A82+0))>0,IF(INDEX($C$8:$C$67,MATCH(($A82+0),$A$8:$A$67,0))="","?",INDEX($C$8:$C$67,MATCH(($A82+0),$A$8:$A$67,0)))&IF(COUNTIF($A$8:$A$67,($A82+0))>1," +"&(COUNTIF($A$8:$A$67,($A82+0))-1),""),IF(COUNTIFS(Einstellungen!$A$23:$A$34,"<="&($A82+0),Einstellungen!$B$23:$B$34,">="&($A82+0))>0,"Ferien",IF(COUNTIFS(Einstellungen!$A$38:$A$43,"<="&($A82+0),Einstellungen!$B$38:$B$43,">="&($A82+0))>0,"Sperre",IF(COUNTIF(Einstellungen!$A$47:$A$50,($A82+0))>0,"Nachschr.",""))))) | D82: =IF($A82="","",IF(COUNTIF($A$8:$A$67,($A82+1))>0,IF(INDEX($C$8:$C$67,MATCH(($A82+1),$A$8:$A$67,0))="","?",INDEX($C$8:$C$67,MATCH(($A82+1),$A$8:$A$67,0)))&IF(COUNTIF($A$8:$A$67,($A82+1))>1," +"&(COUNTIF($A$8:$A$67,($A82+1))-1),""),IF(COUNTIFS(Einstellungen!$A$23:$A$34,"<="&($A82+1),Einstellungen!$B$23:$B$34,">="&($A82+1))>0,"Ferien",IF(COUNTIFS(Einstellungen!$A$38:$A$43,"<="&($A82+1),Einstellungen!$B$38:$B$43,">="&($A82+1))>0,"Sperre",IF(COUNTIF(Einstellungen!$A$47:$A$50,($A82+1))>0,"Nachschr.",""))))) | E82: =IF($A82="","",IF(COUNTIF($A$8:$A$67,($A82+2))>0,IF(INDEX($C$8:$C$67,MATCH(($A82+2),$A$8:$A$67,0))="","?",INDEX($C$8:$C$67,MATCH(($A82+2),$A$8:$A$67,0)))&IF(COUNTIF($A$8:$A$67,($A82+2))>1," +"&(COUNTIF($A$8:$A$67,($A82+2))-1),""),IF(COUNTIFS(Einstellungen!$A$23:$A$34,"<="&($A82+2),Einstellungen!$B$23:$B$34,">="&($A82+2))>0,"Ferien",IF(COUNTIFS(Einstellungen!$A$38:$A$43,"<="&($A82+2),Einstellungen!$B$38:$B$43,">="&($A82+2))>0,"Sperre",IF(COUNTIF(Einstellungen!$A$47:$A$50,($A82+2))>0,"Nachschr.",""))))) | F82: =IF($A82="","",IF(COUNTIF($A$8:$A$67,($A82+3))>0,IF(INDEX($C$8:$C$67,MATCH(($A82+3),$A$8:$A$67,0))="","?",INDEX($C$8:$C$67,MATCH(($A82+3),$A$8:$A$67,0)))&IF(COUNTIF($A$8:$A$67,($A82+3))>1," +"&(COUNTIF($A$8:$A$67,($A82+3))-1),""),IF(COUNTIFS(Einstellungen!$A$23:$A$34,"<="&($A82+3),Einstellungen!$B$23:$B$34,">="&($A82+3))>0,"Ferien",IF(COUNTIFS(Einstellungen!$A$38:$A$43,"<="&($A82+3),Einstellungen!$B$38:$B$43,">="&($A82+3))>0,"Sperre",IF(COUNTIF(Einstellungen!$A$47:$A$50,($A82+3))>0,"Nachschr.",""))))) | G82: =IF($A82="","",IF(COUNTIF($A$8:$A$67,($A82+4))>0,IF(INDEX($C$8:$C$67,MATCH(($A82+4),$A$8:$A$67,0))="","?",INDEX($C$8:$C$67,MATCH(($A82+4),$A$8:$A$67,0)))&IF(COUNTIF($A$8:$A$67,($A82+4))>1," +"&(COUNTIF($A$8:$A$67,($A82+4))-1),""),IF(COUNTIFS(Einstellungen!$A$23:$A$34,"<="&($A82+4),Einstellungen!$B$23:$B$34,">="&($A82+4))>0,"Ferien",IF(COUNTIFS(Einstellungen!$A$38:$A$43,"<="&($A82+4),Einstellungen!$B$38:$B$43,">="&($A82+4))>0,"Sperre",IF(COUNTIF(Einstellungen!$A$47:$A$50,($A82+4))>0,"Nachschr.",""))))) | H82: =IF($A82="","",IF(COUNTIF($A$8:$A$67,($A82+5))>0,IF(INDEX($C$8:$C$67,MATCH(($A82+5),$A$8:$A$67,0))="","?",INDEX($C$8:$C$67,MATCH(($A82+5),$A$8:$A$67,0)))&IF(COUNTIF($A$8:$A$67,($A82+5))>1," +"&(COUNTIF($A$8:$A$67,($A82+5))-1),""),IF(COUNTIFS(Einstellungen!$A$23:$A$34,"<="&($A82+5),Einstellungen!$B$23:$B$34,">="&($A82+5))>0,"Ferien",IF(COUNTIFS(Einstellungen!$A$38:$A$43,"<="&($A82+5),Einstellungen!$B$38:$B$43,">="&($A82+5))>0,"Sperre",IF(COUNTIF(Einstellungen!$A$47:$A$50,($A82+5))>0,"Nachschr.",""))))) | I82: =IF(A82="","",COUNTIFS($I$8:$I$67,A82,$D$8:$D$67,"Klassenarbeit")) | J82: =IF(A82="","",IF(A82<=Einstellungen!$C$6,1,2))
